Workbook

Sheet 1. ESTABLECIMIENTO CONTEXTO 
B1: MAPA DE RIESGOS DE PROCESO | L1: CÓDIGO: F-GM-29
L2: VERSIÓN: 05
L3: FECHA: 30/03/2022
L4: PÁGINA: 1 de 3
A6: 4.2.1. ESTABLECIMIENTO DEL CONTEXTO
A9: PROCESO: | D9: Gestión de TIC
A10: FECHA DE ELABORACIÓN O ACTUALIZACIÓN: | E10: Diciembre de 2021
A11: RESPONSABLE (s) DE ELABORACIÓN O ACTUALIZACIÓN | F11: Carlos Leonardo Gómez
A14: Factor: Externo/Interno/Proceso | D14: Variable | G14: ¿Cómo me puede afectar?
G15: CARÁCTER: Positivo/negativo | I15: Breve análisis
A16: Factor Externo | C16: Factor Externo | D16: Nivel de presupuesto debido a la transferencia de recursos de la alcaldía | G16: POSITIVO | H16: POSITIVO | I16: Los recursos transferidos desde la alcaldía ha permitido el mejoramiento tecnológico de la entidad.
A17: Factor Interno | D17: Tramitología adicional en el proceso de contratación relacionado con el proceso de estudio de mercado | G17: NEGATIVO | I17: Genera inoportunidad en el desarrollo de procesos contractuales, para la adquisición de productos y servicios en el proceso de TIC.
A18: Factor Externo | C18: Factor Interno | D18: Amplia oferta de proveedores | G18: POSITIVO | H18: NEGATIVO | I18: Permite tener mayores opciones de servicios de TI para el instituto, adicionalmente, plataformas como SECOP II han facilitado el acceso a información de potenciales proveedores, lo cual genera transparencia y múltiples opciones para escoger el mejor servicio
A19: Factor Interno | C19: Factor de proceso | D19: Adaptación del ISVIMED en términos de las directrices emitidas por las entidades rectoras en el tema de Gobierno Digital | G19: NEGATIVO | I19: Dadas las condiciones organizacionales y la naturaleza del instituto se dificulta en el corto plazo a acceder a las tecnologías digitales, lo que refleja una desarticulación entre las exigencias normativas del gobierno y la realidad de las entidades publicas.
A20: Factor Externo | D20: Directrices emitidas en términos de gobierno digital | G20: POSITIVO | I20: Le brinda al instituto el mapa de ruta claro para la ejecución de las estrategias en tema de gobierno digital, lo que a la vez le permite articularse con las directrices a nivel nacional.
A21: Factor Externo | D21: Cambios en la normatividad relacionada con la contratación estatal | G21: NEGATIVO | I21: Las modalidades de contratación que aplican para la adquisición de productos y servicios de TI en ocasiones dificulta la selección de proveedores de mayor calidad y reputación. Dadas las condiciones organizacionales y la naturaleza del instituto se dificulta la adaptabilidad de las leyes que regulan la contratación, y por ende no se logra obtener alineación a la realidad del contexto.
A22: Factor Interno | D22: Ambiente físico de trabajo | G22: NEGATIVO | I22: Las condiciones actuales físicas del instituto no permiten el desarrollo de proyectos de mejoras tecnológicas planteados, limitando el tema de innovación y de integralidad del servicio. Lo anterior se dificulta mas teniendo en cuenta que en este momento el instituto cuenta con una única sede para su funcionamiento.
A23: Factor Interno | D23: Conocimiento técnico sobre TIC por parte de la alta dirección | G23: NEGATIVO | I23: Existe falta de conocimientos técnicos por parte de la alta dirección que permita visibilizar y desarrollar estrategias de fortalecimiento de TIC en el instituto.
A24: Factor Interno | D24: Nivel de servicio | G24: POSITIVO | I24: Actualmente el proceso cuenta con un buen posicionamiento frente a los clientes derivado de la calidad del servicio ofrecido.
A25: Factor Interno | D25: Control continuo | G25: POSITIVO | I25: El proceso cuenta con indicadores que se miden de manera constante, permitiendo la toma de decisiones.
A26: Factor Interno | D26: Carga de trabajo | G26: NEGATIVO | I26: El equipo de trabajo con el que se cuenta actualmente es insuficiente, generando sobre carga laboral que se ve reflejado en una inadecuada planeación de las necesidades llevando en ocasiones al no cumplimiento de los cronogramas establecidos.
A27: Factor Interno | D27: Protocolos de seguridad de la información | G27: POSITIVO | I27: Actualmente se cuenta con protocolos que dan línea para el tratamiento de seguridad de la información y demás temas relacionado con TI.
A28: Factor Interno | D28: Fuga de conocimiento | G28: NEGATIVO | I28: Las condiciones organizacionales relacionadas con el personal de la entidad no permiten la apropiación del conocimiento y la permanencia en el tiempo.

Sheet 2.1 MATRIZ DE RIESGOS GENERAL
D1: MAPA DE RIESGOS DE PROCESO | AG1: CÓDIGO: F-GM-29
AG2: VERSIÓN: 05
AG3: FECHA: 30/03/2022
AG4: PÁGINA: 3 de 3
A6: PROCESO: | D6: Gestión de TIC | F6: FECHA DE ELABORACIÓN O ACTUALIZACIÓN: | H6: junio de 2024
F7: RESPONSABLE (s) DE ELABORACIÓN O ACTUALIZACIÓN | H7: profesional lider de TIC
A8: OBJETIVO: | D8: Gestionar el sistema de información y las tecnologías del instituto de manera eficiente, segura y confiable, asegurando la disponibilidad de los servicios e información
A9: ALCANCE: | D9: Inicia desde la identificación de las necesidades organizacionales y de los usuarios, termina con el mantenimiento, mejoramiento tecnológico del hardware y software del Instituto.
A11: 4.2. IDENTIFICACION DEL RIESGO | J11: 4.3. EVALUACIÓN DEL RIESGO | AI11: 4.4. TRATAMIENTO DEL RIESGO | AK11: SEGUIMIENTO TRIMESTRE 1 DE 2026 | AL11: RELACIÓN DE EVIDENCIAS IMPORTANTE:- RELACIONAR LOS ENLACES SOBRE MATERIALIZACION DE RIESGOS Y SOBRE APLICACIÓN DE CONTROLES -LAS EVIDENCIAS SOBRE APLICACIÓN DE CONTROLES SON LAS QUE SE ENCUENTRAN EN LA COLUMNA X - RELACIONARLAS UNA A UNA CON EL ENLACE CORRESPONDIENTE. | AM11: SEGUIMIENTO TRIMESTRE 2 DE 2026 | AN11: RELACIÓN DE EVIDENCIAS IMPORTANTE:- RELACIONAR LOS ENLACES SOBRE MATERIALIZACION DE RIESGOS Y SOBRE APLICACIÓN DE CONTROLES -LAS EVIDENCIAS SOBRE APLICACIÓN DE CONTROLES SON LAS QUE SE ENCUENTRAN EN LA COLUMNA X - RELACIONARLAS UNA A UNA CON EL ENLACE CORRESPONDIENTE. | AO11: SEGUIMIENTO TRIMESTRE 3 DE 2026 | AP11: RELACIÓN DE EVIDENCIAS IMPORTANTE:- RELACIONAR LOS ENLACES SOBRE MATERIALIZACION DE RIESGOS Y SOBRE APLICACIÓN DE CONTROLES -LAS EVIDENCIAS SOBRE APLICACIÓN DE CONTROLES SON LAS QUE SE ENCUENTRAN EN LA COLUMNA X - RELACIONARLAS UNA A UNA CON EL ENLACE CORRESPONDIENTE. | AQ11: SEGUIMIENTO TRIMESTRE 4 DE 2026 | AR11: RELACIÓN DE EVIDENCIAS IMPORTANTE:- RELACIONAR LOS ENLACES SOBRE MATERIALIZACION DE RIESGOS Y SOBRE APLICACIÓN DE CONTROLES -LAS EVIDENCIAS SOBRE APLICACIÓN DE CONTROLES SON LAS QUE SE ENCUENTRAN EN LA COLUMNA X - RELACIONARLAS UNA A UNA CON EL ENLACE CORRESPONDIENTE.
A12: Referencia * | B12: Objetivo | C12: Temática / Linea de Acción | D12: 1. QUE? | E12: 2. COMO SE REFLEJA? | F12: 3. POR QUE? (Evento Potencial Principal) | G12: Descripción del Riesgo (1+2+3) | H12: Causa (Evento Potencial Intermedio) | I12: Clasificación del Riesgo | J12: EVALUACION DE RIESGO INHERENTE | O12: VALORACION DE CONTROLES | AD12: EVALUACION DEL RIESGO RESIDUAL | AI12: Tratamiento | AJ12: FORMULAR ACCIONES ESPECIFICAS
J13: Probabilidad Inherente | K13: % | L13: Impacto Inherente | M13: % | N13: Zona de Riesgo Inherente | O13: Control (Anexo A) | P13: Descripción del Control | Q13: Afectación | R13: Atributos | Y13: Probabilidad Residual | Z13: Probabilidad Residual | AA13: % | AB13: Impacto Residual | AC13: % | AD13: Probabilidad Residual Final | AE13: % | AF13: Impacto Residual Final | AG13: % | AH13: Zona de Riesgo Final | AJ13: VER ACCION #
R14: Tipo | S14: Implementación | T14: Calificación | U14: Documentación | V14: Frecuencia | W14: Evidencia | X14: Nombre de la evidencia
A15: GT5 | B15: Proceos: Gestionar el sistema de información y las tecnologías del Instituto de manera eficiente, adoptando buenas prácticas y medidas de seguridad adecuadas para propender por la disponibilidad de los servicios e información. | C15: Disponiblidad de servicios e información basados en software y hardware | D15: afectación económica y reputacional del Instituto | E15: por mal desempeño institucional derivado del incumplimiento de objetivos, metas y servicios. | F15: debido a fallas en la disponiblidad de servicios e información basados en software y hardware, que soportan la operación de los procesos | G15: Posibilidad de afectación económica y reputacional por mal desempeño institucional derivado del incumplimiento de objetivos y metas relacionados con el Plan de Desarrollo Municipal a cargo del Instituto y con la planeación estratégica. Lo anterior, debido a fallas en la disponiblidad de servicios e información basados en software y hardware, que soportan la operación de los procesos. | H15: 1. Perdida de Información (Robo, alteración y/o perdida de Información). | I15: Seg. de la Información | J15: Muy Alta | K15: =IF(J15="","",IF(J15="Muy Baja",0.2,IF(J15="Baja",0.4,IF(J15="Media",0.6,IF(J15="Alta",0.8,IF(J15="Muy Alta",1,)))))) -> 1 | L15: Catastrófico | M15: =IF(L15="","",IF(L15="Leve",0.2,IF(L15="Menor",0.4,IF(L15="Moderado",0.6,IF(L15="Mayor",0.8,IF(L15="Catastrófico",1,)))))) -> 1 | N15: =IF(OR(AND(J15="Muy Baja",L15="Leve"),AND(J15="Muy Baja",L15="Menor"),AND(J15="Baja",L15="Leve")),"Bajo",IF(OR(AND(J15="Muy Baja",L15="Moderado"),AND(J15="Baja",L15="Menor"),AND(J15="Baja",L15="Moderado"),AND(J15="Media",L15="Leve"),AND(J15="Media",L15="Menor"),AND(J15="Media",L15="Moderado"),AND(J15="Alta",L15="Leve"),AND(J15="Alta",L15="Menor")),"Moderado",IF(OR(AND(J15="Muy Baja",L15="Mayor"),AND(J15="Baja",L15="Mayor"),AND(J15="Media",L15="Mayor"),AND(J15="Alta",L15="Moderado"),AND(J15="Alta",L15="Mayor"),AND(J15="Muy Alta",L15="Leve"),AND(J15="Muy Alta",L15="Menor"),AND(J15="Muy Alta",L15="Moderado"),AND(J15="Muy Alta",L15="Mayor")),"Alto",IF(OR(AND(J15="Muy Baja",L15="Catastrófico"),AND(J15="Baja",L15="Catastrófico"),AND(J15="Media",L15="Catastrófico"),AND(J15="Alta",L15="Catastrófico"),AND(J15="Muy Alta",L15="Catastrófico")),"Extremo","")))) -> Extremo | O15: 0 | P15: La persona encargada de operar la plataforma revisa los reuqerimientos que han ingresado por fallas en la disponibilidad del servicio (wifi, impresión, sifi, telefonia, directorio activo, red de datos, Pagina Web). Se ingresa al servicio reportado como afectado para realizar el respectivo análisis de la situación presentada y realizar los descartes necesarios. Una vez resueltos los incidentes se proceden a cerrar los casos dentro de la plataforma. El grado de resolucion de incidentes se reporta a través del indicador de eficacia en el cumpliimiento del soporte técnico. | Q15: =IF(OR(R15="Preventivo",R15="Detectivo"),"Probabilidad",IF(R15="Correctivo","Impacto","")) -> Impacto | R15: Correctivo | S15: Manual | T15: =IF(AND(R15="Preventivo",S15="Automático"),"50%",IF(AND(R15="Preventivo",S15="Manual"),"40%",IF(AND(R15="Detectivo",S15="Automático"),"40%",IF(AND(R15="Detectivo",S15="Manual"),"30%",IF(AND(R15="Correctivo",S15="Automático"),"35%",IF(AND(R15="Correctivo",S15="Manual"),"25%","")))))) -> 25% | U15: Documentado | V15: Aleatoria | W15: Con Registro | X15: Requerimientos de soportes en SIFI. Registro de analisis del indicador en el SMO. | Y15: =IFERROR(IF(Q15="Probabilidad",(K15-(+K15*T15)),IF(Q15="Impacto",K15,"")),"") -> 1 | Z15: =IFERROR(IF(Y15="","",IF(Y15<=0.2,"Muy Baja",IF(Y15<=0.4,"Baja",IF(Y15<=0.6,"Media",IF(Y15<=0.8,"Alta","Muy Alta"))))),"") -> Muy Alta | AA15: =+Y15 -> 1 | AB15: =IFERROR(IF(AC15="","",IF(AC15<=0.2,"Leve",IF(AC15<=0.4,"Menor",IF(AC15<=0.6,"Moderado",IF(AC15<=0.8,"Mayor","Catastrófico"))))),"") -> Mayor | AC15: =IFERROR(IF(Q15="Impacto",(M15-(+M15*T15)),IF(Q15="Probabilidad",M15,"")),"") -> 0.75 | AD15: =IFERROR(IF(AE15=0,"",IF(AND(AE15>0,AE15<=0.2),"Muy Baja",IF(AE15<=0.4,"Baja",IF(AE15<=0.6,"Media",IF(AE15<=0.8,"Alta","Muy Alta"))))),"") -> Muy Baja | AE15: =MIN(Y15:Y27) -> 0.00972 | AF15: =IFERROR(IF(AG15=0,"",IF(AND(AG15>0,AG15<=0.2),"Leve",IF(AG15<=0.4,"Menor",IF(AG15<=0.6,"Moderado",IF(AG15<=0.8,"Mayor","Catastrófico"))))),"") -> Menor | AG15: =MIN(AC15:AC27) -> 0.31640625 | AH15: =IFERROR(IF(OR(AND(AD15="Muy Baja",AF15="Leve"),AND(AD15="Muy Baja",AF15="Menor"),AND(AD15="Baja",AF15="Leve")),"Bajo",IF(OR(AND(AD15="Muy Baja",AF15="Moderado"),AND(AD15="Baja",AF15="Menor"),AND(AD15="Baja",AF15="Moderado"),AND(AD15="Media",AF15="Leve"),AND(AD15="Media",AF15="Menor"),AND(AD15="Media",AF15="Moderado"),AND(AD15="Alta",AF15="Leve"),AND(AD15="Alta",AF15="Menor")),"Moderado",IF(OR(AND(AD15="Muy Baja",AF15="Mayor"),AND(AD15="Baja",AF15="Mayor"),AND(AD15="Media",AF15="Mayor"),AND(AD15="Alta",AF15="Moderado"),AND(AD15="Alta",AF15="Mayor"),AND(AD15="Muy Alta",AF15="Leve"),AND(AD15="Muy Alta",AF15="Menor"),AND(AD15="Muy Alta",AF15="Moderado"),AND(AD15="Muy Alta",AF15="Mayor")),"Alto",IF(OR(AND(AD15="Muy Baja",AF15="Catastrófico"),AND(AD15="Baja",AF15="Catastrófico"),AND(AD15="Media",AF15="Catastrófico"),AND(AD15="Alta",AF15="Catastrófico"),AND(AD15="Muy Alta",AF15="Catastrófico")),"Extremo","")))),"") -> Bajo | AI15: Reducir (mitigar) | AJ15: Para la vigencia 2023. Establecer respaldos extramurales ya sea en entidades externas o en la nube. Documentar las políticas de operación para la gestión de la obsolescencia tecnológica. | AK15: Se materializó el Riesgo? (Ver evento potencial principal en Columna F. Relacionar detalles de la materialización - que, como, cuando, donde): El riesgo no se a materializado durante el periodo evaluado Los Controles están bien diseñados, se aplican de acuerdo al diseño y son efectivos? (Ver controles en la columna P / Concluir frente a cada control) Los controles se encuentran bien diseñados. Se resaltan los eventos mas relevantes: Control del Riesgo y Ejecución de Acciones El riesgo de seguridad relacionado con los dispositivos perimetrales (firewalls) se mantiene bajo control. Monitoreo Reforzado: La plataforma de seguridad (firewall y antivirus) es objeto de vigilancia continua y el proveedor ITSEC brinda seguimiento constante, incluyendo el acompañamiento para la optimización y refuerzo de las configuraciones de seguridad. Impacto de Incidentes (Materialización de Eventos) Eventos de Alto Impacto: No se registró la materialización del principal evento de riesgo potencial durante este trimestre. Eventos de Impacto Medio: Tampoco se presentaron riesgos intermedios que se hayan concretado. Evaluación de Controles Los mecanismos de control de seguridad implementados han demostrado ser totalmente efectivos en la prevención de la materialización de los riesgos. Estado de las Acciones de Mitigación Pendientes Acción C108 (Renovación y Respaldo): El proyecto para la renovación de la infraestructura y servidores ya se encuentra al 100%. La entidad ya cuenta con una solución de Respaldo Extramural y un Plan de Recuperación ante Desastres (DRP). ya se encuentra activos los 4 servidores adquiridos Que acciones propones o se están llevando a cabo para gestionar el riesgo que se materializó? (Si no aplica colocar N/A) N/A Que acciones propones o se están llevando a cabo para fortalecer los controles? (En el caso de que tener Acciones de mejora / Acciones correctivas en proceso, relacionar el avance. Si tienes acciones específicas a desarrollar en la columna AJ, también relacionar el avance) Por loque estan bien diseñado no hay necesidad de implentar ajustes a controles Se solicita la eliminacion de ver acciones de la columna AJ | AL15: Soporte Tecnico: http://sifi2.isvimed.gov.co:85/indicadores/visualizar?id=22 Ataques Informaticos: http://sifi2.isvimed.gov.co:85/indicadores/visualizar?id=822 Reportes de Ataques o Incidentes Informaticos en el 4to trimestre de 2025. https://isvimedgovco.sharepoint.com/:w:/s/10GestionTI/IQC7R5k7YtmsSo0CrksVSNKvAWrhbXtsmdSagYgtQ5xDN_Q?e=7rMLnn -(Periodo octubre - noviembre de 2025) Accion correctiva # 108. Esta se consulta en Calidad, procesos. Sobre este punto se esta realizando mantenimiento de la necesidad. http://sifi2.isvimed.gov.co:85/calidadprocesos/verprocesos http://sifi2.isvimed.gov.co:85/system/calidaddocumentos/19603/original/ACCION_DE_OPORTUNIDAD_118.docx -Contrato Servidores y DRP 602 | AM15: Se materializó el Riesgo? (Ver evento potencial principal en Columna F. Relacionar detalles de la materialización - que, como, cuando, donde): El riesgo no se a materializado durante el periodo evaluado Los Controles están bien diseñados, se aplican de acuerdo al diseño y son efectivos? (Ver controles en la columna P / Concluir frente a cada control) Los controles se encuentran bien diseñados. Se resaltan los eventos mas relevantes: Control del Riesgo y Ejecución de Acciones El riesgo de seguridad relacionado con los dispositivos perimetrales (firewalls) se mantiene bajo control. No se registró la materialización del principal evento de riesgo potencial durante este trimestre, como tampoco eventos de Impacto Medio, los mecanismos de control de seguridad implementados han demostrado ser totalmente efectivos en la prevención de la materialización de los riesgos. Estado de las Acciones de Mitigación Pendientes Acción C108 (Renovación y Respaldo): Se recibe para este trimestre los servidores migrados y configurados, la entidad ya cuenta con una solución de Respaldo Extramural y un Plan de Recuperación ante Desastres (DRP).queda faltado su configuracion e implementar el plan de continuidad. Que acciones propones o se están llevando a cabo para gestionar el riesgo que se materializó? (Si no aplica colocar N/A) N/A Que acciones propones o se están llevando a cabo para fortalecer los controles? (En el caso de que tener Acciones de mejora / Acciones correctivas en proceso, relacionar el avance. Si tienes acciones específicas a desarrollar en la columna AJ, también relacionar el avance) Por loque estan bien diseñado no hay necesidad de implentar ajustes a controles Se solicita la eliminacion de ver acciones de la columna AJ | AN15: Soporte Tecnico: http://sifi2.isvimed.gov.co:85/indicadores/visualizar?id=22 Ataques Informaticos: http://sifi2.isvimed.gov.co:85/indicadores/visualizar?id=822 Reportes de Ataques o Incidentes Informaticos en el 2to trimestre de 2026. https://isvimedgovco.sharepoint.com/:w:/s/10GestionTI/IQC7R5k7YtmsSo0CrksVSNKvAWrhbXtsmdSagYgtQ5xDN_Q?e=7rMLnn -(Periodo octubre - noviembre de 2025) Accion correctiva # 108. Esta se consulta en Calidad, procesos. Sobre este punto se esta realizando mantenimiento de la necesidad. http://sifi2.isvimed.gov.co:85/calidadprocesos/verprocesos http://sifi2.isvimed.gov.co:85/system/calidaddocumentos/19603/original/ACCION_DE_OPORTUNIDAD_118.docx -Contrato Servidores y DRP 602 | AO15: Se materializó el Riesgo? (Ver evento potencial principal en Columna F. Relacionar detalles de la materialización - que, como, cuando, donde): Los Controles están bien diseñados, se aplican de acuerdo al diseño y son efectivos? (Ver controles en la columna P / Concluir frente a cada control) Que acciones propones o se están llevando a cabo para gestionar el riesgo que se materializó? (Si no aplica colocar N/A) Que acciones propones o se están llevando a cabo para fortalecer los controles? (En el caso de que tener Acciones de mejora / Acciones correctivas en proceso, relacionar el avance. Si tienes acciones específicas a desarrollar en la columna AJ, también relacionar el avance) | AQ15: Se materializó el Riesgo? (Ver evento potencial principal en Columna F. Relacionar detalles de la materialización - que, como, cuando, donde): Los Controles están bien diseñados, se aplican de acuerdo al diseño y son efectivos? (Ver controles en la columna P / Concluir frente a cada control) Que acciones propones o se están llevando a cabo para gestionar el riesgo que se materializó? (Si no aplica colocar N/A) Que acciones propones o se están llevando a cabo para fortalecer los controles? (En el caso de que tener Acciones de mejora / Acciones correctivas en proceso, relacionar el avance. Si tienes acciones específicas a desarrollar en la columna AJ, también relacionar el avance)
O16: 1.1. | P16: El subdirector / supervisor del contrato solicita autorización para el acceso a la información requerida para el desarrollo de actividades, a través de requerimiento a través del SIFI, indicando si necesita acceso de lectura o de escritura. | Q16: =IF(OR(R16="Preventivo",R16="Detectivo"),"Probabilidad",IF(R16="Correctivo","Impacto","")) -> Probabilidad | R16: Preventivo | S16: Manual | T16: =IF(AND(R16="Preventivo",S16="Automático"),"50%",IF(AND(R16="Preventivo",S16="Manual"),"40%",IF(AND(R16="Detectivo",S16="Automático"),"40%",IF(AND(R16="Detectivo",S16="Manual"),"30%",IF(AND(R16="Correctivo",S16="Automático"),"35%",IF(AND(R16="Correctivo",S16="Manual"),"25%","")))))) -> 40% | U16: Sin Documentar | V16: Aleatoria | W16: Con Registro | X16: Requerimiento de acceso de información en SIFI | Y16: =IFERROR(IF(AND(Q15="Probabilidad",Q16="Probabilidad"),(AA15-(+AA15*T16)),IF(Q16="Probabilidad",(K15-(+K15*T16)),IF(Q16="Impacto",AA15,""))),"") -> 0.6 | Z16: =IFERROR(IF(Y16="","",IF(Y16<=0.2,"Muy Baja",IF(Y16<=0.4,"Baja",IF(Y16<=0.6,"Media",IF(Y16<=0.8,"Alta","Muy Alta"))))),"") -> Media | AA16: =+Y16 -> 0.6 | AB16: =IFERROR(IF(AC16="","",IF(AC16<=0.2,"Leve",IF(AC16<=0.4,"Menor",IF(AC16<=0.6,"Moderado",IF(AC16<=0.8,"Mayor","Catastrófico"))))),"") -> Mayor | AC16: =IFERROR(IF(AND(Q15="Impacto",Q16="Impacto"),(AC15-(+AC15*T16)),IF(Q16="Impacto",(M15-(+M15*T16)),IF(Q16="Probabilidad",AC15,""))),"") -> 0.75
O17: 1.2. | P17: El responsable de la operación en la parametrización en el servidor de base de datos programa la ejecución automática de la copia respaldo, y verifica que el estado de los respaldos corresponda con la programación. | Q17: =IF(OR(R17="Preventivo",R17="Detectivo"),"Probabilidad",IF(R17="Correctivo","Impacto","")) -> Probabilidad | R17: Preventivo | S17: Automático | T17: =IF(AND(R17="Preventivo",S17="Automático"),"50%",IF(AND(R17="Preventivo",S17="Manual"),"40%",IF(AND(R17="Detectivo",S17="Automático"),"40%",IF(AND(R17="Detectivo",S17="Manual"),"30%",IF(AND(R17="Correctivo",S17="Automático"),"35%",IF(AND(R17="Correctivo",S17="Manual"),"25%","")))))) -> 50% | U17: Sin Documentar | V17: Continua | W17: Con Registro | X17: Log de copias de respaldo en el sistema. | Y17: =IFERROR(IF(AND(Q16="Probabilidad",Q17="Probabilidad"),(AA16-(+AA16*T17)),IF(AND(Q16="Impacto",Q17="Probabilidad"),(AA15-(+AA15*T17)),IF(Q17="Impacto",AA16,""))),"") -> 0.3 | Z17: =IFERROR(IF(Y17="","",IF(Y17<=0.2,"Muy Baja",IF(Y17<=0.4,"Baja",IF(Y17<=0.6,"Media",IF(Y17<=0.8,"Alta","Muy Alta"))))),"") -> Baja | AA17: =+Y17 -> 0.3 | AB17: =IFERROR(IF(AC17="","",IF(AC17<=0.2,"Leve",IF(AC17<=0.4,"Menor",IF(AC17<=0.6,"Moderado",IF(AC17<=0.8,"Mayor","Catastrófico"))))),"") -> Mayor | AC17: =IFERROR(IF(AND(Q16="Impacto",Q17="Impacto"),(AC16-(+AC16*T17)),IF(AND(Q16="Probabilidad",Q17="Impacto"),(AC15-(+AC15*T17)),IF(Q17="Probabilidad",AC16,""))),"") -> 0.75
O18: 1.3. | P18: El responsable de la operación en la parametrización, realiza la programación en la herramienta de backups para las copias de respaldo de los archivos del Fileserver y verifica que el estado de los respaldos corresponda a la programación. | Q18: =IF(OR(R18="Preventivo",R18="Detectivo"),"Probabilidad",IF(R18="Correctivo","Impacto","")) -> Probabilidad | R18: Preventivo | S18: Automático | T18: =IF(AND(R18="Preventivo",S18="Automático"),"50%",IF(AND(R18="Preventivo",S18="Manual"),"40%",IF(AND(R18="Detectivo",S18="Automático"),"40%",IF(AND(R18="Detectivo",S18="Manual"),"30%",IF(AND(R18="Correctivo",S18="Automático"),"35%",IF(AND(R18="Correctivo",S18="Manual"),"25%","")))))) -> 50% | U18: Sin Documentar | V18: Continua | W18: Con Registro | X18: Log de copias de respaldo en el sistema. | Y18: =IFERROR(IF(AND(Q17="Probabilidad",Q18="Probabilidad"),(AA17-(+AA17*T18)),IF(AND(Q17="Impacto",Q18="Probabilidad"),(AA16-(+AA16*T18)),IF(Q18="Impacto",AA17,""))),"") -> 0.15 | Z18: =IFERROR(IF(Y18="","",IF(Y18<=0.2,"Muy Baja",IF(Y18<=0.4,"Baja",IF(Y18<=0.6,"Media",IF(Y18<=0.8,"Alta","Muy Alta"))))),"") -> Muy Baja | AA18: =+Y18 -> 0.15 | AB18: =IFERROR(IF(AC18="","",IF(AC18<=0.2,"Leve",IF(AC18<=0.4,"Menor",IF(AC18<=0.6,"Moderado",IF(AC18<=0.8,"Mayor","Catastrófico"))))),"") -> Mayor | AC18: =IFERROR(IF(AND(Q17="Impacto",Q18="Impacto"),(AC17-(+AC17*T18)),IF(AND(Q17="Probabilidad",Q18="Impacto"),(AC16-(+AC16*T18)),IF(Q18="Probabilidad",AC17,""))),"") -> 0.75
O19: 1.4. | P19: El responsable de monitorear los intentos de intrusión (virus, malware) que se visualizan a través del sistema de seguridad perimetral (cortafuegos) por medio de correlación de eventos, impide a través de la parametrización del sistema, el ingreso de personas ajenas a la red sin autorización | Q19: =IF(OR(R19="Preventivo",R19="Detectivo"),"Probabilidad",IF(R19="Correctivo","Impacto","")) -> Probabilidad | R19: Preventivo | S19: Automático | T19: =IF(AND(R19="Preventivo",S19="Automático"),"50%",IF(AND(R19="Preventivo",S19="Manual"),"40%",IF(AND(R19="Detectivo",S19="Automático"),"40%",IF(AND(R19="Detectivo",S19="Manual"),"30%",IF(AND(R19="Correctivo",S19="Automático"),"35%",IF(AND(R19="Correctivo",S19="Manual"),"25%","")))))) -> 50% | U19: Sin Documentar | V19: Continua | W19: Con Registro | X19: Cada intrusión se documenta a través de pantallazos | Y19: =IFERROR(IF(AND(Q18="Probabilidad",Q19="Probabilidad"),(AA18-(+AA18*T19)),IF(AND(Q18="Impacto",Q19="Probabilidad"),(AA17-(+AA17*T19)),IF(Q19="Impacto",AA18,""))),"") -> 0.075 | Z19: =IFERROR(IF(Y19="","",IF(Y19<=0.2,"Muy Baja",IF(Y19<=0.4,"Baja",IF(Y19<=0.6,"Media",IF(Y19<=0.8,"Alta","Muy Alta"))))),"") -> Muy Baja | AA19: =+Y19 -> 0.075 | AB19: =IFERROR(IF(AC19="","",IF(AC19<=0.2,"Leve",IF(AC19<=0.4,"Menor",IF(AC19<=0.6,"Moderado",IF(AC19<=0.8,"Mayor","Catastrófico"))))),"") -> Mayor | AC19: =IFERROR(IF(AND(Q18="Impacto",Q19="Impacto"),(AC18-(+AC18*T19)),IF(AND(Q18="Probabilidad",Q19="Impacto"),(AC17-(+AC17*T19)),IF(Q19="Probabilidad",AC18,""))),"") -> 0.75
H20: 2. Daño en recursos tecnológicos Fallas de disco, de memoria, de almacenamiento, de recurso físico o lógico | O20: 2.1 | P20: Una vez materizado el fallo se procede a restaurar las copias de seguridad. El responsable de respaldos, verifica que última copia disponible para restauración, se encuentre completa y funcional. Documentado en: Guía de actualización y renovacion de infraestructura tecnológica de C&S tecnología. | Q20: =IF(OR(R20="Preventivo",R20="Detectivo"),"Probabilidad",IF(R20="Correctivo","Impacto","")) -> Impacto | R20: Correctivo | S20: Manual | T20: =IF(AND(R20="Preventivo",S20="Automático"),"50%",IF(AND(R20="Preventivo",S20="Manual"),"40%",IF(AND(R20="Detectivo",S20="Automático"),"40%",IF(AND(R20="Detectivo",S20="Manual"),"30%",IF(AND(R20="Correctivo",S20="Automático"),"35%",IF(AND(R20="Correctivo",S20="Manual"),"25%","")))))) -> 25% | U20: Documentado | V20: Aleatoria | W20: Con Registro | X20: Log de copias de respaldo en el sistema. | Y20: =IFERROR(IF(AND(Q19="Probabilidad",Q20="Probabilidad"),(AA19-(+AA19*T20)),IF(AND(Q19="Impacto",Q20="Probabilidad"),(AA18-(+AA18*T20)),IF(Q20="Impacto",AA19,""))),"") -> 0.075 | Z20: =IFERROR(IF(Y20="","",IF(Y20<=0.2,"Muy Baja",IF(Y20<=0.4,"Baja",IF(Y20<=0.6,"Media",IF(Y20<=0.8,"Alta","Muy Alta"))))),"") -> Muy Baja | AA20: =+Y20 -> 0.075 | AB20: =IFERROR(IF(AC20="","",IF(AC20<=0.2,"Leve",IF(AC20<=0.4,"Menor",IF(AC20<=0.6,"Moderado",IF(AC20<=0.8,"Mayor","Catastrófico"))))),"") -> Moderado | AC20: =IFERROR(IF(AND(Q19="Impacto",Q20="Impacto"),(AC19-(+AC19*T20)),IF(AND(Q19="Probabilidad",Q20="Impacto"),(AC18-(+AC18*T20)),IF(Q20="Probabilidad",AC19,""))),"") -> 0.5625
O21: 2.2 | P21: En el caso daño físico en una de las partes del equipo se debe proceder a reemplazar la pieza. Una vez adquirida la pieza el responsable de mantenimiento realiza el reemplazo de la pieza y verifica que quede funcional. Documentato en: Instructivo para el mantenimiento correctivo y preventivo de Harsware y software I-GT-01. | Q21: =IF(OR(R21="Preventivo",R21="Detectivo"),"Probabilidad",IF(R21="Correctivo","Impacto","")) -> Impacto | R21: Correctivo | S21: Manual | T21: =IF(AND(R21="Preventivo",S21="Automático"),"50%",IF(AND(R21="Preventivo",S21="Manual"),"40%",IF(AND(R21="Detectivo",S21="Automático"),"40%",IF(AND(R21="Detectivo",S21="Manual"),"30%",IF(AND(R21="Correctivo",S21="Automático"),"35%",IF(AND(R21="Correctivo",S21="Manual"),"25%","")))))) -> 25% | U21: Documentado | V21: Aleatoria | W21: Con Registro | X21: Hoja de Vida de Equipos | Y21: =IFERROR(IF(AND(Q20="Probabilidad",Q21="Probabilidad"),(AA20-(+AA20*T21)),IF(AND(Q20="Impacto",Q21="Probabilidad"),(AA19-(+AA19*T21)),IF(Q21="Impacto",AA20,""))),"") -> 0.075 | Z21: =IFERROR(IF(Y21="","",IF(Y21<=0.2,"Muy Baja",IF(Y21<=0.4,"Baja",IF(Y21<=0.6,"Media",IF(Y21<=0.8,"Alta","Muy Alta"))))),"") -> Muy Baja | AA21: =+Y21 -> 0.075 | AB21: =IFERROR(IF(AC21="","",IF(AC21<=0.2,"Leve",IF(AC21<=0.4,"Menor",IF(AC21<=0.6,"Moderado",IF(AC21<=0.8,"Mayor","Catastrófico"))))),"") -> Moderado | AC21: =IFERROR(IF(AND(Q20="Impacto",Q21="Impacto"),(AC20-(+AC20*T21)),IF(AND(Q20="Probabilidad",Q21="Impacto"),(AC19-(+AC19*T21)),IF(Q21="Probabilidad",AC20,""))),"") -> 0.421875
H22: 3. Daño en recursos tecnológicos. Obsolescencia tecnológica. | O22: 3 | P22: No existe control | R22: N/A | S22: N/A | U22: N/A | V22: N/A | W22: N/A | X22: N/A | Y22: =IFERROR(IF(AND(Q21="Probabilidad",Q22="Probabilidad"),(AA21-(+AA21*T22)),IF(AND(Q21="Impacto",Q22="Probabilidad"),(AA20-(+AA20*T22)),IF(Q22="",AA21,""))),"") -> 0.075 | Z22: =IFERROR(IF(Y22="","",IF(Y22<=0.2,"Muy Baja",IF(Y22<=0.4,"Baja",IF(Y22<=0.6,"Media",IF(Y22<=0.8,"Alta","Muy Alta"))))),"") -> Muy Baja | AA22: =+Y22 -> 0.075 | AB22: =IFERROR(IF(AC22="","",IF(AC22<=0.2,"Leve",IF(AC22<=0.4,"Menor",IF(AC22<=0.6,"Moderado",IF(AC22<=0.8,"Mayor","Catastrófico"))))),"") -> Moderado | AC22: =IFERROR(IF(AND(Q21="Impacto",Q22="Impacto"),(AC21-(+AC21*T22)),IF(AND(Q21="Probabilidad",Q22="Impacto"),(AC20-(+AC20*T22)),IF(Q22="",AC21,""))),"") -> 0.421875
H23: 4. Daño en recursos tecnológicos. Falta de mantenimiento preventivo. | O23: 4 | P23: Se realiza programación de mantenimiento preventivo de los equipos del Instituto de manera semestral. El responsable de gestión de tecnología realiza seguimiento al cumplimiento de esta programación de manera periódica, lo cual se ve reflejado en el indicador de cumplimiento del Plan de Mantenimiento. | Q23: =IF(OR(R23="Preventivo",R23="Detectivo"),"Probabilidad",IF(R23="Correctivo","Impacto","")) -> Probabilidad | R23: Preventivo | S23: Manual | T23: =IF(AND(R23="Preventivo",S23="Automático"),"50%",IF(AND(R23="Preventivo",S23="Manual"),"40%",IF(AND(R23="Detectivo",S23="Automático"),"40%",IF(AND(R23="Detectivo",S23="Manual"),"30%",IF(AND(R23="Correctivo",S23="Automático"),"35%",IF(AND(R23="Correctivo",S23="Manual"),"25%","")))))) -> 40% | U23: Documentado | V23: Aleatoria | W23: Con Registro | X23: Registro de Análisis del indicador. Registro de mantenimiento de equipos dentro del módulo de inventarios de SIFI | Y23: =IFERROR(IF(AND(Q22="",Q23="Probabilidad"),(AA22-(+AA22*T23)),IF(AND(Q22="Impacto",Q23="Probabilidad"),(AA21-(+AA21*T23)),IF(Q23="Impacto",AA22,""))),"") -> 0.045 | Z23: =IFERROR(IF(Y23="","",IF(Y23<=0.2,"Muy Baja",IF(Y23<=0.4,"Baja",IF(Y23<=0.6,"Media",IF(Y23<=0.8,"Alta","Muy Alta"))))),"") -> Muy Baja | AA23: =+Y23 -> 0.045 | AB23: =IFERROR(IF(AC23="","",IF(AC23<=0.2,"Leve",IF(AC23<=0.4,"Menor",IF(AC23<=0.6,"Moderado",IF(AC23<=0.8,"Mayor","Catastrófico"))))),"") -> Moderado | AC23: =IFERROR(IF(AND(Q22="Impacto",Q23="Impacto"),(AC22-(+AC22*T23)),IF(AND(Q22="Probabilidad",Q23="Impacto"),(AC21-(+AC21*T23)),IF(Q23="Probabilidad",AC22,""))),"") -> 0.421875
H24: 5. Falta de idoneidad del personal que opera el recurso tecnológico. | O24: 5 | P24: Se establece el perfil de cargo adecuado del personal a contratar dentro de los estudios previos que hacen parte de la planeación de la contratación. Documentado en: Manual de Contratación. | Q24: =IF(OR(R24="Preventivo",R24="Detectivo"),"Probabilidad",IF(R24="Correctivo","Impacto","")) -> Probabilidad | R24: Preventivo | S24: Manual | T24: =IF(AND(R24="Preventivo",S24="Automático"),"50%",IF(AND(R24="Preventivo",S24="Manual"),"40%",IF(AND(R24="Detectivo",S24="Automático"),"40%",IF(AND(R24="Detectivo",S24="Manual"),"30%",IF(AND(R24="Correctivo",S24="Automático"),"35%",IF(AND(R24="Correctivo",S24="Manual"),"25%","")))))) -> 40% | U24: Documentado | V24: Aleatoria | W24: Con Registro | X24: Estudio previo de cada contratación | Y24: =IFERROR(IF(AND(Q23="Probabilidad",Q24="Probabilidad"),(AA23-(+AA23*T24)),IF(AND(Q23="Impacto",Q24="Probabilidad"),(AA19-(+AA19*T24)),IF(Q24="Impacto",AA23,""))),"") -> 0.027 | Z24: =IFERROR(IF(Y24="","",IF(Y24<=0.2,"Muy Baja",IF(Y24<=0.4,"Baja",IF(Y24<=0.6,"Media",IF(Y24<=0.8,"Alta","Muy Alta"))))),"") -> Muy Baja | AA24: =+Y24 -> 0.027 | AB24: =IFERROR(IF(AC24="","",IF(AC24<=0.2,"Leve",IF(AC24<=0.4,"Menor",IF(AC24<=0.6,"Moderado",IF(AC24<=0.8,"Mayor","Catastrófico"))))),"") -> Moderado | AC24: =IFERROR(IF(AND(Q23="Impacto",Q24="Impacto"),(AC23-(+AC23*T24)),IF(AND(Q23="Probabilidad",Q24="Impacto"),(AC19-(+AC19*T24)),IF(Q24="Probabilidad",AC23,""))),"") -> 0.421875
H25: 6. Inoportunidad en la prestación de servicio de soporte tecnico. 6.1. Sobrecarga laboral 6.1.1. No se planifica las necesidades de recursos de personal a traves del Plan Anual de Adquisiciones. | O25: 6.1.1 | P25: Para cada vigencia se identifican las necesidades personal y se someten a aprobación de la Subdirección para ser incluido en el Plan Anual de Adquisiciones - PAA. Documentado en: P-GI-01 - PROCEDIMIENTO PARA LA GESTION ADMINISTRATIVA | Q25: =IF(OR(R25="Preventivo",R25="Detectivo"),"Probabilidad",IF(R25="Correctivo","Impacto","")) -> Probabilidad | R25: Preventivo | S25: Manual | T25: =IF(AND(R25="Preventivo",S25="Automático"),"50%",IF(AND(R25="Preventivo",S25="Manual"),"40%",IF(AND(R25="Detectivo",S25="Automático"),"40%",IF(AND(R25="Detectivo",S25="Manual"),"30%",IF(AND(R25="Correctivo",S25="Automático"),"35%",IF(AND(R25="Correctivo",S25="Manual"),"25%","")))))) -> 40% | U25: Documentado | V25: Aleatoria | W25: Con Registro | X25: Plan Anual de Adquisiciones | Y25: =IFERROR(IF(AND(Q24="Probabilidad",Q25="Probabilidad"),(AA24-(+AA24*T25)),IF(AND(Q24="Impacto",Q25="Probabilidad"),(AA23-(+AA23*T25)),IF(Q25="Impacto",AA24,""))),"") -> 0.0162 | Z25: =IFERROR(IF(Y25="","",IF(Y25<=0.2,"Muy Baja",IF(Y25<=0.4,"Baja",IF(Y25<=0.6,"Media",IF(Y25<=0.8,"Alta","Muy Alta"))))),"") -> Muy Baja | AA25: =+Y25 -> 0.0162 | AB25: =IFERROR(IF(AC25="","",IF(AC25<=0.2,"Leve",IF(AC25<=0.4,"Menor",IF(AC25<=0.6,"Moderado",IF(AC25<=0.8,"Mayor","Catastrófico"))))),"") -> Moderado | AC25: =IFERROR(IF(AND(Q24="Impacto",Q25="Impacto"),(AC24-(+AC24*T25)),IF(AND(Q24="Probabilidad",Q25="Impacto"),(AC23-(+AC23*T25)),IF(Q25="Probabilidad",AC24,""))),"") -> 0.421875
H26: 6. Inoportunidad en la prestación de servicio de soporte tecnico. 6.1. Sobrecarga laboral 6.1.2. Demoras en la contratación del personal. | O26: 6.1.2 | P26: El profesional lider de TIC verifica que el proceso precontractual y contractual para la contratación de personal (contratos de prestación de servicios profesionales y de apoyo a la gestión), se realice de acuerdo a los tiempos establecidos en el Plan Anual de Adquisiciones. | Q26: =IF(OR(R26="Preventivo",R26="Detectivo"),"Probabilidad",IF(R26="Correctivo","Impacto","")) -> Probabilidad | R26: Preventivo | S26: Manual | T26: =IF(AND(R26="Preventivo",S26="Automático"),"50%",IF(AND(R26="Preventivo",S26="Manual"),"40%",IF(AND(R26="Detectivo",S26="Automático"),"40%",IF(AND(R26="Detectivo",S26="Manual"),"30%",IF(AND(R26="Correctivo",S26="Automático"),"35%",IF(AND(R26="Correctivo",S26="Manual"),"25%","")))))) -> 40% | U26: Sin Documentar | V26: Aleatoria | W26: Con Registro | X26: Estudios previos y anexos Minuta de contratos | Y26: =IFERROR(IF(AND(Q25="Probabilidad",Q26="Probabilidad"),(AA25-(+AA25*T26)),IF(AND(Q25="Impacto",Q26="Probabilidad"),(AA24-(+AA24*T26)),IF(Q26="Impacto",AA25,""))),"") -> 0.00972 | Z26: =IFERROR(IF(Y26="","",IF(Y26<=0.2,"Muy Baja",IF(Y26<=0.4,"Baja",IF(Y26<=0.6,"Media",IF(Y26<=0.8,"Alta","Muy Alta"))))),"") -> Muy Baja | AA26: =+Y26 -> 0.00972 | AB26: =IFERROR(IF(AC26="","",IF(AC26<=0.2,"Leve",IF(AC26<=0.4,"Menor",IF(AC26<=0.6,"Moderado",IF(AC26<=0.8,"Mayor","Catastrófico"))))),"") -> Moderado | AC26: =IFERROR(IF(AND(Q25="Impacto",Q26="Impacto"),(AC25-(+AC25*T26)),IF(AND(Q25="Probabilidad",Q26="Impacto"),(AC24-(+AC24*T26)),IF(Q26="Probabilidad",AC25,""))),"") -> 0.421875
H27: 7. No se atienden las solicitudes de soporte técnico. | O27: 7. | P27: En el SIFI se tiene disponible módulo para la recepción de solicitudes de soporte técnico por parte del personal que lo requiera. El responsable de soporte técnico, revisa diariamente las solicitudes y gestiona la solución para cada una de ellas. El SIFI permite la generación de reportes de desempeño del servicio técnico en cuanto a calificación del servicio por parte de los usuarios, solicitudes abiertas y cerradas, tiempos de atención, entre otras; información que se analiza para la mejora del proceso. | Q27: =IF(OR(R27="Preventivo",R27="Detectivo"),"Probabilidad",IF(R27="Correctivo","Impacto","")) -> Impacto | R27: Correctivo | S27: Manual | T27: =IF(AND(R27="Preventivo",S27="Automático"),"50%",IF(AND(R27="Preventivo",S27="Manual"),"40%",IF(AND(R27="Detectivo",S27="Automático"),"40%",IF(AND(R27="Detectivo",S27="Manual"),"30%",IF(AND(R27="Correctivo",S27="Automático"),"35%",IF(AND(R27="Correctivo",S27="Manual"),"25%","")))))) -> 25% | U27: Sin Documentar | V27: Aleatoria | W27: Con Registro | X27: Consolidado de atenciones y valoraciones de soporte técnico mensual. Cargue de información y análisis de los indicadores de soporte técnico en el SMO. | Y27: =IFERROR(IF(AND(Q26="Probabilidad",Q27="Probabilidad"),(AA26-(+AA26*T27)),IF(AND(Q26="Impacto",Q27="Probabilidad"),(AA25-(+AA25*T27)),IF(Q27="Impacto",AA26,""))),"") -> 0.00972 | Z27: =IFERROR(IF(Y27="","",IF(Y27<=0.2,"Muy Baja",IF(Y27<=0.4,"Baja",IF(Y27<=0.6,"Media",IF(Y27<=0.8,"Alta","Muy Alta"))))),"") -> Muy Baja | AA27: =+Y27 -> 0.00972 | AB27: =IFERROR(IF(AC27="","",IF(AC27<=0.2,"Leve",IF(AC27<=0.4,"Menor",IF(AC27<=0.6,"Moderado",IF(AC27<=0.8,"Mayor","Catastrófico"))))),"") -> Menor | AC27: =IFERROR(IF(AND(Q26="Impacto",Q27="Impacto"),(AC26-(+AC26*T27)),IF(AND(Q26="Probabilidad",Q27="Impacto"),(AC25-(+AC25*T27)),IF(Q27="Probabilidad",AC26,""))),"") -> 0.31640625
A28: GT6 | B28: Proceos: Gestionar el sistema de información y las tecnologías del Instituto de manera eficiente, adoptando buenas prácticas y medidas de seguridad adecuadas para propender por la disponibilidad de los servicios e información. | C28: Licencias de software | D28: afectación económica y reputacional | E28: a través de multas y sanciones por parte de los fabricantes y los entes de control | F28: debido a existencia de software no licenciado en los equipos informáticos de la institución, y en el de las personas que desarrollan actividades para el Isvimed a través de contratos de prestación de servicios profesionales y de apoyo a la gestión | G28: Posibilidad de afectación económica y reputacional a través de multas y sanciones por parte de los fabricantes y los entes de control debido a existencia de software no licenciado en los equipos informáticos de la institución, y en el de las personas que desarrollan actividades para el Isvimed a través de contratos de prestación de servicios. | H28: 1. Los equipos informáticos del Instituto permiten la instalación de software por parte de cualquier funcionario. La instalación no se centraliza en el area de TIC del Insituto. | I28: Seg. de la Información | J28: Media | K28: =IF(J28="","",IF(J28="Muy Baja",0.2,IF(J28="Baja",0.4,IF(J28="Media",0.6,IF(J28="Alta",0.8,IF(J28="Muy Alta",1,)))))) -> 0.6 | L28: Moderado | M28: =IF(L28="","",IF(L28="Leve",0.2,IF(L28="Menor",0.4,IF(L28="Moderado",0.6,IF(L28="Mayor",0.8,IF(L28="Catastrófico",1,)))))) -> 0.6 | N28: =IF(OR(AND(J28="Muy Baja",L28="Leve"),AND(J28="Muy Baja",L28="Menor"),AND(J28="Baja",L28="Leve")),"Bajo",IF(OR(AND(J28="Muy baja",L28="Moderado"),AND(J28="Baja",L28="Menor"),AND(J28="Baja",L28="Moderado"),AND(J28="Media",L28="Leve"),AND(J28="Media",L28="Menor"),AND(J28="Media",L28="Moderado"),AND(J28="Alta",L28="Leve"),AND(J28="Alta",L28="Menor")),"Moderado",IF(OR(AND(J28="Muy Baja",L28="Mayor"),AND(J28="Baja",L28="Mayor"),AND(J28="Media",L28="Mayor"),AND(J28="Alta",L28="Moderado"),AND(J28="Alta",L28="Mayor"),AND(J28="Muy Alta",L28="Leve"),AND(J28="Muy Alta",L28="Menor"),AND(J28="Muy Alta",L28="Moderado"),AND(J28="Muy Alta",L28="Mayor")),"Alto",IF(OR(AND(J28="Muy Baja",L28="Catastrófico"),AND(J28="Baja",L28="Catastrófico"),AND(J28="Media",L28="Catastrófico"),AND(J28="Alta",L28="Catastrófico"),AND(J28="Muy Alta",L28="Catastrófico")),"Extremo","")))) -> Moderado | O28: 1 | P28: La persona responsable de la gestión del Directorio Activo, define políticas para limitar la instalación de software en los equipos del instituto. Documentado en: "Política de Seguridad de la Información" - Política #10: Control de Acceso a la Información. | Q28: =IF(OR(R28="Preventivo",R28="Detectivo"),"Probabilidad",IF(R28="Correctivo","Impacto","")) -> Probabilidad | R28: Preventivo | S28: Automático | T28: =IF(AND(R28="Preventivo",S28="Automático"),"50%",IF(AND(R28="Preventivo",S28="Manual"),"40%",IF(AND(R28="Detectivo",S28="Automático"),"40%",IF(AND(R28="Detectivo",S28="Manual"),"30%",IF(AND(R28="Correctivo",S28="Automático"),"35%",IF(AND(R28="Correctivo",S28="Manual"),"25%","")))))) -> 50% | U28: Documentado | V28: Continua | W28: Sin Registro | X28: N/A | Y28: =IFERROR(IF(Q28="Probabilidad",(K28-(+K28*T28)),IF(Q28="Impacto",K28,"")),"") -> 0.3 | Z28: =IFERROR(IF(Y28="","",IF(Y28<=0.2,"Muy Baja",IF(Y28<=0.4,"Baja",IF(Y28<=0.6,"Media",IF(Y28<=0.8,"Alta","Muy Alta"))))),"") -> Baja | AA28: =+Y28 -> 0.3 | AB28: =IFERROR(IF(AC28="","",IF(AC28<=0.2,"Leve",IF(AC28<=0.4,"Menor",IF(AC28<=0.6,"Moderado",IF(AC28<=0.8,"Mayor","Catastrófico"))))),"") -> Moderado | AC28: =IFERROR(IF(Q28="Impacto",(M28-(+M28*T28)),IF(Q28="Probabilidad",M28,"")),"") -> 0.6 | AD28: =IFERROR(IF(AE28=0,"",IF(AND(AE28>0,AE28<=0.2),"Muy Baja",IF(AE28<=0.4,"Baja",IF(AE28<=0.6,"Media",IF(AE28<=0.8,"Alta","Muy Alta"))))),"") -> Muy Baja | AE28: =MIN(Y28:Y32) -> 0.03888 | AF28: =IFERROR(IF(AG28=0,"",IF(AND(AG28>0,AG28<=0.2),"Leve",IF(AG28<=0.4,"Menor",IF(AG28<=0.6,"Moderado",IF(AG28<=0.8,"Mayor","Catastrófico"))))),"") -> Moderado | AG28: =MIN(AC28:AC32) -> 0.6 | AH28: =IFERROR(IF(OR(AND(AD28="Muy Baja",AF28="Leve"),AND(AD28="Muy Baja",AF28="Menor"),AND(AD28="Baja",AF28="Leve")),"Bajo",IF(OR(AND(AD28="Muy Baja",AF28="Moderado"),AND(AD28="Baja",AF28="Menor"),AND(AD28="Baja",AF28="Moderado"),AND(AD28="Media",AF28="Leve"),AND(AD28="Media",AF28="Menor"),AND(AD28="Media",AF28="Moderado"),AND(AD28="Alta",AF28="Leve"),AND(AD28="Alta",AF28="Menor")),"Moderado",IF(OR(AND(AD28="Muy Baja",AF28="Mayor"),AND(AD28="Baja",AF28="Mayor"),AND(AD28="Media",AF28="Mayor"),AND(AD28="Alta",AF28="Moderado"),AND(AD28="Alta",AF28="Mayor"),AND(AD28="Muy Alta",AF28="Leve"),AND(AD28="Muy Alta",AF28="Menor"),AND(AD28="Muy Alta",AF28="Moderado"),AND(AD28="Muy Alta",AF28="Mayor")),"Alto",IF(OR(AND(AD28="Muy Baja",AF28="Catastrófico"),AND(AD28="Baja",AF28="Catastrófico"),AND(AD28="Media",AF28="Catastrófico"),AND(AD28="Alta",AF28="Catastrófico"),AND(AD28="Muy Alta",AF28="Catastrófico")),"Extremo","")))),"") -> Moderado | AI28: Reducir (mitigar) | AK28: Se materializó el Riesgo? (Ver evento potencial principal en Columna F. Relacionar detalles de la materialización - que, como, cuando, donde): El riesgo no se a materializado durante el periodo evaluado Los Controles están bien diseñados, se aplican de acuerdo al diseño y son efectivos? (Ver controles en la columna P / Concluir frente a cada control) Los controles utilizados se encuentran bien diseñados y efectivos. Se resaltan los eventos mas relevantes: - Las licencias se encuentran vigentes. - Desde la contratacion se continua con la clausula de transferencia de riesgos para el contratista. Que acciones propones o se están llevando a cabo para gestionar el riesgo que se materializó? (Si no aplica colocar N/A) N/A Que acciones propones o se están llevando a cabo para fortalecer los controles? (En el caso de que tener Acciones de mejora / Acciones correctivas en proceso, relacionar el avance. Si tienes acciones específicas a desarrollar en la columna AJ, también relacionar el avance) Por loque estan bien diseñado no hay necesidad de implentar ajustes a controles | AL28: A nivel contractual en la minuta se incluye un PARAGRAFO: Serán obligaciones generales del contrato:(l): El contratista utilizará software licenciados en los equipos de cómputo que utilice para la prestación del servicio, cualquier riesgo que se derive de utilizar software no licenciados, recaen bajo responsabilidad del contratista. | AM28: Se materializó el Riesgo? (Ver evento potencial principal en Columna F. Relacionar detalles de la materialización - que, como, cuando, donde): El riesgo no se a materializado durante el periodo evaluado Los Controles están bien diseñados, se aplican de acuerdo al diseño y son efectivos? (Ver controles en la columna P / Concluir frente a cada control) Los controles utilizados se encuentran bien diseñados y efectivos. Se resaltan los eventos mas relevantes: - Las licencias se encuentran vigentes. - Desde la contratacion se continua con la clausula de transferencia de riesgos para el contratista. Que acciones propones o se están llevando a cabo para gestionar el riesgo que se materializó? (Si no aplica colocar N/A) N/A Que acciones propones o se están llevando a cabo para fortalecer los controles? (En el caso de que tener Acciones de mejora / Acciones correctivas en proceso, relacionar el avance. Si tienes acciones específicas a desarrollar en la columna AJ, también relacionar el avance) Por loque estan bien diseñado no hay necesidad de implentar ajustes a controles | AN28: A nivel contractual en la minuta se incluye un PARAGRAFO: Serán obligaciones generales del contrato:(l): El contratista utilizará software licenciados en los equipos de cómputo que utilice para la prestación del servicio, cualquier riesgo que se derive de utilizar software no licenciados, recaen bajo responsabilidad del contratista. | AO28: Se materializó el Riesgo? (Ver evento potencial principal en Columna F. Relacionar detalles de la materialización - que, como, cuando, donde): Los Controles están bien diseñados, se aplican de acuerdo al diseño y son efectivos? (Ver controles en la columna P / Concluir frente a cada control) Que acciones propones o se están llevando a cabo para gestionar el riesgo que se materializó? (Si no aplica colocar N/A) Que acciones propones o se están llevando a cabo para fortalecer los controles? (En el caso de que tener Acciones de mejora / Acciones correctivas en proceso, relacionar el avance. Si tienes acciones específicas a desarrollar en la columna AJ, también relacionar el avance) | AQ28: Se materializó el Riesgo? (Ver evento potencial principal en Columna F. Relacionar detalles de la materialización - que, como, cuando, donde): Los Controles están bien diseñados, se aplican de acuerdo al diseño y son efectivos? (Ver controles en la columna P / Concluir frente a cada control) Que acciones propones o se están llevando a cabo para gestionar el riesgo que se materializó? (Si no aplica colocar N/A) Que acciones propones o se están llevando a cabo para fortalecer los controles? (En el caso de que tener Acciones de mejora / Acciones correctivas en proceso, relacionar el avance. Si tienes acciones específicas a desarrollar en la columna AJ, también relacionar el avance)
H29: 2. No existe control de las vigencias de las licencias. | O29: 2 | P29: El profesional lider de TIC, verifica el vencimiento de licencias de software de los equipos del Instituto a tráves del formato de Resumen de Software y licencias. | Q29: =IF(OR(R29="Preventivo",R29="Detectivo"),"Probabilidad",IF(R29="Correctivo","Impacto","")) -> Probabilidad | R29: Preventivo | S29: Manual | T29: =IF(AND(R29="Preventivo",S29="Automático"),"50%",IF(AND(R29="Preventivo",S29="Manual"),"40%",IF(AND(R29="Detectivo",S29="Automático"),"40%",IF(AND(R29="Detectivo",S29="Manual"),"30%",IF(AND(R29="Correctivo",S29="Automático"),"35%",IF(AND(R29="Correctivo",S29="Manual"),"25%","")))))) -> 40% | U29: Sin Documentar | V29: Aleatoria | W29: Con Registro | X29: formato de Resumen de Software y licencias | Y29: =IFERROR(IF(AND(Q28="Probabilidad",Q29="Probabilidad"),(AA28-(+AA28*T29)),IF(Q29="Probabilidad",(K28-(+K28*T29)),IF(Q29="Impacto",AA28,""))),"") -> 0.18 | Z29: =IFERROR(IF(Y29="","",IF(Y29<=0.2,"Muy Baja",IF(Y29<=0.4,"Baja",IF(Y29<=0.6,"Media",IF(Y29<=0.8,"Alta","Muy Alta"))))),"") -> Muy Baja | AA29: =+Y29 -> 0.18 | AB29: =IFERROR(IF(AC29="","",IF(AC29<=0.2,"Leve",IF(AC29<=0.4,"Menor",IF(AC29<=0.6,"Moderado",IF(AC29<=0.8,"Mayor","Catastrófico"))))),"") -> Moderado | AC29: =IFERROR(IF(AND(Q28="Impacto",Q29="Impacto"),(AC28-(+AC28*T29)),IF(Q29="Impacto",(M28-(+M28*T29)),IF(Q29="Probabilidad",AC28,""))),"") -> 0.6
H30: 3. El lincenciamiento de software no se incluye en el presupuesto anual. | O30: 3 | P30: El profesional lider de TIC identifica el vencimiento de licencias para incluirlo en el Plan Anual de Adquisiciones | Q30: =IF(OR(R30="Preventivo",R30="Detectivo"),"Probabilidad",IF(R30="Correctivo","Impacto","")) -> Probabilidad | R30: Preventivo | S30: Manual | T30: =IF(AND(R30="Preventivo",S30="Automático"),"50%",IF(AND(R30="Preventivo",S30="Manual"),"40%",IF(AND(R30="Detectivo",S30="Automático"),"40%",IF(AND(R30="Detectivo",S30="Manual"),"30%",IF(AND(R30="Correctivo",S30="Automático"),"35%",IF(AND(R30="Correctivo",S30="Manual"),"25%","")))))) -> 40% | U30: Sin Documentar | V30: Aleatoria | W30: Con Registro | X30: Plan Anual de Adquisiciones | Y30: =IFERROR(IF(AND(Q29="Probabilidad",Q30="Probabilidad"),(AA29-(+AA29*T30)),IF(AND(Q29="Impacto",Q30="Probabilidad"),(AA28-(+AA28*T30)),IF(Q30="Impacto",AA29,""))),"") -> 0.108 | Z30: =IFERROR(IF(Y30="","",IF(Y30<=0.2,"Muy Baja",IF(Y30<=0.4,"Baja",IF(Y30<=0.6,"Media",IF(Y30<=0.8,"Alta","Muy Alta"))))),"") -> Muy Baja | AA30: =+Y30 -> 0.108 | AB30: =IFERROR(IF(AC30="","",IF(AC30<=0.2,"Leve",IF(AC30<=0.4,"Menor",IF(AC30<=0.6,"Moderado",IF(AC30<=0.8,"Mayor","Catastrófico"))))),"") -> Moderado | AC30: =IFERROR(IF(AND(Q29="Impacto",Q30="Impacto"),(AC29-(+AC29*T30)),IF(AND(Q29="Probabilidad",Q30="Impacto"),(AC28-(+AC28*T30)),IF(Q30="Probabilidad",AC29,""))),"") -> 0.6
H31: 4. La contratación de proveedores de lincenciamiento de software es posterior al vencimiento de las licencias. | O31: 4 | P31: El profesional lider de TIC verifica que el proceso precontractual y contractual para la adquisición del licenciamiento, se realice de acuerdo a los tiempos establecidos en el Plan Anual de Adquisiciones. | Q31: =IF(OR(R31="Preventivo",R31="Detectivo"),"Probabilidad",IF(R31="Correctivo","Impacto","")) -> Probabilidad | R31: Preventivo | S31: Manual | T31: =IF(AND(R31="Preventivo",S31="Automático"),"50%",IF(AND(R31="Preventivo",S31="Manual"),"40%",IF(AND(R31="Detectivo",S31="Automático"),"40%",IF(AND(R31="Detectivo",S31="Manual"),"30%",IF(AND(R31="Correctivo",S31="Automático"),"35%",IF(AND(R31="Correctivo",S31="Manual"),"25%","")))))) -> 40% | U31: Sin Documentar | V31: Aleatoria | W31: Con Registro | X31: Estudios previos y anexos Minuta de contratos | Y31: =IFERROR(IF(AND(Q30="Probabilidad",Q31="Probabilidad"),(AA30-(+AA30*T31)),IF(AND(Q30="Impacto",Q31="Probabilidad"),(AA29-(+AA29*T31)),IF(Q31="Impacto",AA30,""))),"") -> 0.0648 | Z31: =IFERROR(IF(Y31="","",IF(Y31<=0.2,"Muy Baja",IF(Y31<=0.4,"Baja",IF(Y31<=0.6,"Media",IF(Y31<=0.8,"Alta","Muy Alta"))))),"") -> Muy Baja | AA31: =+Y31 -> 0.0648 | AB31: =IFERROR(IF(AC31="","",IF(AC31<=0.2,"Leve",IF(AC31<=0.4,"Menor",IF(AC31<=0.6,"Moderado",IF(AC31<=0.8,"Mayor","Catastrófico"))))),"") -> Moderado | AC31: =IFERROR(IF(AND(Q30="Impacto",Q31="Impacto"),(AC30-(+AC30*T31)),IF(AND(Q30="Probabilidad",Q31="Impacto"),(AC29-(+AC29*T31)),IF(Q31="Probabilidad",AC30,""))),"") -> 0.6
H32: 5. No se han establecidos salvaguardas legales que transfieran el riesgo por no licenciamiento de software en los equipos de los contratistas, de manera que la responsabilidad recaiga directamente sobre ellos. | O32: 5 | P32: Se establece como obligación del contratista en los contratos de prestación de servicios profesionales y de apoyo a la gestión la siguiente obligación: "El contratista utilizara software licenciado en los equipos de cómputo que utilice para la prestación del servicio, cualquier riesgo que se derive de utilizar software no licenciado, recae bajo responsabilidad del contratista" El profesional lider de TIC, verifica que esta cláusula este incluida en las minutas de los contratos. lo anterior de manera aleaoria. | Q32: =IF(OR(R32="Preventivo",R32="Detectivo"),"Probabilidad",IF(R32="Correctivo","Impacto","")) -> Probabilidad | R32: Preventivo | S32: Manual | T32: =IF(AND(R32="Preventivo",S32="Automático"),"50%",IF(AND(R32="Preventivo",S32="Manual"),"40%",IF(AND(R32="Detectivo",S32="Automático"),"40%",IF(AND(R32="Detectivo",S32="Manual"),"30%",IF(AND(R32="Correctivo",S32="Automático"),"35%",IF(AND(R32="Correctivo",S32="Manual"),"25%","")))))) -> 40% | U32: Sin Documentar | V32: N/A | W32: N/A | X32: Minuta de contratos | Y32: =IFERROR(IF(AND(Q31="Probabilidad",Q32="Probabilidad"),(AA31-(+AA31*T32)),IF(AND(Q31="Impacto",Q32="Probabilidad"),(AA30-(+AA30*T32)),IF(Q32="Impacto",AA31,""))),"") -> 0.03888 | Z32: =IFERROR(IF(Y32="","",IF(Y32<=0.2,"Muy Baja",IF(Y32<=0.4,"Baja",IF(Y32<=0.6,"Media",IF(Y32<=0.8,"Alta","Muy Alta"))))),"") -> Muy Baja | AA32: =+Y32 -> 0.03888 | AB32: =IFERROR(IF(AC32="","",IF(AC32<=0.2,"Leve",IF(AC32<=0.4,"Menor",IF(AC32<=0.6,"Moderado",IF(AC32<=0.8,"Mayor","Catastrófico"))))),"") -> Moderado | AC32: =IFERROR(IF(AND(Q31="Impacto",Q32="Impacto"),(AC31-(+AC31*T32)),IF(AND(Q31="Probabilidad",Q32="Impacto"),(AC30-(+AC30*T32)),IF(Q32="Probabilidad",AC31,""))),"") -> 0.6
