Workbook
Name Afectación_Económica: #REF!
Name Afectación_Económica: #REF!
Name Definicion_tratamiento: #REF!
Name Definicion_tratamiento: #REF!
Name Ejecución_administración_de_procesos: #REF!
Name Fiscal_A: #REF!
Name Fiscal_A: #REF!
Name Fiscal_B: #REF!
Name Fiscal_B: #REF!
Name Gestiòn: #REF!
Name Gestiòn: #REF!
Name Gestión_A: #REF!
Name Gestión_A: #REF!
Name Gestión_B: #REF!
Name Gestión_B: #REF!
Name IMPACTO_PROCESOS: #REF!
Name IMPACTO_PROCESOS: #REF!
Name IMPACTO_PROCESOS: #REF!
Name IMPACTO_PROCESOS: #REF!
Name IntegridadPública_Corrupción: #REF!
Name IntegridadPública_Corrupción: #REF!
Name IntegridadPública_LA_FT_FP: #REF!
Name IntegridadPública_LA_FT_FP: #REF!
Name opciones: #REF!
Name opciones: #REF!
Name opciones: #REF!
Name opciones: #REF!
Name opciones2: #REF!
Name opciones2: #REF!
Name opciones2: #REF!
Name opciones2: #REF!
Name Plan_accion: #REF!
Name Plan_accion: #REF!
Name Plan_acción: #REF!
Name Plan_acción: #REF!
Name Plan_de_acción: #REF!
Name Plan_de_acción: #REF!
Name Posibilidad__de_efecto_dañoso_sobre_el_interes_patrimonial: #REF!
Name Posibilidad__de_efecto_dañoso_sobre_el_interes_patrimonial: #REF!
Name Posibilidad_de_pérdida_Económica: #REF!
Name Posibilidad_de_pérdida_Económica: #REF!
Name Proceso: #REF!
Name Quince_Cero: #REF!
Name Quince_Cero: #REF!
Name Quince_Cero: #REF!
Name Quince_Cero: #REF!
Name Rango_Calificacion_Ejecucion: #REF!
Name Rango_Calificacion_Ejecucion: #REF!
Name Rango_Calificacion_Ejecucion: #REF!
Name Rango_Calificacion_Ejecucion: #REF!
Name Reducir_mitigar_Transferir_Evitar: #REF!
Name Reducir_mitigar_Transferir_Evitar: #REF!
Name Reputacional: #REF!
Name Reputacional: #REF!
Name Requiere_Plan_de_Acción: #REF!
Name Requiere_Plan_de_Acción: #REF!
Name Seg.Información: #REF!
Name Seg.Información: #REF!
Name TIPO: #REF!
Name TIPO: #REF!

Sheet 4. PEFIL RIESGO DEL PROCESO
A2: PERFIL DE RIESGO DEL PROCESO
A4: PROCESO: | B4: ='2. MATRIZ DE RIESGOS'!D6 -> Gestión Social
A5: RIESGO INHERENTE Y RESIDUAL DEL PROCESO
A7: Explicaciones Para realizar la ponderación de Riesgos. 1. Si en la sumatoria de los riesgos los Extremos representan mas o igual al 20% de los Riesgos, la calificación del Proceso será EXTREMO.
A8: 2. Si en la sumatoria de los riesgos Extermos y altos representan mas o igual al 30% de los Riesgos Calificados, y menos del 20% de los Riesgos Extremos la calificación del Proceso será ALTO.
A9: 3. Si en la sumatoria de los riesgos Extremos, altos y moderados representan mas o igual al 40% de los Riesgos Calificados, y menos del 30% de los Riesgos Extremos y Altos, y Menos del 20% de los Riesgos Extremos, la calificación del Proceso será MODERADO.
A10: 4. Si en la sumatoria de los riesgos Extremos, altos, moderados y bajos representan mas o igual al 50% de los Riesgos Calificados, y menos del 40% de los riesgos Extremos, altos y moderados, y menos del 30% de los riesgos calificados en Extremos y Altos, y menos del 20% de los riesgos Extremos, la calificación del proceso sera BAJO. Nota: Adapatado de Instituto de Auditores Internos COSO ERM Agosto 2014
B12: RIESGO INHERENTE DEL PROCESO | D12: RIESGO RESIDUAL DEL PROCESO | G12: NIVELES DE RIESGO
A13: Sumatoria de riesgos Extremos | B13: =+COUNTIF('MAPA CALOR INHERENTE'!$E$6:$E$26,'4. PEFIL RIESGO DEL PROCESO'!G13) -> 1 | C13: =+B13/$B$17 -> 0.066666667 | D13: =+COUNTIF('MAPA CALOR RESIDUAL'!$G$7:$G$26,'4. PEFIL RIESGO DEL PROCESO'!G13) -> 0 | E13: =+D13/$D$17 -> 0 | G13: Extremo
A14: Sumatoria de riesgos altos | B14: =+COUNTIF('MAPA CALOR INHERENTE'!$E$6:$E$26,'4. PEFIL RIESGO DEL PROCESO'!G14) -> 7 | C14: =+B14/$B$17 -> 0.46666667 | D14: =+COUNTIF('MAPA CALOR RESIDUAL'!$G$7:$G$26,'4. PEFIL RIESGO DEL PROCESO'!G14) -> 0 | E14: =+D14/$D$17 -> 0 | G14: Alto
A15: Sumatoria de riesgos moderados | B15: =+COUNTIF('MAPA CALOR INHERENTE'!$E$6:$E$26,'4. PEFIL RIESGO DEL PROCESO'!G15) -> 7 | C15: =+B15/$B$17 -> 0.46666667 | D15: =+COUNTIF('MAPA CALOR RESIDUAL'!$G$7:$G$26,'4. PEFIL RIESGO DEL PROCESO'!G15) -> 14 | E15: =+D15/$D$17 -> 1 | G15: Moderado
A16: Sumatoria de Riesgos bajos | B16: =+COUNTIF('MAPA CALOR INHERENTE'!$E$6:$E$26,'4. PEFIL RIESGO DEL PROCESO'!G16) -> 0 | C16: =+B16/$B$17 -> 0 | D16: =+COUNTIF('MAPA CALOR RESIDUAL'!$G$7:$G$26,'4. PEFIL RIESGO DEL PROCESO'!G16) -> 0 | E16: =+D16/$D$17 -> 0 | G16: Bajo
A17: Total | B17: =+SUM(B13:B16) -> 15 | C17: =+B17/$B$17 -> 1 | D17: =+SUM(D13:D16) -> 14 | E17: =+D17/$D$17 -> 1
B19: RIESGO INHERENTE DEL PROCESO | D19: RIESGO RESIDUAL DEL PROCESO
B20: =+IF((B13/B17)>=0.2,G13,+IF(((B13/B17)+(B14/B17))>=0.3,G14,+IF(((B13/B17)+(B14/B17)+(B15/B17))>=0.4,G15,+IF((B13/B17)+(B14/B17)+(B15/B17)+(B16/B17)>=0.5,G16,"")))) -> Alto | D20: =+IF((D13/D17)>=0.2,G13,+IF(((D13/D17)+(D14/D17))>=0.3,G14,+IF(((D13/D17)+(D14/D17)+(D15/D17))>=0.4,G15,+IF((D13/D17)+(D14/D17)+(D15/D17)+(D16/D17)>=0.5,G16,"")))) -> Moderado
D22: Total Riesgos Críticos | E22: =SUM(D13:D14) -> 0

Sheet 1. ESTABLECIMIENTO CONTEXTO 
B1: MAPA DE RIESGOS DE PROCESO | L1: CÓDIGO: F-GM-29
L2: VERSIÓN: 05
L3: FECHA: 30/03/2022
L4: PÁGINA: 1 de 3
A6: 4.2.1. ESTABLECIMIENTO DEL CONTEXTO
A9: PROCESO: | D9: Gestión Social
A10: FECHA DE ELABORACIÓN O ACTUALIZACIÓN: | E10: Marzo de 2022
A11: RESPONSABLE (s) DE ELABORACIÓN O ACTUALIZACIÓN | F11: Subdirector Poblacional
A14: Factor: Externo/Interno/Proceso | D14: Variable | G14: ¿Cómo me puede afectar?
G15: CARÁCTER: Positivo/negativo | I15: Breve análisis
A16: Factor Externo | C16: Factor Externo | D16: Cambio normativo a nivel nacional, departamental y municipal relacionado con el objeto misional del Instituto | G16: POSITIVO | H16: POSITIVO | I16: Amplia posibilidades de atención a los hogares Permite la articulación con la norma nacional Garantías para la atención a los hogares
A17: Factor Externo | C17: Factor Interno | D17: Cambio normativo a nivel nacional, departamental y municipal relacionado con el objeto misional del Instituto | G17: NEGATIVO | H17: NEGATIVO | I17: Este factor no está bajo el control del proceso El cambio no es para toda la población Afectación en la consecución de metas y objetivos debido a las actualizaciones normativas
A18: Factor Externo | C18: Factor de proceso | D18: Insuficiente oferta de vivienda de interés prioritario -VIP- | G18: NEGATIVO | I18: Especulación en el mercado inmobiliario Poca accesibilidad de las familias al subsidio municipal de vivienda No tener proyectos desde el Isvimed para la población
A19: Factor Externo | D19: Dificultad para el acceso a la vivienda por parte de los hogares por no capacidad de cierres financieros | G19: NEGATIVO | I19: Incumplimiento de metas
A20: Factor Externo | D20: Transferencia presupuestal de la Alcaldía | G20: NEGATIVO | I20: Insuficiente presupuesto limitando la atención a la demanda de la población
A21: Factor Externo | D21: Transferencia presupuestal de la Alcaldía | G21: POSITIVO | I21: Permite funcionamiento y acompañamiento social de la población Entrega de soluciones habitacionales con valor agregado con el acompañamiento social
A22: Factor Externo | D22: Retraso del gobierno nacional en el proceso de reasignación del subsidio familiar de vivienda a los hogares beneficiarios | G22: NEGATIVO | H22: Se desvirtúa el cumplimiento de obligaciones de los hogares Desvirtúa intencionalidad del objeto del subsidio Dificultad para coordinar los tiempos del ente territorial (Isvimed) y el gobierno nacional
A23: Factor Interno | D23: Falta de idoneidad, destrezas y habilidades en la selección de los proveedores para el apoyo a la gestión | G23: NEGATIVO | I23: Incumplimiento del objeto misional de la entidad Afectación de las actividades realizadas desde el proceso desde todos los componentes Incidencia en el cumplimiento de los objetivos de desempeño y funciones del personal vinculado Incremento en el número de evaluaciones de proveedores por debajo del rango esperado
A24: Factor Externo | D24: Dificultad en el acceso y acompañamiento a las comunidades por pendientes históricos sin subsanar (jurídicos y técnicos) | G24: NEGATIVO | I24: Desconfianza en las intervenciones Mala reputación Desligimitidad en las comunidades como Isvimed
A25: Factor Externo | D25: Debilidad en la caracterización de la población a acompañar | G25: NEGATIVO | I25: Falencias en las bases de datos y la interpretación de las mismas
A26: Factor Externo | D26: Gestión de relaciones | G26: POSITIVO | I26: Actualmente se cuenta con articulaciones interinstitucionales e intersectoriales fuertes para el desarrollo del acompañamiento social a la población Reconocimiento de las comunidades del quehacer institucional
A27: Factor Interno | D27: Trabajo en equipo | G27: POSITIVO | I27: Articulación en las acciones que desarrolla el equipo
A28: Factor Externo | D28: Dinámicas cambiantes del territorio y la población | G28: POSITIVO | I28: Ser dinámicos, adaptarnos al cambio, obliga actualización permanente en metodologías de intervención Valorar, reconocer nuestro aporte a la construcción de ciudad
A29: Factor Interno | D29: Cambios en la estructura organizacional | G29: NEGATIVO | I29: Afectación en las dinámicas de los procesos por los cambios en la estructura del equipo
A30: Factor Interno | D30: Cambios en la estructura organizacional | G30: POSITIVO | I30: Ubicación del personal de acuerdo con su idoneidad y necesidades del proceso
A31: Factor Externo | D31: Fallos judiciales contradictorios de la norma vigente | G31: NEGATIVO | I31: Cumplimiento del fallo judicial contradictorios con el procedimiento y procesos definidos, retrasando entrega a otras familias, reasignación. Criterios subjetivos de los jueces y desapropiación normativa municipal
A32: Factor Externo | D32: Afectación zonas de riesgo por cambios climáticos | G32: NEGATIVO | I32: Incrementa demanda de atención de familias
A33: Factor Externo | D33: Mentalidad de la población y condiciones socioculturales de vulnerabilidad | G33: NEGATIVO | I33: Afecta acceso de la población a los subsidios, asumir corresponsabilidad y sostenibilidad de los procesos
A34: Factor Interno | D34: Equipo empoderado y apropiado del quehacer | G34: POSITIVO | I34: Con sentido de pertenencia Propósito común, claridad de los objetivos Proactivo Con disposición para aprender
... A43: Factor Externo | D43: Inducción, re-inducción y entrenamiento | G43: NEGATIVO | I43: Falta de conocimiento del personal de la plataforma institucional Desconocimiento de la efectividad del programa de inducción establecido por la entidad

Sheet 2. MATRIZ DE RIESGOS
D1: MAPA DE RIESGOS DE PROCESO | AG1: CÓDIGO: F-GM-29
AG2: VERSIÓN: 05
AG3: FECHA: 30/03/2022
AG4: PÁGINA: 3 de 3
A6: PROCESO: | D6: Gestión Social | F6: FECHA DE ELABORACIÓN O ACTUALIZACIÓN: | H6: marzo de 2025
F7: RESPONSABLE (s) DE ELABORACIÓN O ACTUALIZACIÓN | H7: Subdirector Poblacional
A8: OBJETIVO: | D8: Realizar acompañamiento social a la población según las particularidades de cada una de las líneas de acción establecidas al interior de la Subdirección Poblacional. Estas son: - Modelo de intervención social - Postulaciones y entregas - Acompañamiento social a vivienda nueva - Acompañamiento social a población sujeto de reasentamiento por obra pública - Acompañamiento social a población sujeto de reasentamiento por riesgo, desastre y/o calamidad - Acompañamiento social a copropiedades y verificación de habitabilidad
A9: ALCANCE: | D9: Desde la caracterización social de la población hasta el acompañamiento social posterior a la materialización del Subsidio Distrital de Vivienda, cuando aplique.
A11: 4.2. IDENTIFICACION DEL RIESGO | J11: 4.3. EVALUACIÓN DEL RIESGO | AI11: 4.4. TRATAMIENTO DEL RIESGO | AK11: SEGUIMIENTO TRIMESTRE 1 DE 2026 | AL11: RELACIÓN DE EVIDENCIAS IMPORTANTE:- RELACIONAR LOS ENLACES SOBRE MATERIALIZACION DE RIESGOS Y SOBRE APLICACIÓN DE CONTROLES -LAS EVIDENCIAS SOBRE APLICACIÓN DE CONTROLES SON LAS QUE SE ENCUENTRAN EN LA COLUMNA X - RELACIONARLAS UNA A UNA CON EL ENLACE CORRESPONDIENTE. | AM11: SEGUIMIENTO TRIMESTRE 2 DE 2026 | AN11: RELACIÓN DE EVIDENCIAS IMPORTANTE:- RELACIONAR LOS ENLACES SOBRE MATERIALIZACION DE RIESGOS Y SOBRE APLICACIÓN DE CONTROLES -LAS EVIDENCIAS SOBRE APLICACIÓN DE CONTROLES SON LAS QUE SE ENCUENTRAN EN LA COLUMNA X - RELACIONARLAS UNA A UNA CON EL ENLACE CORRESPONDIENTE. | AO11: SEGUIMIENTO TRIMESTRE 3 DE 2026 | AP11: RELACIÓN DE EVIDENCIAS IMPORTANTE:- RELACIONAR LOS ENLACES SOBRE MATERIALIZACION DE RIESGOS Y SOBRE APLICACIÓN DE CONTROLES -LAS EVIDENCIAS SOBRE APLICACIÓN DE CONTROLES SON LAS QUE SE ENCUENTRAN EN LA COLUMNA X - RELACIONARLAS UNA A UNA CON EL ENLACE CORRESPONDIENTE. | AQ11: SEGUIMIENTO TRIMESTRE 4 DE 2026 | AR11: RELACIÓN DE EVIDENCIAS IMPORTANTE:- RELACIONAR LOS ENLACES SOBRE MATERIALIZACION DE RIESGOS Y SOBRE APLICACIÓN DE CONTROLES -LAS EVIDENCIAS SOBRE APLICACIÓN DE CONTROLES SON LAS QUE SE ENCUENTRAN EN LA COLUMNA X - RELACIONARLAS UNA A UNA CON EL ENLACE CORRESPONDIENTE.
A12: Referencia | B12: Objetivo / Requisto de referencia | C12: Temática / Linea de Acción | D12: 1. QUE? | E12: 2. COMO SE REFLEJA? | F12: 3. POR QUE? (Evento Potencial Principal) | G12: Descripción del Riesgo (1+2+3) | H12: Causa (Evento Potencial Intermedio) | I12: Clasificación del Riesgo | J12: EVALUACION DE RIESGO INHERENTE | O12: VALORACION DE CONTROLES | AD12: EVALUACION DEL RIESGO RESIDUAL | AI12: Tratamiento | AJ12: FORMULAR ACCIONES ESPECIFICAS
J13: Probabilidad Inherente | K13: % | L13: Impacto Inherente | M13: % | N13: Zona de Riesgo Inherente | O13: No. Control | P13: Descripción del Control (Medidas Actuales) | Q13: Afectación | R13: Atributos | Y13: Probabilidad Residual | Z13: Probabilidad Residual | AA13: % | AB13: Impacto Residual | AC13: % | AD13: Probabilidad Residual Final | AE13: % | AF13: Impacto Residual Final | AG13: % | AH13: Zona de Riesgo Residual Final | AJ13: VER ACCION #
R14: Tipo | S14: Implementación | T14: Calificación | U14: Documentación | V14: Frecuencia | W14: Evidencia | X14: Nombre de la evidencia
A15: GS6 | B15: Lograr un 80% de cumplimiento del cronograma de asistencias técnicas de acompañamiento social a copropiedades. | C15: Acompañamiento social a copropiedades | D15: Afectación reputacional del Insituto | E15: Por insatisfacción de la comunidad respecto a la falta de acompañamiento para lograr una mejor convivencia en los proyectos habitacionales que desarrolla el Instituto de acuerdo a la ley de propiedad horizontal. | F15: Debido a que no se cumple con las actividades de acompañamiento social a copropiedades programadas para la vigencia. Debido a que las actividades de acompañamiento no se relizan de acuerdo con los protocolos y guías metodológicas | G15: Posibilidad de afectación reputacional del Insituto reflejada en la insatisfacción de la comunidad respecto a la falta de acompañamiento para favorecer la adaptación al nuevo hábitat y lograr una mejor convivencia en los proyectos habitacionales que desarrolla el Instituto de acuerdo a la ley de propiedad horizontal. Lo anterior, debido a que no se cumple con las actividades de acompañamiento social a copropiedades programadas para la vigencia, y a que las actividades de acompañamiento no se relizan de acuerdo con los protocolos y guías metodológicas. | H15: 1. Programación inadecuada de actividades. | I15: Gestión | J15: Alta | K15: =IF(J15="","",IF(J15="Muy Baja",0.2,IF(J15="Baja",0.4,IF(J15="Media",0.6,IF(J15="Alta",0.8,IF(J15="Muy Alta",1,)))))) -> 0.8 | L15: Moderado | M15: =IF(L15="","",IF(L15="Leve",0.2,IF(L15="Menor",0.4,IF(L15="Moderado",0.6,IF(L15="Mayor",0.8,IF(L15="Catastrófico",1,)))))) -> 0.6 | N15: =IF(OR(AND(J15="Muy Baja",L15="Leve"),AND(J15="Muy Baja",L15="Menor"),AND(J15="Baja",L15="Leve")),"Bajo",IF(OR(AND(J15="Muy Baja",L15="Moderado"),AND(J15="Baja",L15="Menor"),AND(J15="Baja",L15="Moderado"),AND(J15="Media",L15="Leve"),AND(J15="Media",L15="Menor"),AND(J15="Media",L15="Moderado"),AND(J15="Alta",L15="Leve"),AND(J15="Alta",L15="Menor")),"Moderado",IF(OR(AND(J15="Muy Baja",L15="Mayor"),AND(J15="Baja",L15="Mayor"),AND(J15="Media",L15="Mayor"),AND(J15="Alta",L15="Moderado"),AND(J15="Alta",L15="Mayor"),AND(J15="Muy Alta",L15="Leve"),AND(J15="Muy Alta",L15="Menor"),AND(J15="Muy Alta",L15="Moderado"),AND(J15="Muy Alta",L15="Mayor")),"Alto",IF(OR(AND(J15="Muy Baja",L15="Catastrófico"),AND(J15="Baja",L15="Catastrófico"),AND(J15="Media",L15="Catastrófico"),AND(J15="Alta",L15="Catastrófico"),AND(J15="Muy Alta",L15="Catastrófico")),"Extremo","")))) -> Alto | O15: 1 | P15: El profesional líder de copropiedades define anualmente las metas de la línea de acción de acuerdo con las necesidades de cada copropiedad, las directrices institucionales y el desempeño de los indicadores. Con base en lo anterior, elabora una programación mensual de actividades, a la cual se realiza seguimiento de manera continua. El seguimiento queda consignado en el plan táctico de la línea de acción. | Q15: =IF(OR(R15="Preventivo",R15="Detectivo"),"Probabilidad",IF(R15="Correctivo","Impacto","")) -> Probabilidad | R15: Preventivo | S15: Manual | T15: =IF(AND(R15="Preventivo",S15="Automático"),"50%",IF(AND(R15="Preventivo",S15="Manual"),"40%",IF(AND(R15="Detectivo",S15="Automático"),"40%",IF(AND(R15="Detectivo",S15="Manual"),"30%",IF(AND(R15="Correctivo",S15="Automático"),"35%",IF(AND(R15="Correctivo",S15="Manual"),"25%","")))))) -> 40% | U15: Sin Documentar | V15: Aleatoria | W15: Con Registro | X15: Plan táctico de la línea de acción Programación mensual de actividades | Y15: =IFERROR(IF(Q15="Probabilidad",(K15-(+K15*T15)),IF(Q15="Impacto",K15,"")),"") -> 0.48 | Z15: =IFERROR(IF(Y15="","",IF(Y15<=0.2,"Muy Baja",IF(Y15<=0.4,"Baja",IF(Y15<=0.6,"Media",IF(Y15<=0.8,"Alta","Muy Alta"))))),"") -> Media | AA15: =+Y15 -> 0.48 | AB15: =IFERROR(IF(AC15="","",IF(AC15<=0.2,"Leve",IF(AC15<=0.4,"Menor",IF(AC15<=0.6,"Moderado",IF(AC15<=0.8,"Mayor","Catastrófico"))))),"") -> Moderado | AC15: =IFERROR(IF(Q15="Impacto",(M15-(+M15*T15)),IF(Q15="Probabilidad",M15,"")),"") -> 0.6 | AD15: =IFERROR(IF(AE15=0,"",IF(AND(AE15>0,AE15<=0.2),"Muy Baja",IF(AE15<=0.4,"Baja",IF(AE15<=0.6,"Media",IF(AE15<=0.8,"Alta","Muy Alta"))))),"") -> Muy Baja | AE15: =MIN(Y15:Y22) -> 0.015676416 | AF15: =IFERROR(IF(AG15=0,"",IF(AND(AG15>0,AG15<=0.2),"Leve",IF(AG15<=0.4,"Menor",IF(AG15<=0.6,"Moderado",IF(AG15<=0.8,"Mayor","Catastrófico"))))),"") -> Moderado | AG15: =MIN(AC15:AC22) -> 0.6 | AH15: =IFERROR(IF(OR(AND(AD15="Muy Baja",AF15="Leve"),AND(AD15="Muy Baja",AF15="Menor"),AND(AD15="Baja",AF15="Leve")),"Bajo",IF(OR(AND(AD15="Muy Baja",AF15="Moderado"),AND(AD15="Baja",AF15="Menor"),AND(AD15="Baja",AF15="Moderado"),AND(AD15="Media",AF15="Leve"),AND(AD15="Media",AF15="Menor"),AND(AD15="Media",AF15="Moderado"),AND(AD15="Alta",AF15="Leve"),AND(AD15="Alta",AF15="Menor")),"Moderado",IF(OR(AND(AD15="Muy Baja",AF15="Mayor"),AND(AD15="Baja",AF15="Mayor"),AND(AD15="Media",AF15="Mayor"),AND(AD15="Alta",AF15="Moderado"),AND(AD15="Alta",AF15="Mayor"),AND(AD15="Muy Alta",AF15="Leve"),AND(AD15="Muy Alta",AF15="Menor"),AND(AD15="Muy Alta",AF15="Moderado"),AND(AD15="Muy Alta",AF15="Mayor")),"Alto",IF(OR(AND(AD15="Muy Baja",AF15="Catastrófico"),AND(AD15="Baja",AF15="Catastrófico"),AND(AD15="Media",AF15="Catastrófico"),AND(AD15="Alta",AF15="Catastrófico"),AND(AD15="Muy Alta",AF15="Catastrófico")),"Extremo","")))),"") -> Moderado | AI15: Reducir (mitigar) | AK15: ¿El riesgo y sus causas continúan vigentes de acuerdo al contexto? El riesgo y sus causas siguen vigentes, ya que en este primer trimestre la línea de Acompañamiento Social a Copropiedades y Verificación de Habitabilidad, desarrollo 91 asistencias técnicas, que vinculan aproximadamente a 1885 personas, con el acompañamiento social antes durante y después por parte del equipo de profesionales en los proyectos habitacionales entregados recientemente, por entregar, y a demanda en otras copropiedades con más tiempo de entrega especialmente para asesoría y/o participación en asambleas ordinarias. Se materializó el Riesgo? (Evento Potencial Principal. Columna F): No se materializa el Evento Potencial Principal, ya que se cumple con las actividades definidas en el plan táctico y acorde al manual de acompañamiento social a copropiedades. Se materializaron las causas? (Eventos Potenciales Intermedios. Columna H): No se materializan los Eventos Potenciales Intermedios, ya que el plan táctico define adecuadamente las acciones y actividades de la línea, el personal contratado es idóneo y con conocimiento de los protocolos y guías metodológicas, y se cuenta con los recursos básicos a nivel institucional para desarrollar las actividades de la línea en mención. Los Controles están bien diseñados, se aplican conforme al diseño y son efectivos? Los controles están adecuadamente diseñados y se aplican correctamente, ya que la profesional responsable de la Línea definió metas plasmadas en el plan táctico y se le hace seguimiento mensual, también cuentan con los recursos logísticos, de trasporte y talento humano requerido desde dicha línea. A su vez, la profesional responsable realiza los estudios previos y garantiza la idoneidad del personal en el proceso de contratación de los contratos vigentes. Se contrato al mismo equipo, por lo tanto, no fue necesario realizar la inducción, porque este equipo maneja las acciones de la línea y actúa en el marco de los protocolos definidos, además, utilizando los servicios de seguridad cuando lo considera pertinente. Que acciones propones o se están llevando a cabo para gestionar los riesgos y las causas que se materializaron? (Si no aplica colocar NA) N.A. Que acciones propones o se están llevando a cabo para fortalecer los controles? (Revisa también si se establecieron acciones en la columna AJ) Continuar cualificando la implementación del acompañamiento social en las copropiedades gerenciadas por la administración distrital. | AL15: "Plan Táctico de Copropiedades: https://isvimedgovco.sharepoint.com/:x:/s/8Poblacional/IQD4AJJSr3W0S4UQjPS0cKTRATmB8eoUgoXj7n6Vi2srR6s?e=MMKzCA Actividades Externas Enero https://isvimedgovco.sharepoint.com/:x:/s/8Poblacional/IQAv-t7kxF64TbTAykUEYDv5ASD_8yC6zgHhZ3GhEYFnHQg?e=gqJxWt Actividades Externas Febrero https://isvimedgovco.sharepoint.com/:x:/s/8Poblacional/IQDrjuQXWo49S7KrXYSKtVjsAeuQ5Qpmjq88jfI97KqudeQ?e=QhHVLK Actividades Externas Marzo https://isvimedgovco.sharepoint.com/:x:/s/8Poblacional/IQAlKYdALz_OTqPEqeG57anmAVqC6QAthsSPQU3SDYdiVJ0?e=S3pylA Contratacion equipo: https://isvimedgovco.sharepoint.com/:f:/s/8Poblacional/IgDetUP4nnreS7cOkh-2a_TMAZ96PrGfBqTF65DqmkgWVhU?e=j37byW | AM15: Se materializó el Riesgo? (Ver evento potencial principal en Columna F. Relacionar detalles de la materialización - que, como, cuando, donde): No se materializó el riesgo, ya que se cumplió con las actividades de acompañamiento social programadas para el segundo trimestre de 2026, además las actividades se realizaron en el marco del cumplimiento de los protocolos y guías metodológicas definidas en esta línea. Los Controles están bien diseñados, se aplican de acuerdo al diseño y son efectivos? (Ver controles en la columna P / Concluir frente a cada control) Los controles sí se encuentran debidamente diseñados y fueron efectivos, así: 1. La profesional líder de copropiedades dinamizó el cumplimiento de las actividades del plan táctico de la linea de acción y del cronograma de actividades mensuales, actualizando los diferentes seguimientos. 2. El funcionamiento de la línea está acorde al Plan Anual de Adquisisiones, de acuerdo a los seguimientos realizados. 4. El equipo de profesionales de copropiedades realiza las actividades en el marco del cumplimiento del P-GS-09 PROCEDIMIENTO PARA EL ACOMPANAMIENTO SOCIAL A COPROPIEDADES Y VERIFICACION DE HABITABILIDAD, para abril ingresa una nueva profesional contratista y recibe la inducción general. 5.1. El equipo de profesionsales conocen y aplican acciones de prevención del riesgo público en sus actividades en campo. 5.2. Para este trimestre no se requirio acompañamiento de los motorizados, sin embargo en los proyectos habitacionales en los que se realizaron actividades de acompañamiento social, hubo presencia de los vigilantes, cuando estos estaban en el proyecto. 6.1. Desde la subdirectora Poblacional se verificaron los estudios previos y los certificados de idoneidad del personal contratado en dicha subdirección. 6.2. Se hace la evaluación de proveedores del equipo de profesionales de la línea de acompañamiento social a copropiedades del primer semestre de 2026. 7. El profesional líder de la línea de copropiedades verificó que el proceso precontractual y contractual para la contratación de personal se realizó de acuerdo a los tiempos establecidos en el Plan Anual de Adquisiciones. Qué acciones propones o se están llevando a cabo para gestionar el riesgo que se materializó? (Si no aplica colocar N/A) N/A. Qué acciones propones o se están llevando a cabo para fortalecer los controles? (En el caso de que tener Acciones de mejora / Acciones correctivas en proceso, relacionar el avance. Si tienes acciones específicas a desarrollar en la columna AJ, también relacionar el avance) Se esta realizando lo descrito en el control 4, de acuerdo a la ejecución de actividades del plan táctico y el cronograma de actividades. | AN15: "Plan Táctico de Copropiedades: https://isvimedgovco.sharepoint.com/:x:/s/8Poblacional/IQD4AJJSr3W0S4UQjPS0cKTRATmB8eoUgoXj7n6Vi2srR6s?e=MMKzCA Cronograma de actividades: https://isvimedgovco.sharepoint.com/:x:/r/sites/8Poblacional-05.Copropiedades/Documentos%20compartidos/05.Copropiedades/00.%202026%20ACOMPA%C3%91AMIENTO%20SOCIAL%20A%20COPROPIEDADES%20Y%20VERIFICACI%C3%93N%20DE%20HABITABILIDAD/CRONOGRAMA%20DE%20ACTIVIDADES/CRONOGRAMA%20DE%20ACTIVIDADES%20COPROPIEDADES%202026.xlsx?d=w7a17553e4c0444059280837c2e18c432&csf=1&web=1&e=UbG1EQ Acompañamiento social abril https://isvimedgovco.sharepoint.com/:x:/s/8Poblacional/IQAKHiGR9jIQRZCqPtsJIVFSAU1Z7ZY-M_vLQJJWvY0RiKo?e=jwhOYb Acompañamiento social mayo https://isvimedgovco.sharepoint.com/:x:/s/8Poblacional/IQDZ9r2kWT1BT5Sm2EAXFoW6AdpzqRPqQLEYrH1pWErTNd8?e=Jd81mR Acompañamiento social junio https://isvimedgovco.sharepoint.com/:x:/s/8Poblacional/IQBvcsPiIuVUT6CfHfxjOolwAbLTyHgPejZ3ffcNRERF5G0?e=zIjeIA Evaluación de Proveedores 2026-I https://isvimedgovco.sharepoint.com/:f:/r/sites/8Poblacional-05.Copropiedades/Documentos%20compartidos/05.Copropiedades/00.%202026%20ACOMPA%C3%91AMIENTO%20SOCIAL%20A%20COPROPIEDADES%20Y%20VERIFICACI%C3%93N%20DE%20HABITABILIDAD/EVALUACI%C3%93N%20DE%20PROVEEDORES%202026-I?csf=1&web=1&e=bam4VT | AO15: Se materializó el Riesgo? (Ver evento potencial principal en Columna F. Relacionar detalles de la materialización - que, como, cuando, donde): Los Controles están bien diseñados, se aplican de acuerdo al diseño y son efectivos? (Ver controles en la columna P / Concluir frente a cada control) Que acciones propones o se están llevando a cabo para gestionar el riesgo que se materializó? (Si no aplica colocar N/A) Que acciones propones o se están llevando a cabo para fortalecer los controles? (En el caso de que tener Acciones de mejora / Acciones correctivas en proceso, relacionar el avance. Si tienes acciones específicas a desarrollar en la columna AJ, también relacionar el avance) | AQ15: Se materializó el Riesgo? (Ver evento potencial principal en Columna F. Relacionar detalles de la materialización - que, como, cuando, donde): Los Controles están bien diseñados, se aplican de acuerdo al diseño y son efectivos? (Ver controles en la columna P / Concluir frente a cada control) Que acciones propones o se están llevando a cabo para gestionar el riesgo que se materializó? (Si no aplica colocar N/A) Que acciones propones o se están llevando a cabo para fortalecer los controles? (En el caso de que tener Acciones de mejora / Acciones correctivas en proceso, relacionar el avance. Si tienes acciones específicas a desarrollar en la columna AJ, también relacionar el avance)
H16: 2. Ausencia de presupuesto para actividades logísticas y transporte. | O16: 2 | P16: El profesional líder de la línea de copropiedades identifica las necesidades de recursos para cada vigencia y las somete a aprobación por parte de la Subdirección Poblacional, para su posterior inclusión en el plan anual de adquisiciones. Así mismo, revisa periódicamente el cumplimiento de los términos establecidos en el mismo | Q16: =IF(OR(R16="Preventivo",R16="Detectivo"),"Probabilidad",IF(R16="Correctivo","Impacto","")) -> Probabilidad | R16: Preventivo | S16: Manual | T16: =IF(AND(R16="Preventivo",S16="Automático"),"50%",IF(AND(R16="Preventivo",S16="Manual"),"40%",IF(AND(R16="Detectivo",S16="Automático"),"40%",IF(AND(R16="Detectivo",S16="Manual"),"30%",IF(AND(R16="Correctivo",S16="Automático"),"35%",IF(AND(R16="Correctivo",S16="Manual"),"25%","")))))) -> 40% | U16: Sin Documentar | V16: Aleatoria | W16: Con Registro | X16: Formato de solicitud de necesidades Plan de Anual de Adquisiciones y evidencias de ejecución | Y16: =IFERROR(IF(AND(Q15="Probabilidad",Q16="Probabilidad"),(AA15-(+AA15*T16)),IF(Q16="Probabilidad",(K15-(+K15*T16)),IF(Q16="Impacto",AA15,""))),"") -> 0.288 | Z16: =IFERROR(IF(Y16="","",IF(Y16<=0.2,"Muy Baja",IF(Y16<=0.4,"Baja",IF(Y16<=0.6,"Media",IF(Y16<=0.8,"Alta","Muy Alta"))))),"") -> Baja | AA16: =+Y16 -> 0.288 | AB16: =IFERROR(IF(AC16="","",IF(AC16<=0.2,"Leve",IF(AC16<=0.4,"Menor",IF(AC16<=0.6,"Moderado",IF(AC16<=0.8,"Mayor","Catastrófico"))))),"") -> Moderado | AC16: =IFERROR(IF(AND(Q15="Impacto",Q16="Impacto"),(AC15-(+AC15*T16)),IF(Q16="Impacto",($M$15-(+$M$15*T16)),IF(Q16="Probabilidad",AC15,""))),"") -> 0.6
H17: 4. Desconocimiento de protocolos y guías metodológicas. | O17: 4 | P17: El profesional líder de copropiedades realiza inducción general de la línea de acción a los profesionales que hacen parte del equipo. Adicionalmente, realiza capacitación específica sobre las actividades a desarrollar y las metodologías utilizadas. Para ello, diligencia formato de registro de asistencia como evidencia. Documento a socializar: MANUAL DE ACOMPAÑAMIENTO SOCIAL A COPROPIEDADES | Q17: =IF(OR(R17="Preventivo",R17="Detectivo"),"Probabilidad",IF(R17="Correctivo","Impacto","")) -> Probabilidad | R17: Preventivo | S17: Manual | T17: =IF(AND(R17="Preventivo",S17="Automático"),"50%",IF(AND(R17="Preventivo",S17="Manual"),"40%",IF(AND(R17="Detectivo",S17="Automático"),"40%",IF(AND(R17="Detectivo",S17="Manual"),"30%",IF(AND(R17="Correctivo",S17="Automático"),"35%",IF(AND(R17="Correctivo",S17="Manual"),"25%","")))))) -> 40% | U17: Sin Documentar | V17: Aleatoria | W17: Con Registro | X17: Registro de asistencia | Y17: =IFERROR(IF(AND(Q16="Probabilidad",Q17="Probabilidad"),(AA16-(+AA16*T17)),IF(Q17="Probabilidad",(K16-(+K16*T17)),IF(Q17="Impacto",AA16,""))),"") -> 0.1728 | Z17: =IFERROR(IF(Y17="","",IF(Y17<=0.2,"Muy Baja",IF(Y17<=0.4,"Baja",IF(Y17<=0.6,"Media",IF(Y17<=0.8,"Alta","Muy Alta"))))),"") -> Muy Baja | AA17: =+Y17 -> 0.1728 | AB17: =IFERROR(IF(AC17="","",IF(AC17<=0.2,"Leve",IF(AC17<=0.4,"Menor",IF(AC17<=0.6,"Moderado",IF(AC17<=0.8,"Mayor","Catastrófico"))))),"") -> Moderado | AC17: =IFERROR(IF(AND(Q16="Impacto",Q17="Impacto"),(AC16-(+AC16*T17)),IF(Q17="Impacto",($M$15-(+$M$15*T17)),IF(Q17="Probabilidad",AC16,""))),"") -> 0.6
H18: 5. Problemas de seguridad para ingresar a campo (orden público, riesgo de salud, desastres naturales, etc.) | O18: 5.1. | P18: El profesional líder de la línea de copropiedades verifica que los profesionales que asistan a actividades de campo conozcan el programa de prevención de riesgo público, lo cual se realiza en los distintos espacios de capacitación y reunión de la línea de acción. Documento a socializar: PROGRAMA DE PREVENCIÓN DE RIESGO PÚBLICO | Q18: =IF(OR(R18="Preventivo",R18="Detectivo"),"Probabilidad",IF(R18="Correctivo","Impacto","")) -> Probabilidad | R18: Preventivo | S18: Manual | T18: =IF(AND(R18="Preventivo",S18="Automático"),"50%",IF(AND(R18="Preventivo",S18="Manual"),"40%",IF(AND(R18="Detectivo",S18="Automático"),"40%",IF(AND(R18="Detectivo",S18="Manual"),"30%",IF(AND(R18="Correctivo",S18="Automático"),"35%",IF(AND(R18="Correctivo",S18="Manual"),"25%","")))))) -> 40% | U18: Sin Documentar | V18: Aleatoria | W18: Con Registro | X18: Actas de equipo primario. Registros de asistencia | Y18: =IFERROR(IF(AND(Q17="Probabilidad",Q18="Probabilidad"),(AA17-(+AA17*T18)),IF(AND(Q17="Impacto",Q18="Probabilidad"),(#REF!-(+#REF!*T18)),IF(Q18="Impacto",AA17,""))),"") -> 0.10368 | Z18: =IFERROR(IF(Y18="","",IF(Y18<=0.2,"Muy Baja",IF(Y18<=0.4,"Baja",IF(Y18<=0.6,"Media",IF(Y18<=0.8,"Alta","Muy Alta"))))),"") -> Muy Baja | AA18: =+Y18 -> 0.10368 | AB18: =IFERROR(IF(AC18="","",IF(AC18<=0.2,"Leve",IF(AC18<=0.4,"Menor",IF(AC18<=0.6,"Moderado",IF(AC18<=0.8,"Mayor","Catastrófico"))))),"") -> Moderado | AC18: =IFERROR(IF(AND(Q17="Impacto",Q18="Impacto"),(AC17-(+AC17*T18)),IF(AND(Q17="Probabilidad",Q18="Impacto"),(#REF!-(+#REF!*T18)),IF(Q18="Probabilidad",AC17,""))),"") -> 0.6
O19: 5.2. | P19: El profesional líder de la línea de copropiedades informa mediante correo electrónico al asesor de seguridad sobre las actividades a desarrollar en campo y el personal que asistirá, con el fin de coordinar la seguridad de las actividades a desarrollar. El consultor de seguridad realiza requerimiento a la empresa de seguridad solicitando acompañamiento mediante vigilancia (motorizado - vigilante) al personal que ejecuta las actividades de copropiedades. | Q19: =IF(OR(R19="Preventivo",R19="Detectivo"),"Probabilidad",IF(R19="Correctivo","Impacto","")) -> Probabilidad | R19: Preventivo | S19: Manual | T19: =IF(AND(R19="Preventivo",S19="Automático"),"50%",IF(AND(R19="Preventivo",S19="Manual"),"40%",IF(AND(R19="Detectivo",S19="Automático"),"40%",IF(AND(R19="Detectivo",S19="Manual"),"30%",IF(AND(R19="Correctivo",S19="Automático"),"35%",IF(AND(R19="Correctivo",S19="Manual"),"25%","")))))) -> 40% | U19: Sin Documentar | V19: Aleatoria | W19: Con Registro | X19: Correo electrónico con el requerimiento a la empresa de seguridad. Registro fotográfico del acompañamiento de la empresa de seguridad al evento. | Y19: =IFERROR(IF(AND(Q18="Probabilidad",Q19="Probabilidad"),(AA18-(+AA18*T19)),IF(AND(Q18="Impacto",Q19="Probabilidad"),(AA17-(+AA17*T19)),IF(Q19="Impacto",AA18,""))),"") -> 0.062208 | Z19: =IFERROR(IF(Y19="","",IF(Y19<=0.2,"Muy Baja",IF(Y19<=0.4,"Baja",IF(Y19<=0.6,"Media",IF(Y19<=0.8,"Alta","Muy Alta"))))),"") -> Muy Baja | AA19: =+Y19 -> 0.062208 | AB19: =IFERROR(IF(AC19="","",IF(AC19<=0.2,"Leve",IF(AC19<=0.4,"Menor",IF(AC19<=0.6,"Moderado",IF(AC19<=0.8,"Mayor","Catastrófico"))))),"") -> Moderado | AC19: =IFERROR(IF(AND(Q18="Impacto",Q19="Impacto"),(AC18-(+AC18*T19)),IF(AND(Q18="Probabilidad",Q19="Impacto"),(AC17-(+AC17*T19)),IF(Q19="Probabilidad",AC18,""))),"") -> 0.6
H20: 6. Falta de competencia e idoneidad del personal contratado. | O20: 6.1. | P20: El Director, Subdirector o Jefe de Oficina, en relación con cada contratación de personal que se requiera para la prestación de servicios profesionales y de apoyo a la gestión, verifica en el Estudio Previo respectivo, que la idoneidad y experiencia requerida sea coherente con las obligaciones contractuales a desarrollar, y procede a firmarlo en consecuencia. Documentado en: MANUAL DE CONTRATACIÓN | Q20: =IF(OR(R20="Preventivo",R20="Detectivo"),"Probabilidad",IF(R20="Correctivo","Impacto","")) -> Probabilidad | R20: Preventivo | S20: Manual | T20: =IF(AND(R20="Preventivo",S20="Automático"),"50%",IF(AND(R20="Preventivo",S20="Manual"),"40%",IF(AND(R20="Detectivo",S20="Automático"),"40%",IF(AND(R20="Detectivo",S20="Manual"),"30%",IF(AND(R20="Correctivo",S20="Automático"),"35%",IF(AND(R20="Correctivo",S20="Manual"),"25%","")))))) -> 40% | U20: Documentado | V20: Aleatoria | W20: Con Registro | X20: Estudio previo de contratos de prestación servicios profesionales y de apoyo a la gestión persona natural | Y20: =IFERROR(IF(AND(Q19="Probabilidad",Q20="Probabilidad"),(AA19-(+AA19*T20)),IF(AND(Q19="Impacto",Q20="Probabilidad"),(AA18-(+AA18*T20)),IF(Q20="Impacto",AA19,""))),"") -> 0.0373248 | Z20: =IFERROR(IF(Y20="","",IF(Y20<=0.2,"Muy Baja",IF(Y20<=0.4,"Baja",IF(Y20<=0.6,"Media",IF(Y20<=0.8,"Alta","Muy Alta"))))),"") -> Muy Baja | AA20: =+Y20 -> 0.0373248 | AB20: =IFERROR(IF(AC20="","",IF(AC20<=0.2,"Leve",IF(AC20<=0.4,"Menor",IF(AC20<=0.6,"Moderado",IF(AC20<=0.8,"Mayor","Catastrófico"))))),"") -> Moderado | AC20: =IFERROR(IF(AND(Q19="Impacto",Q20="Impacto"),(AC19-(+AC19*T20)),IF(AND(Q19="Probabilidad",Q20="Impacto"),(AC18-(+AC18*T20)),IF(Q20="Probabilidad",AC19,""))),"") -> 0.6
O21: 6.2. | P21: Los supervisores realizan de manera semestral la evaluación de proveedores, en donde se contrasta el cumplimiento de las obligaciones contractuales con el desempeño de las mismas. En el caso de una mala calificación, el contratista debe ser reevaluado y el supervisor debe generar compromisos y aspectos a mejorar. Documentado en: FGI-12 Y FGI-13. FORMATOS DE EVALUACIÓN DE PROVEEDORES | Q21: =IF(OR(R21="Preventivo",R21="Detectivo"),"Probabilidad",IF(R21="Correctivo","Impacto","")) -> Probabilidad | R21: Detectivo | S21: Manual | T21: =IF(AND(R21="Preventivo",S21="Automático"),"50%",IF(AND(R21="Preventivo",S21="Manual"),"40%",IF(AND(R21="Detectivo",S21="Automático"),"40%",IF(AND(R21="Detectivo",S21="Manual"),"30%",IF(AND(R21="Correctivo",S21="Automático"),"35%",IF(AND(R21="Correctivo",S21="Manual"),"25%","")))))) -> 30% | U21: Documentado | V21: Aleatoria | W21: Con Registro | X21: Registros de evaluación de proveedores | Y21: =IFERROR(IF(AND(Q20="Probabilidad",Q21="Probabilidad"),(AA20-(+AA20*T21)),IF(AND(Q20="Impacto",Q21="Probabilidad"),(AA19-(+AA19*T21)),IF(Q21="Impacto",AA20,""))),"") -> 0.02612736 | Z21: =IFERROR(IF(Y21="","",IF(Y21<=0.2,"Muy Baja",IF(Y21<=0.4,"Baja",IF(Y21<=0.6,"Media",IF(Y21<=0.8,"Alta","Muy Alta"))))),"") -> Muy Baja | AA21: =+Y21 -> 0.02612736 | AB21: =IFERROR(IF(AC21="","",IF(AC21<=0.2,"Leve",IF(AC21<=0.4,"Menor",IF(AC21<=0.6,"Moderado",IF(AC21<=0.8,"Mayor","Catastrófico"))))),"") -> Moderado | AC21: =IFERROR(IF(AND(Q20="Impacto",Q21="Impacto"),(AC20-(+AC20*T21)),IF(AND(Q20="Probabilidad",Q21="Impacto"),(AC19-(+AC19*T21)),IF(Q21="Probabilidad",AC20,""))),"") -> 0.6
H22: 7. Demoras en la contratación de personal para la gestión social a copropiedades. | O22: 7 | P22: El profesional líder de la línea de copropiedades verifica que el proceso precontractual y contractual para la contratación de personal (contratos de prestación de servicios profesionales y de apoyo a la gestión), se realice de acuerdo a los tiempos establecidos en el Plan Anual de Adquisiciones. | Q22: =IF(OR(R22="Preventivo",R22="Detectivo"),"Probabilidad",IF(R22="Correctivo","Impacto","")) -> Probabilidad | R22: Preventivo | S22: Manual | T22: =IF(AND(R22="Preventivo",S22="Automático"),"50%",IF(AND(R22="Preventivo",S22="Manual"),"40%",IF(AND(R22="Detectivo",S22="Automático"),"40%",IF(AND(R22="Detectivo",S22="Manual"),"30%",IF(AND(R22="Correctivo",S22="Automático"),"35%",IF(AND(R22="Correctivo",S22="Manual"),"25%","")))))) -> 40% | U22: Sin Documentar | V22: Aleatoria | W22: Con Registro | X22: Estudios previos y anexos Minuta de contratos | Y22: =IFERROR(IF(AND(Q21="Probabilidad",Q22="Probabilidad"),(AA21-(+AA21*T22)),IF(AND(Q21="Impacto",Q22="Probabilidad"),(AA20-(+AA20*T22)),IF(Q22="Impacto",AA21,""))),"") -> 0.015676416 | Z22: =IFERROR(IF(Y22="","",IF(Y22<=0.2,"Muy Baja",IF(Y22<=0.4,"Baja",IF(Y22<=0.6,"Media",IF(Y22<=0.8,"Alta","Muy Alta"))))),"") -> Muy Baja | AA22: =+Y22 -> 0.015676416 | AB22: =IFERROR(IF(AC22="","",IF(AC22<=0.2,"Leve",IF(AC22<=0.4,"Menor",IF(AC22<=0.6,"Moderado",IF(AC22<=0.8,"Mayor","Catastrófico"))))),"") -> Moderado | AC22: =IFERROR(IF(AND(Q21="Impacto",Q22="Impacto"),(AC21-(+AC21*T22)),IF(AND(Q21="Probabilidad",Q22="Impacto"),(AC20-(+AC20*T22)),IF(Q22="Probabilidad",AC21,""))),"") -> 0.6
A23: GS8 | B23: Lograr un 95% de asignación del subsidio distrital de arrendamiento temporal con respecto a los hogares viabilizados. | C23: Acompañamiento social a población sujeto de reasentamiento por riesgo, desastre y/o calamidad (Arrendamiento temporal) | D23: Afectación económica y reputacional | E23: Indebida asignación del Subsidio Distrital de Arrendamiento Temporal (detrimento patrimonial) - Hallazgos disciplinarios y penales por parte de los entes de control. - El costo social (perdida del derecho) asociado a la perdida de la oportunidad para la asignación del Subsidio Distrital de Arrendamiento Temporal - SDAT a hogares que cumplen con los requisitos legales. | F23: Debido a la asignación / destinación del Subsidio Distrital de Arrendamiento Temporal - SDAT sin el cumplimiento de los requisitos legales | G23: Posibilidad de afectación económica y reputacional del Instituto reflejada en la indebida asignación del Subsidio Distrital de Arrendamiento Temporal (detrimento patrimonial), en hallazgos disciplinarios y penales por parte de los entes de control, así como en el costo social (perdida del derecho) asociado a la perdida de la oportunidad para la asignación del Subsidio Distrital de Arrendamiento Temporal - SDAT a hogares que cumplen con los requisitos legales. Lo anterior, debido a la asignación / destinación del Subsidio Distrital de Arrendamiento Temporal - SDAT sin el cumplimiento de los requisitos legales. | H23: 1. Indebida verificación de los requisitos establecidos en la norma vigente con respecto al subsidio en mención. | I23: Fiscal | J23: Alta | K23: =IF(J23="","",IF(J23="Muy Baja",0.2,IF(J23="Baja",0.4,IF(J23="Media",0.6,IF(J23="Alta",0.8,IF(J23="Muy Alta",1,)))))) -> 0.8 | L23: Moderado | M23: =IF(L23="","",IF(L23="Leve",0.2,IF(L23="Menor",0.4,IF(L23="Moderado",0.6,IF(L23="Mayor",0.8,IF(L23="Catastrófico",1,)))))) -> 0.6 | N23: =IF(OR(AND(J23="Muy Baja",L23="Leve"),AND(J23="Muy Baja",L23="Menor"),AND(J23="Baja",L23="Leve")),"Bajo",IF(OR(AND(J23="Muy baja",L23="Moderado"),AND(J23="Baja",L23="Menor"),AND(J23="Baja",L23="Moderado"),AND(J23="Media",L23="Leve"),AND(J23="Media",L23="Menor"),AND(J23="Media",L23="Moderado"),AND(J23="Alta",L23="Leve"),AND(J23="Alta",L23="Menor")),"Moderado",IF(OR(AND(J23="Muy Baja",L23="Mayor"),AND(J23="Baja",L23="Mayor"),AND(J23="Media",L23="Mayor"),AND(J23="Alta",L23="Moderado"),AND(J23="Alta",L23="Mayor"),AND(J23="Muy Alta",L23="Leve"),AND(J23="Muy Alta",L23="Menor"),AND(J23="Muy Alta",L23="Moderado"),AND(J23="Muy Alta",L23="Mayor")),"Alto",IF(OR(AND(J23="Muy Baja",L23="Catastrófico"),AND(J23="Baja",L23="Catastrófico"),AND(J23="Media",L23="Catastrófico"),AND(J23="Alta",L23="Catastrófico"),AND(J23="Muy Alta",L23="Catastrófico")),"Extremo","")))) -> Alto | O23: 1 | P23: Los responsables de la verificación de requisitos para el otorgamiento del subsidio,verifican a los hogares postulados al subsidio, y validan el tipo de afiliación a la seguridad social de los integrantes mayores de edad de cada hogar. Esta validación se realiza a través del Sistema de Consulta de la Base de Datos Única de Afiliados del Sistema General de Seguridad Social en Salud (BDUA). Se verifica además, que el hogar no haya recibido un subsidio para vivienda de las cajas de compensación y se revisa en catastro a nivel nacional para verificar que las familias no posean otras viviendas distintas de la que fueron evacuadas. En caso que se identifiquen personas afiliadas al régimen contributivo como cotizantes, esto significa que dichas personas perciben ingresos ya sea a través de un contrato laboral o como independientes. Esta metodología de verificación facilita la identificación de aquellos integrantes del hogar que perciben ingresos para poder establecer el valor total de los mismos. Aquellos hogares con ingresos que superan los 2 SMMLV o que poseen vivienda, son los que no pueden acceder al Subsidio Distrital de Arrendamiento Temporal - SDAT. Hasta dos meses posterior a la notificación de los incumplimientos, el hogar puede aclarar la situación para obtener el subsidio. Documentado en: M-GS-05 - MANUAL PARA APLICACION DEL SUBSIDIO DE ARRENDAMIENTO TEMPORAL | Q23: =IF(OR(R23="Preventivo",R23="Detectivo"),"Probabilidad",IF(R23="Correctivo","Impacto","")) -> Probabilidad | R23: Preventivo | S23: Manual | T23: =IF(AND(R23="Preventivo",S23="Automático"),"50%",IF(AND(R23="Preventivo",S23="Manual"),"40%",IF(AND(R23="Detectivo",S23="Automático"),"40%",IF(AND(R23="Detectivo",S23="Manual"),"30%",IF(AND(R23="Correctivo",S23="Automático"),"35%",IF(AND(R23="Correctivo",S23="Manual"),"25%","")))))) -> 40% | U23: Documentado | V23: Continua | W23: Con Registro | X23: Base de datos inicial con potenciales beneficiarios del subsidio enviado por el operador. Base de datos definitiva con verificaciones adicionales del BDUA, catastro nacional, cajas de compensación. | Y23: =IFERROR(IF(Q23="Probabilidad",(K23-(+K23*T23)),IF(Q23="Impacto",K23,"")),"") -> 0.48 | Z23: =IFERROR(IF(Y23="","",IF(Y23<=0.2,"Muy Baja",IF(Y23<=0.4,"Baja",IF(Y23<=0.6,"Media",IF(Y23<=0.8,"Alta","Muy Alta"))))),"") -> Media | AA23: =+Y23 -> 0.48 | AB23: =IFERROR(IF(AC23="","",IF(AC23<=0.2,"Leve",IF(AC23<=0.4,"Menor",IF(AC23<=0.6,"Moderado",IF(AC23<=0.8,"Mayor","Catastrófico"))))),"") -> Moderado | AC23: =IFERROR(IF(Q23="Impacto",(M23-(+M23*T23)),IF(Q23="Probabilidad",M23,"")),"") -> 0.6 | AD23: =IFERROR(IF(AE23=0,"",IF(AND(AE23>0,AE23<=0.2),"Muy Baja",IF(AE23<=0.4,"Baja",IF(AE23<=0.6,"Media",IF(AE23<=0.8,"Alta","Muy Alta"))))),"") -> Muy Baja | AE23: =MIN(Y23:Y26) -> 0.10368 | AF23: =IFERROR(IF(AG23=0,"",IF(AND(AG23>0,AG23<=0.2),"Leve",IF(AG23<=0.4,"Menor",IF(AG23<=0.6,"Moderado",IF(AG23<=0.8,"Mayor","Catastrófico"))))),"") -> Moderado | AG23: =MIN(AC23:AC26) -> 0.6 | AH23: =IFERROR(IF(OR(AND(AD23="Muy Baja",AF23="Leve"),AND(AD23="Muy Baja",AF23="Menor"),AND(AD23="Baja",AF23="Leve")),"Bajo",IF(OR(AND(AD23="Muy Baja",AF23="Moderado"),AND(AD23="Baja",AF23="Menor"),AND(AD23="Baja",AF23="Moderado"),AND(AD23="Media",AF23="Leve"),AND(AD23="Media",AF23="Menor"),AND(AD23="Media",AF23="Moderado"),AND(AD23="Alta",AF23="Leve"),AND(AD23="Alta",AF23="Menor")),"Moderado",IF(OR(AND(AD23="Muy Baja",AF23="Mayor"),AND(AD23="Baja",AF23="Mayor"),AND(AD23="Media",AF23="Mayor"),AND(AD23="Alta",AF23="Moderado"),AND(AD23="Alta",AF23="Mayor"),AND(AD23="Muy Alta",AF23="Leve"),AND(AD23="Muy Alta",AF23="Menor"),AND(AD23="Muy Alta",AF23="Moderado"),AND(AD23="Muy Alta",AF23="Mayor")),"Alto",IF(OR(AND(AD23="Muy Baja",AF23="Catastrófico"),AND(AD23="Baja",AF23="Catastrófico"),AND(AD23="Media",AF23="Catastrófico"),AND(AD23="Alta",AF23="Catastrófico"),AND(AD23="Muy Alta",AF23="Catastrófico")),"Extremo","")))),"") -> Moderado | AI23: Reducir (mitigar) | AK23: El riesgo y sus causas continúan vigentes de acuerdo al contexto? (Ver Columnas F y H): El riesgo y sus causas continúan siendo vigentes, ya que actualmente se cuenta con el ITM como operador del SDAT (CONVENIO INTERADMINISTRATIVO 619 de 2025), para este trimestre se cuenta con un total de 2,248 hogares beneficiarios del SDAT, realizando los desembolsos de manera permanente y en el marco del cumplimiento de requisitos. Resolución de asignación del SDAT vigencia 2026 N° 123 de 2026. Se materializó el Riesgo? (Evento Potencial Principal. Columna F): No se ha materializado el riesgol, ya que, en este periodo de tiempo, no hemos tenido hallazgos en el proceso de asignación de los subsidios realizados en este trimestre, y estas asignaciones se han realizado en el marco de los procedimientos establecidos, sin superar el valor máximo del SDAT establecido en la resolución N°122 de 2026 Se materializaron las causas? (Eventos Potenciales Intermedios. Columna H): No se han materializado los Eventos Potenciales Intermedios, ya que, en este período de tiempo, no hemos recibido por parte del operador ningún informe que dé cuenta de la materialización de dichos eventos. Los Controles están bien diseñados, se aplican conforme al diseño y son efectivos? (Ver controles en la columna P / Concluir frente a cada control) Los controles están adecuadamente diseñados y se aplican correctamente, ya que el operador verifica periódicamente el cumplimiento de requisitos, solicita a las familias el certificado de ingresos o certificados laborales, realiza el análisis de cumplimiento y de acuerdo a los resultados, en caso de incumplimiento remite la resolución de terminación al Isvimed, donde se verifican que las resoluciones correspondan al impedimento que le hacen al grupo familiar y que la cancelación concuerde con el informe de notificación, se hacen los trámites respectivos para aprobar las resoluciones y notificar a las familias. La profesional responsable realizó los estudios previos correspondiente a la contratación del operador del SDAT donde se debe garantizar la idoneidad del personal contratado para la ejecución de las actividades que permiten el correcto pago del SDAT y desde la supervisión se generan periódicamente reuniones con los equipos. Que acciones propones o se están llevando a cabo para gestionar los riesgos y las causas que se materializaron? (Si no aplica colocar NA) N.A. Que acciones propones o se están llevando a cabo para fortalecer los controles? (Revisa también si se establecieron acciones en la columna AJ) Desde el proceso de supervisión del contrato con el ITM, se realiza un seguimiento y se implementan las mejoras correspondientes. | AL23: Convenio Operacion SDAT: https://isvimedgovco.sharepoint.com/:b:/s/8Poblacional/IQC9cTEFXpe2TZfQZQP4oXM2AdV2DfKWB60nKd9nltOjtgc?e=glo5dU Resolucion Valor del SDAT: https://isvimedgovco.sharepoint.com/:b:/s/8Poblacional/IQC9cTEFXpe2TZfQZQP4oXM2AdV2DfKWB60nKd9nltOjtgc?e=glo5dU Resolución asignación SDAT: https://isvimedgovco.sharepoint.com/:b:/s/8Poblacional/IQC9cTEFXpe2TZfQZQP4oXM2AdV2DfKWB60nKd9nltOjtgc?e=glo5dU | AM23: Se materializó el Riesgo? (Ver evento potencial principal en Columna F. Relacionar detalles de la materialización - que, como, cuando, donde): No se ha materializado el riesgo ya que, no hemos tenido hallazgos en el proceso de asignación de los subsidios de arrendamiento temporal realizados en este trimestre. Actualmente se cuenta con el ITM como operador del SDAT (CONVENIO INTERADMINISTRATIVO 619 de 2025), para este trimestre se cuenta con un total de 2.215 hogares beneficiarios del SDAT, a los cuales se les están realizando los desembolsos de manera permanente y en el marco del cumplimiento de requisitos. Resolución de asignación del SDAT vigencia 2026 N° 123 de 2026. Los Controles están bien diseñados, se aplican de acuerdo al diseño y son efectivos? (Ver controles en la columna P / Concluir frente a cada control) 1. Las asignaciones se han realizado en el marco de los procedimientos establecidos, y realizando la verificación del cumplimiento de requisitos de los hogares en el marco del decreto vigente, la Resolución de asignación del SDAT vigencia 2026 N° 123 de 2026 y el M-GS-05 - MANUAL PARA APLICACION DEL SUBSIDIO DE ARRENDAMIENTO TEMPORAL. 2. Se ha realizado la revisión de los los perfiles, las hojas de vida en los estudios previos y de la idoneidad en el proceso de contratación. 3. La supervisión del contrato del operador del proyecto de arrendamiento temporal, realizó las capacitaciones (jurídica, social, pagos, vinculaciones, cambio de vivienda, impedimentos) del semestre en enero de 2026. 4. El equipo de profesionales encargado del proceso verificó que el jefe de hogar haya firmado el acta de compromiso y la declaración juramentada donde asegura que la información y documentos suministrados son verídicos. Qué acciones propones o se están llevando a cabo para gestionar el riesgo que se materializó? (Si no aplica colocar N/A) N/A. Qué acciones propones o se están llevando a cabo para fortalecer los controles? (En el caso de que tener Acciones de mejora / Acciones correctivas en proceso, relacionar el avance. Si tienes acciones específicas a desarrollar en la columna AJ, también relacionar el avance) Continuar haciendo lo informado en el control 1. | AN23: Convenio Operacion SDAT: https://isvimedgovco.sharepoint.com/:b:/s/8Poblacional/IQC9cTEFXpe2TZfQZQP4oXM2AdV2DfKWB60nKd9nltOjtgc?e=glo5dU Resolución asignación SDAT: https://isvimedgovco.sharepoint.com/:b:/s/8Poblacional/IQAj0vEvwgV6RoZiHFVmW_tKAZt0tJQZU8LNp_js6kOaXQc?e=PSd8Yd https://isvimedgovco.sharepoint.com/:b:/s/8Poblacional/IQCyIEGY8OqaRp4YGbcjJWNpARWEuASfNKDTfi6P432Sfcc?e=lutEBc base de datos de familias beneficiadas de SDATa junio: https://isvimedgovco.sharepoint.com/:x:/s/8Poblacional/IQBXnX9t53WDQar_vvWqf474AUutwOGLPTDpdY1euS3-ooI?e=3P5Vhu Capacitaciones del semestre I-2026: https://isvimedgovco.sharepoint.com/:f:/s/8Poblacional/IgDvT3TVpd-HR6F_UWRCPZ7kAYprVcG11i-r-_Vr3VJNsUg?e=hzdyBl | AO23: Se materializó el Riesgo? (Ver evento potencial principal en Columna F. Relacionar detalles de la materialización - que, como, cuando, donde): Los Controles están bien diseñados, se aplican de acuerdo al diseño y son efectivos? (Ver controles en la columna P / Concluir frente a cada control) Que acciones propones o se están llevando a cabo para gestionar el riesgo que se materializó? (Si no aplica colocar N/A) Que acciones propones o se están llevando a cabo para fortalecer los controles? (En el caso de que tener Acciones de mejora / Acciones correctivas en proceso, relacionar el avance. Si tienes acciones específicas a desarrollar en la columna AJ, también relacionar el avance) | AQ23: Se materializó el Riesgo? (Ver evento potencial principal en Columna F. Relacionar detalles de la materialización - que, como, cuando, donde): Los Controles están bien diseñados, se aplican de acuerdo al diseño y son efectivos? (Ver controles en la columna P / Concluir frente a cada control) Que acciones propones o se están llevando a cabo para gestionar el riesgo que se materializó? (Si no aplica colocar N/A) Que acciones propones o se están llevando a cabo para fortalecer los controles? (En el caso de que tener Acciones de mejora / Acciones correctivas en proceso, relacionar el avance. Si tienes acciones específicas a desarrollar en la columna AJ, también relacionar el avance)
H24: 1.1. Falta de competencia e idoneidad del personal contratado. | O24: 1.1. | P24: El contratista jurídico de la Subdirección Poblacional revisa que los perfiles del cargo solicitado se incluyan en los estudios previos, así como de la revisión de las hojas de vida en concordancia con dichos perfiles. Para la verificación de idoneidad se utiliza el formato de verificación de idoneidad | Q24: =IF(OR(R24="Preventivo",R24="Detectivo"),"Probabilidad",IF(R24="Correctivo","Impacto","")) -> Probabilidad | R24: Preventivo | S24: Manual | T24: =IF(AND(R24="Preventivo",S24="Automático"),"50%",IF(AND(R24="Preventivo",S24="Manual"),"40%",IF(AND(R24="Detectivo",S24="Automático"),"40%",IF(AND(R24="Detectivo",S24="Manual"),"30%",IF(AND(R24="Correctivo",S24="Automático"),"35%",IF(AND(R24="Correctivo",S24="Manual"),"25%","")))))) -> 40% | U24: Sin Documentar | V24: Aleatoria | W24: Con Registro | X24: Estudio previo de cada contrato. Formato de verificación de idoneidad en el expediente de cada contrato | Y24: =IFERROR(IF(AND(Q23="Probabilidad",Q24="Probabilidad"),(AA23-(+AA23*T24)),IF(Q24="Probabilidad",(K23-(+K23*T24)),IF(Q24="Impacto",AA23,""))),"") -> 0.288 | Z24: =IFERROR(IF(Y24="","",IF(Y24<=0.2,"Muy Baja",IF(Y24<=0.4,"Baja",IF(Y24<=0.6,"Media",IF(Y24<=0.8,"Alta","Muy Alta"))))),"") -> Baja | AA24: =+Y24 -> 0.288 | AB24: =IFERROR(IF(AC24="","",IF(AC24<=0.2,"Leve",IF(AC24<=0.4,"Menor",IF(AC24<=0.6,"Moderado",IF(AC24<=0.8,"Mayor","Catastrófico"))))),"") -> Moderado | AC24: =IFERROR(IF(AND(Q23="Impacto",Q24="Impacto"),(AC23-(+AC23*T24)),IF(Q24="Impacto",($M$15-(+$M$15*T24)),IF(Q24="Probabilidad",AC23,""))),"") -> 0.6
H25: 1.2. Falta de conocimiento y aplicación de la normatividad aplicable y de los procedimientos internos relacionados con el Subsidio Distrital de Arrendamiento Temporal. | O25: 1.2. | P25: La supervisión colegiada del contrato del operador del proyecto de arrendamiento temporal, realiza capacitación al inicio del contrato y mínimo una semestral sobre la normatividad aplicable y los procedimientos internos relacionados con el Subsidio Distrital de Arrendamiento Temporal. | Q25: =IF(OR(R25="Preventivo",R25="Detectivo"),"Probabilidad",IF(R25="Correctivo","Impacto","")) -> Probabilidad | R25: Preventivo | S25: Manual | T25: =IF(AND(R25="Preventivo",S25="Automático"),"50%",IF(AND(R25="Preventivo",S25="Manual"),"40%",IF(AND(R25="Detectivo",S25="Automático"),"40%",IF(AND(R25="Detectivo",S25="Manual"),"30%",IF(AND(R25="Correctivo",S25="Automático"),"35%",IF(AND(R25="Correctivo",S25="Manual"),"25%","")))))) -> 40% | U25: Sin Documentar | V25: Continua | W25: Con Registro | X25: Registro de asistencia a la capacitación. Memoria audiovisual de la capacitación. | Y25: =IFERROR(IF(AND(Q24="Probabilidad",Q25="Probabilidad"),(AA24-(+AA24*T25)),IF(AND(Q24="Impacto",Q25="Probabilidad"),(AA23-(+AA23*T25)),IF(Q25="Impacto",AA24,""))),"") -> 0.1728 | Z25: =IFERROR(IF(Y25="","",IF(Y25<=0.2,"Muy Baja",IF(Y25<=0.4,"Baja",IF(Y25<=0.6,"Media",IF(Y25<=0.8,"Alta","Muy Alta"))))),"") -> Muy Baja | AA25: =+Y25 -> 0.1728 | AB25: =IFERROR(IF(AC25="","",IF(AC25<=0.2,"Leve",IF(AC25<=0.4,"Menor",IF(AC25<=0.6,"Moderado",IF(AC25<=0.8,"Mayor","Catastrófico"))))),"") -> Moderado | AC25: =IFERROR(IF(AND(Q24="Impacto",Q25="Impacto"),(AC24-(+AC24*T25)),IF(AND(Q24="Probabilidad",Q25="Impacto"),(AC23-(+AC23*T25)),IF(Q25="Probabilidad",AC24,""))),"") -> 0.6
H26: 2. Aporte de documentación falsa por parte de los hogares. | O26: 2 | P26: El profesional encargado del proceso verifica que el jefe de hogar haya firmado el acta de compromiso y la declaración juramentada donde asegura que la información y documentos suministrados son verídicos. | Q26: =IF(OR(R26="Preventivo",R26="Detectivo"),"Probabilidad",IF(R26="Correctivo","Impacto","")) -> Probabilidad | R26: Preventivo | S26: Manual | T26: =IF(AND(R26="Preventivo",S26="Automático"),"50%",IF(AND(R26="Preventivo",S26="Manual"),"40%",IF(AND(R26="Detectivo",S26="Automático"),"40%",IF(AND(R26="Detectivo",S26="Manual"),"30%",IF(AND(R26="Correctivo",S26="Automático"),"35%",IF(AND(R26="Correctivo",S26="Manual"),"25%","")))))) -> 40% | U26: Sin Documentar | V26: Continua | W26: Con Registro | X26: Documento de declaración juramentada y documento de acta de compromiso en carpeta de cada beneficiario | Y26: =IFERROR(IF(AND(Q25="Probabilidad",Q26="Probabilidad"),(AA25-(+AA25*T26)),IF(AND(Q25="Impacto",Q26="Probabilidad"),(AA24-(+AA24*T26)),IF(Q26="Impacto",AA25,""))),"") -> 0.10368 | Z26: =IFERROR(IF(Y26="","",IF(Y26<=0.2,"Muy Baja",IF(Y26<=0.4,"Baja",IF(Y26<=0.6,"Media",IF(Y26<=0.8,"Alta","Muy Alta"))))),"") -> Muy Baja | AA26: =+Y26 -> 0.10368 | AB26: =IFERROR(IF(AC26="","",IF(AC26<=0.2,"Leve",IF(AC26<=0.4,"Menor",IF(AC26<=0.6,"Moderado",IF(AC26<=0.8,"Mayor","Catastrófico"))))),"") -> Moderado | AC26: =IFERROR(IF(AND(Q25="Impacto",Q26="Impacto"),(AC25-(+AC25*T26)),IF(AND(Q25="Probabilidad",Q26="Impacto"),(AC24-(+AC24*T26)),IF(Q26="Probabilidad",AC25,""))),"") -> 0.6
