Workbook

Sheet 1. ESTABLECIMIENTO CONTEXTO 
B1: MAPA DE RIESGOS DE PROCESO | L1: CÓDIGO: F-GM-29
L2: VERSIÓN: 05
L3: FECHA: 30/03/2022
L4: PÁGINA: 1 de 3
A6: 4.2.1. ESTABLECIMIENTO DEL CONTEXTO
A9: PROCESO: | D9: Gestión Jurídica
A10: FECHA DE ELABORACIÓN O ACTUALIZACIÓN: | E10: Diciembre de 2021
A11: RESPONSABLE (s) DE ELABORACIÓN O ACTUALIZACIÓN | F11: Subdirector Jurídico
A14: Factor: Externo/Interno/Proceso | D14: Variable | G14: ¿Cómo me puede afectar?
G15: CARÁCTER: Positivo/negativo | I15: Breve análisis
A16: Factor Externo | C16: Factor Externo | D16: Problemas de seguridad y orden público. | G16: NEGATIVO | H16: POSITIVO | I16: Desde el proceso se desarrollan actividades que requieren de trabajo de campo, por parte de los servidores públicos lo cual puede afectar la integridad de los mismos.
A17: Factor Externo | C17: Factor Interno | D17: Alianzas, articulación, ambiente adecuado, negociación con lideres comunales | G17: POSITIVO | H17: NEGATIVO | I17: Permitirá un ambiente adecuado para el cumplimiento de los Programas y Proyectos institucionales
A18: Factor Externo | D18: Intereses diferentes al general | G18: NEGATIVO | I18: Favorecimiento a intereses particulares en sometimiento al poder que se ejerce desde lo político. También generaría falta de transparencia, no permitiendo el cumplimiento de objetivos del ISVIMED.
A19: Factor Externo | D19: Falta de articulación interinstitucional, para algunos procesos gestionados por la subdirección | G19: NEGATIVO | I19: Afecta los resultados en los objetivos del ISVIMED. No permite compartir información y ser asertivos en la toma de decisiones. Afecta el tema de la defensa jurídica en la toma de decisiones. Genera conflicto de competencias entre las entidades vinculadas de orden negativo. Genera mayor tramitología en la entrega de información. No unificación de criterios frente a los servicios prestados.
A20: Factor Externo | D20: Cambio de políticas y directrices de orden estrategico y operativo | G20: NEGATIVO | I20: Afectación en los indicadores, la continuidad de los procesos y proyectos. Rotación de los contratistas, perdida de información institucional, fuga de conocimiento.
A21: Factor Externo | D21: Cambio normativo | G21: NEGATIVO | I21: Genera inseguridad jurídica y reprocesos, o nuevos procesos, que requiere una estructura de funcionamiento nuevo.
A22: Factor Externo | D22: Reducción asignación presupuestal por parte del Municipio | G22: NEGATIVO | I22: No permite el cumplimiento cabal de los programas y proyectos del ISVIMED.
A23: Factor Interno | D23: Deficiencias en las estrategias comunicacionales internas. | G23: NEGATIVO | I23: Genera desinformación y afecta el ambiente laboral. Conflictos internos.
A24: Factor Interno | D24: Falta de unidad de criterios jurídicos | G24: NEGATIVO | I24: Retrasa los procesos, afecta el trabajo en equipo, inflexibilidad.
A25: Factor Interno | D25: Falta de capacitación. | G25: NEGATIVO | I25: Afecta el adecuado cumplimiento de funciones y obligaciones por parte del funcionario, afectando el cumplimiento de los programas y proyectos del ISVIMED. Afecta el cumplimiento oportuno de las tareas. Limita la innovación dentro del proceso.
A26: Factor Interno | D26: Carga laboral - trabajo bajo presión | G26: NEGATIVO | I26: Entrega de información no fidedigna, genera la comisión de errores de manera frecuente; afecta la salud del funcionario, estrés, afecta el ambiente laboral.
A27: Factor Interno | D27: Diferencias en el estilo de liderazgo | G27: NEGATIVO | I27: Dificulta el trabajo en equipo enfocado en la consecución de los resultados y en el respeto interpersonal y los procesos de planeación interna.
A28: Factor Interno | D28: Desarticulación de procesos/flujos de información | G28: NEGATIVO | I28: Genera reprocesos, retrasos, resultados negativos, afecta el cumplimiento de metas, afecta el clima laboral, inoportunidad en la entrega de la información.
A29: Factor Interno | D29: Falta de recursos óptimos para el cumplimiento de las funciones asignadas | G29: NEGATIVO | I29: Afecta el cumplimiento de los programas y proyectos del ISVIMED, lo cual se evidencia en la falta de personal de apoyo a la gestión de los procesos.
... A33: Factor Interno | D33: Faltas de competencias | G33: NEGATIVO | I33: Genera reprocesos, retrasos, resultados negativos, afecta el cumplimiento de metas, afecta el clima laboral, inoportunidad en la entrega de la información. Genera riesgo disciplinario, eventual perdida del empleo.

Sheet 2. MATRIZ DE RIESGOS
D1: MAPA DE RIESGOS DE PROCESO | AG1: CÓDIGO: F-GM-29
AG2: VERSIÓN: 05
AG3: FECHA: 30/03/2021
AG4: PÁGINA: 3 de 3
A6: PROCESO: | D6: Gestión Jurídica | F6: FECHA DE ELABORACIÓN O ACTUALIZACIÓN: | H6: Mayo de 2026
F7: RESPONSABLE (s) DE ELABORACIÓN O ACTUALIZACIÓN | H7: Subdirector Jurídico
A8: OBJETIVO: | D8: Apoyar jurídicamente a los diferentes procesos del Instituto, buscando que todas las actuaciones se gesten bajo la normatividad vigente en Colombia; promoviendo a su vez el mejoramiento continuo en el logro de resultados Institucionales.
A9: ALCANCE: | D9: Desde el analisis juridico del requerimiento hasta la finalizacion del respectivo trámite.
A11: 4.2. IDENTIFICACION DEL RIESGO | J11: 4.3. EVALUACIÓN DEL RIESGO | AI11: 4.4. TRATAMIENTO DEL RIESGO | AK11: SEGUIMIENTO TRIMESTRE 1 DE 2026 | AL11: RELACIÓN DE EVIDENCIAS IMPORTANTE:- RELACIONAR LOS ENLACES SOBRE MATERIALIZACION DE RIESGOS Y SOBRE APLICACIÓN DE CONTROLES -LAS EVIDENCIAS SOBRE APLICACIÓN DE CONTROLES SON LAS QUE SE ENCUENTRAN EN LA COLUMNA X - RELACIONARLAS UNA A UNA CON EL ENLACE CORRESPONDIENTE. | AM11: SEGUIMIENTO TRIMESTRE 2 DE 2026 | AN11: RELACIÓN DE EVIDENCIAS IMPORTANTE:- RELACIONAR LOS ENLACES SOBRE MATERIALIZACION DE RIESGOS Y SOBRE APLICACIÓN DE CONTROLES -LAS EVIDENCIAS SOBRE APLICACIÓN DE CONTROLES SON LAS QUE SE ENCUENTRAN EN LA COLUMNA X - RELACIONARLAS UNA A UNA CON EL ENLACE CORRESPONDIENTE. | AO11: SEGUIMIENTO TRIMESTRE 3 DE 2026 | AP11: RELACIÓN DE EVIDENCIAS IMPORTANTE:- RELACIONAR LOS ENLACES SOBRE MATERIALIZACION DE RIESGOS Y SOBRE APLICACIÓN DE CONTROLES -LAS EVIDENCIAS SOBRE APLICACIÓN DE CONTROLES SON LAS QUE SE ENCUENTRAN EN LA COLUMNA X - RELACIONARLAS UNA A UNA CON EL ENLACE CORRESPONDIENTE. | AQ11: SEGUIMIENTO TRIMESTRE 4 DE 2026 | AR11: RELACIÓN DE EVIDENCIAS IMPORTANTE:- RELACIONAR LOS ENLACES SOBRE MATERIALIZACION DE RIESGOS Y SOBRE APLICACIÓN DE CONTROLES -LAS EVIDENCIAS SOBRE APLICACIÓN DE CONTROLES SON LAS QUE SE ENCUENTRAN EN LA COLUMNA X - RELACIONARLAS UNA A UNA CON EL ENLACE CORRESPONDIENTE.
A12: Referencia | B12: Objetivo | C12: Temática / Línea de Acción | D12: 1. QUE? | E12: 2. COMO SE REFLEJA? | F12: 3. POR QUE? (Evento Potencial Principal) | G12: Descripción del Riesgo (1+2+3) | H12: Causa (Evento Potencial Intermedio) | I12: Clasificación del Riesgo | J12: EVALUACION DE RIESGO INHERENTE | O12: VALORACION DE CONTROLES | AD12: EVALUACION DEL RIESGO RESIDUAL | AI12: Tratamiento | AJ12: FORMULAR ACCIONES ESPECIFICAS
J13: Probabilidad Inherente | K13: % | L13: Impacto Inherente | M13: % | N13: Zona de Riesgo Inherente | O13: No. Control | P13: Descripción del Control (Medidas actuales) | Q13: Afectación | R13: Atributos | Y13: Probabilidad Residual | Z13: Probabilidad Residual | AA13: % | AB13: Impacto Residual | AC13: % | AD13: Probabilidad Residual Final | AE13: % | AF13: Impacto Residual Final | AG13: % | AH13: Zona de Riesgo Residual Final | AJ13: VER ACCION #
R14: Tipo | S14: Implementación | T14: Calificación | U14: Documentación | V14: Frecuencia | W14: Evidencia | X14: Nombre de la evidencia
A15: GJ11 | B15: beneficiar 1500 unidades prediales con la titulación de los lotes fiscales del sitio donde se encuentran, durante el cuatrienio 2024-2027 | C15: Titulación | D15: Posibilidad de afectación reputacional | E15: las unidades prediales que ocupan los lotes fiscales no pueden ser beneficiadas con la titulación y con otros programas como reconocimiento de edificaciones y mejoramiento de vivienda. el incumplimiento de metas relacionadas con el Plan de Desarrollo Distrital a cargo del Instituto. | F15: No es posible titular los lotes fiscales que han sido ocupados con vivienda de interés social | G15: Posibilidad de afectación reputacional reflejada en que las unidades prediales que ocupan los lotes fiscales no pueden ser beneficiadas con la titulación y con otros programas como reconocimiento de edificaciones y mejoramiento de vivienda, asi como en el incumplimiento de metas relacionadas con el Plan de Desarrollo Distrital a cargo del Instituto. Lo anterior, debido a que no es posible titular los lotes fiscales que han sido ocupados con vivienda de interés social. | H15: 1. Cambios normativos del legislador y/o conceptos de interpretación normativa por parte de las dependencias del Distrito que toman decisiones frente a la titulación de lotes fiscales (Lotes del Distrito) | I15: Gestión | J15: Media | K15: =IF(J15="","",IF(J15="Muy Baja",0.2,IF(J15="Baja",0.4,IF(J15="Media",0.6,IF(J15="Alta",0.8,IF(J15="Muy Alta",1,)))))) -> 0.6 | L15: Mayor | M15: =IF(L15="","",IF(L15="Leve",0.2,IF(L15="Menor",0.4,IF(L15="Moderado",0.6,IF(L15="Mayor",0.8,IF(L15="Catastrófico",1,)))))) -> 0.8 | N15: =IF(OR(AND(J15="Muy Baja",L15="Leve"),AND(J15="Muy Baja",L15="Menor"),AND(J15="Baja",L15="Leve")),"Bajo",IF(OR(AND(J15="Muy Baja",L15="Moderado"),AND(J15="Baja",L15="Menor"),AND(J15="Baja",L15="Moderado"),AND(J15="Media",L15="Leve"),AND(J15="Media",L15="Menor"),AND(J15="Media",L15="Moderado"),AND(J15="Alta",L15="Leve"),AND(J15="Alta",L15="Menor")),"Moderado",IF(OR(AND(J15="Muy Baja",L15="Mayor"),AND(J15="Baja",L15="Mayor"),AND(J15="Media",L15="Mayor"),AND(J15="Alta",L15="Moderado"),AND(J15="Alta",L15="Mayor"),AND(J15="Muy Alta",L15="Leve"),AND(J15="Muy Alta",L15="Menor"),AND(J15="Muy Alta",L15="Moderado"),AND(J15="Muy Alta",L15="Mayor")),"Alto",IF(OR(AND(J15="Muy Baja",L15="Catastrófico"),AND(J15="Baja",L15="Catastrófico"),AND(J15="Media",L15="Catastrófico"),AND(J15="Alta",L15="Catastrófico"),AND(J15="Muy Alta",L15="Catastrófico")),"Extremo","")))) -> Alto | O15: 1.1 | P15: Adaptar el procedimiento interno de titulación al cambio normativo del legislador o reglamentación administrativa por parte del Distrito de Medellín. El profesional especializado lider de la línea de acción verifica que el procedimiento de titulación se implemente de acuerdo con los nuevos cambios. | Q15: =IF(OR(R15="Preventivo",R15="Detectivo"),"Probabilidad",IF(R15="Correctivo","Impacto","")) -> Impacto | R15: Correctivo | S15: Manual | T15: =IF(AND(R15="Preventivo",S15="Automático"),"50%",IF(AND(R15="Preventivo",S15="Manual"),"40%",IF(AND(R15="Detectivo",S15="Automático"),"40%",IF(AND(R15="Detectivo",S15="Manual"),"30%",IF(AND(R15="Correctivo",S15="Automático"),"35%",IF(AND(R15="Correctivo",S15="Manual"),"25%","")))))) -> 25% | U15: Sin Documentar | V15: Aleatoria | W15: Con Registro | X15: Documentos actualizados ante el SGC Actas de equipos primarios en donde se verifica el cumplimiento de actividades que corresponden al documento (procedimiento) modificado | Y15: =IFERROR(IF(Q15="Probabilidad",(K15-(+K15*T15)),IF(Q15="Impacto",K15,"")),"") -> 0.6 | Z15: =IFERROR(IF(Y15="","",IF(Y15<=0.2,"Muy Baja",IF(Y15<=0.4,"Baja",IF(Y15<=0.6,"Media",IF(Y15<=0.8,"Alta","Muy Alta"))))),"") -> Media | AA15: =+Y15 -> 0.6 | AB15: =IFERROR(IF(AC15="","",IF(AC15<=0.2,"Leve",IF(AC15<=0.4,"Menor",IF(AC15<=0.6,"Moderado",IF(AC15<=0.8,"Mayor","Catastrófico"))))),"") -> Moderado | AC15: =IFERROR(IF(Q15="Impacto",(M15-(+M15*T15)),IF(Q15="Probabilidad",M15,"")),"") -> 0.6 | AD15: =IFERROR(IF(AE15=0,"",IF(AND(AE15>0,AE15<=0.2),"Muy Baja",IF(AE15<=0.4,"Baja",IF(AE15<=0.6,"Media",IF(AE15<=0.8,"Alta","Muy Alta"))))),"") -> Muy Baja | AE15: =MIN(Y15:Y21) -> 0.1512 | AF15: =IFERROR(IF(AG15=0,"",IF(AND(AG15>0,AG15<=0.2),"Leve",IF(AG15<=0.4,"Menor",IF(AG15<=0.6,"Moderado",IF(AG15<=0.8,"Mayor","Catastrófico"))))),"") -> Menor | AG15: =MIN(AC15:AC21) -> 0.3375 | AH15: =IFERROR(IF(OR(AND(AD15="Muy Baja",AF15="Leve"),AND(AD15="Muy Baja",AF15="Menor"),AND(AD15="Baja",AF15="Leve")),"Bajo",IF(OR(AND(AD15="Muy Baja",AF15="Moderado"),AND(AD15="Baja",AF15="Menor"),AND(AD15="Baja",AF15="Moderado"),AND(AD15="Media",AF15="Leve"),AND(AD15="Media",AF15="Menor"),AND(AD15="Media",AF15="Moderado"),AND(AD15="Alta",AF15="Leve"),AND(AD15="Alta",AF15="Menor")),"Moderado",IF(OR(AND(AD15="Muy Baja",AF15="Mayor"),AND(AD15="Baja",AF15="Mayor"),AND(AD15="Media",AF15="Mayor"),AND(AD15="Alta",AF15="Moderado"),AND(AD15="Alta",AF15="Mayor"),AND(AD15="Muy Alta",AF15="Leve"),AND(AD15="Muy Alta",AF15="Menor"),AND(AD15="Muy Alta",AF15="Moderado"),AND(AD15="Muy Alta",AF15="Mayor")),"Alto",IF(OR(AND(AD15="Muy Baja",AF15="Catastrófico"),AND(AD15="Baja",AF15="Catastrófico"),AND(AD15="Media",AF15="Catastrófico"),AND(AD15="Alta",AF15="Catastrófico"),AND(AD15="Muy Alta",AF15="Catastrófico")),"Extremo","")))),"") -> Bajo | AI15: Reducir (mitigar) | AK15: Se materializó el Riesgo? (Ver evento potencial principal en Columna F. Relacionar detalles de la materialización - que, como, cuando, donde): No se ha evidenciado materializacion del riesgo para este primer trimestre del año 2026. Los Controles están bien diseñados, se aplican de acuerdo al diseño y son efectivos? (Ver controles en la columna P / Concluir frente a cada control) *la identificacion tecnica y juridica de los lotes a ceder se esta llevando a cabo con los estudios de titulos y visitas de campo, los cuales han sido efectivos y bien diseñados como control. *El plan anual de adquisiciones a contemplado el personal necesario y se ha contratado los perfiles requeridos, por lo cual han sido efectivos estos dos controles (1-2) *los formatos y demas documentos que hacen parte del proceso se encuentran en el sitema de gestion de la calidad y se diligencian en debida forma en la ejecucion del programa, por lo cual han sid efectivos estos dos controles (3-4). *Frente al control 5 con los estudios tecnicos y juridicos al evidenciar inconsistencias catastrales se radican los oficios respectivos ante la entidad. Que acciones propones o se están llevando a cabo para gestionar el riesgo que se materializó? (Si no aplica colocar N/A) N/A Que acciones propones o se están llevando a cabo para fortalecer los controles? (En el caso de que tener Acciones de mejora / Acciones correctivas en proceso, relacionar el avance. Si tienes acciones específicas a desarrollar en la columna AJ, también relacionar el avance) Actas y registro de asistencia correspondiente a los equipos primarios titulación del mes de enero, febrero y marzo de 2026. | AL15: https://isvimedgovco.sharepoint.com/:f:/s/5Juridica-18.Titulacion/IgDuWwua8UgCTZnOAPNTSjN1AZrdS2IuJ0EkQloMDKarOPw?e=KMsAC1 | AM15: Se materializó el Riesgo? (Ver evento potencial principal en Columna F. Relacionar detalles de la materialización - que, como, cuando, donde): No se ha evidenciado materializacion del riesgo para este segundo trimestre del año 2026. Los Controles están bien diseñados, se aplican de acuerdo al diseño y son efectivos? (Ver controles en la columna P / Concluir frente a cada control) 1.1 Adaptar el procedimiento interno de titulación al cambio normativo del legislador o reglamentación administrativa por parte del Distrito de Medellín. El profesional especializado lider de la línea de acción verifica que el procedimiento de titulación se implemente de acuerdo con los nuevos cambios. se actulizó el procedimiento en calidad quedando en la version n°19 documento P-GJ-12 – Procedimiento de Cesión a Título Gratuito de Bienes Fiscales. 1.2 En el caso de conceptos con interpretación que contradice a ley, por parte de las dependencias del Distrito, gestionar espacios de conciliación para cambio de concepto en favor de la titulación. se remitieron oficios y correo electronico para los espacio de concertacion y consideracion de conceptos. 2.El profesional especializado lider de la línea de acción oficia a la entidad externa para que se genere el impulso registral. se proyectaron y radicaron los oficios respectivos a las ORIP NORTE y SUR Los contratistas de apoyo realizan la consulta VUR para realizar seguimiento al estado de registro del acto de cesión lo cual es registrado para control interno en la base de datos general de la meta de año en curso. 3.Los auxiliares de campo conforme a lista de chequeo en donde se relacionan los documentos que se deben aportar al expediente, hacen diligenciar la declaración juramentada de ocupación del lote. Los abogados antes de proyectar el acto administrativo revisan que los expedientes contengan los documentos requeridos para verificar cumpliento de requisitos. 4.El profesional especializado líder de la línea de acción realiza seguimiento sobre las respuestas a los oficios enviados a las dependencias arriba en mención, lo cual es registrado en la base de datos de control de lotes de mayor extensión. Frente a este control no se ha obtenido pronta respuestas se ha escalado a nivel directivo como alerta con la subsecretria de catastro y el DAP no se tienen respuestas en un corto tiempo. 5.Este tablero es utilizado para la toma decisiones en los distintos espacios institucionales como comités institucionales y equipos primarios. conforme a lo reportado en el tablero de control se han tomado decisiones para realizar alertas y gestionar rutas criticas. Que acciones propones o se están llevando a cabo para gestionar el riesgo que se materializó? (Si no aplica colocar N/A) N/A Que acciones propones o se están llevando a cabo para fortalecer los controles? (En el caso de que tener Acciones de mejora / Acciones correctivas en proceso, relacionar el avance. Si tienes acciones específicas a desarrollar en la columna AJ, también relacionar el avance) Actas y registro de asistencia correspondiente a los equipos primarios titulación del mes de abril, mayo y junio de 2026. | AN15: https://isvimedgovco.sharepoint.com/:f:/s/5Juridica-18.Titulacion/IgCDDwLjgx3hSo64O_MoZSNsAXYeuZaP9aAj1JkBByu2ZA0?e=LheeBx | AO15: Se materializó el Riesgo? (Ver evento potencial principal en Columna F. Relacionar detalles de la materialización - que, como, cuando, donde): Los Controles están bien diseñados, se aplican de acuerdo al diseño y son efectivos? (Ver controles en la columna P / Concluir frente a cada control) Que acciones propones o se están llevando a cabo para gestionar el riesgo que se materializó? (Si no aplica colocar N/A) Que acciones propones o se están llevando a cabo para fortalecer los controles? (En el caso de que tener Acciones de mejora / Acciones correctivas en proceso, relacionar el avance. Si tienes acciones específicas a desarrollar en la columna AJ, también relacionar el avance) | AQ15: Se materializó el Riesgo? (Ver evento potencial principal en Columna F. Relacionar detalles de la materialización - que, como, cuando, donde): Los Controles están bien diseñados, se aplican de acuerdo al diseño y son efectivos? (Ver controles en la columna P / Concluir frente a cada control) Que acciones propones o se están llevando a cabo para gestionar el riesgo que se materializó? (Si no aplica colocar N/A) Que acciones propones o se están llevando a cabo para fortalecer los controles? (En el caso de que tener Acciones de mejora / Acciones correctivas en proceso, relacionar el avance. Si tienes acciones específicas a desarrollar en la columna AJ, también relacionar el avance)
O16: 1.2 | P16: En el caso de conceptos con interpretación que contradice a ley, por parte de las dependencias del Distrito, gestionar espacios de conciliación para cambio de concepto en favor de la titulación. | Q16: =IF(OR(R16="Preventivo",R16="Detectivo"),"Probabilidad",IF(R16="Correctivo","Impacto","")) -> Impacto | R16: Correctivo | S16: Manual | T16: =IF(AND(R16="Preventivo",S16="Automático"),"50%",IF(AND(R16="Preventivo",S16="Manual"),"40%",IF(AND(R16="Detectivo",S16="Automático"),"40%",IF(AND(R16="Detectivo",S16="Manual"),"30%",IF(AND(R16="Correctivo",S16="Automático"),"35%",IF(AND(R16="Correctivo",S16="Manual"),"25%","")))))) -> 25% | U16: Sin Documentar | V16: Aleatoria | W16: Con Registro | X16: Oficios de solicitud de reconsideración de concepto. Actas de reuniones ocn Dependencias del DIstrito. | Y16: =IFERROR(IF(AND(Q15="Probabilidad",Q16="Probabilidad"),(AA15-(+AA15*T16)),IF(Q16="Probabilidad",(K15-(+K15*T16)),IF(Q16="Impacto",AA15,""))),"") -> 0.6 | Z16: =IFERROR(IF(Y16="","",IF(Y16<=0.2,"Muy Baja",IF(Y16<=0.4,"Baja",IF(Y16<=0.6,"Media",IF(Y16<=0.8,"Alta","Muy Alta"))))),"") -> Media | AA16: =+Y16 -> 0.6 | AB16: =IFERROR(IF(AC16="","",IF(AC16<=0.2,"Leve",IF(AC16<=0.4,"Menor",IF(AC16<=0.6,"Moderado",IF(AC16<=0.8,"Mayor","Catastrófico"))))),"") -> Moderado | AC16: =IFERROR(IF(AND(Q15="Impacto",Q16="Impacto"),(AC15-(+AC15*T16)),IF(Q16="Impacto",($M$15-(+$M$15*T16)),IF(Q16="Probabilidad",AC15,""))),"") -> 0.45
H17: 2. Cambio en el sistema de registro de la Superintendencia de Notariado y Registro lo que puede generar suspensión de términos y retrasos en el registro de los actos administrativos (cesiones) | O17: 2 | P17: El profesional especializado lider de la línea de acción oficia a la entidad externa para que se genere el impulso registral. Los contratistas de apoyo realizan la consulta VUR para realizar seguimiento al estado de registro del acto de cesión lo cual es registrado para control interno en la base de datos general de la meta de año en curso. | Q17: =IF(OR(R17="Preventivo",R17="Detectivo"),"Probabilidad",IF(R17="Correctivo","Impacto","")) -> Impacto | R17: Correctivo | S17: Manual | T17: =IF(AND(R17="Preventivo",S17="Automático"),"50%",IF(AND(R17="Preventivo",S17="Manual"),"40%",IF(AND(R17="Detectivo",S17="Automático"),"40%",IF(AND(R17="Detectivo",S17="Manual"),"30%",IF(AND(R17="Correctivo",S17="Automático"),"35%",IF(AND(R17="Correctivo",S17="Manual"),"25%","")))))) -> 25% | U17: Documentado | V17: Aleatoria | W17: Con Registro | X17: Base de datos general de la meta de año en curso. | Y17: =IFERROR(IF(AND(Q16="Probabilidad",Q17="Probabilidad"),(AA16-(+AA16*T17)),IF(AND(Q16="Impacto",Q17="Probabilidad"),(AA15-(+AA15*T17)),IF(Q17="Impacto",AA16,""))),"") -> 0.6 | Z17: =IFERROR(IF(Y17="","",IF(Y17<=0.2,"Muy Baja",IF(Y17<=0.4,"Baja",IF(Y17<=0.6,"Media",IF(Y17<=0.8,"Alta","Muy Alta"))))),"") -> Media | AA17: =+Y17 -> 0.6 | AB17: =IFERROR(IF(AC17="","",IF(AC17<=0.2,"Leve",IF(AC17<=0.4,"Menor",IF(AC17<=0.6,"Moderado",IF(AC17<=0.8,"Mayor","Catastrófico"))))),"") -> Menor | AC17: =IFERROR(IF(AND(Q16="Impacto",Q17="Impacto"),(AC16-(+AC16*T17)),IF(AND(Q16="Probabilidad",Q17="Impacto"),(AC15-(+AC15*T17)),IF(Q17="Probabilidad",AC16,""))),"") -> 0.3375
H18: 3. Presentación de documentación o información insuficiente o inconsistente por parte de los usuarios. | O18: 3 | P18: Los auxiliares de campo conforme a lista de chequeo en donde se relacionan los documentos que se deben aportar al expediente, hacen diligenciar la declaración juramentada de ocupación del lote. El equipo de la línea de acción verifica en el VUR (Ventanilla Única de Registro), que los ocupantes no cuenten con otra propiedad. Así mismo verifica en SAP (Base catastral) la información técnica del lote (área, estrato, avalúo, ocupantes cargados, entre otras). Se verifica en MAPGIS la información correspondiente al Plan de Ordenamiento Territorial. A través del convenio con el Ministerio de Vivienda se solicita la realización de cruces para verificar si los ocupantes cuentan con subsidios asignados. Documentado en: PROCEDIMIENTO DE CESION A TITULO GRATUITO DE BIENES FISCALES | Q18: =IF(OR(R18="Preventivo",R18="Detectivo"),"Probabilidad",IF(R18="Correctivo","Impacto","")) -> Probabilidad | R18: Preventivo | S18: Manual | T18: =IF(AND(R18="Preventivo",S18="Automático"),"50%",IF(AND(R18="Preventivo",S18="Manual"),"40%",IF(AND(R18="Detectivo",S18="Automático"),"40%",IF(AND(R18="Detectivo",S18="Manual"),"30%",IF(AND(R18="Correctivo",S18="Automático"),"35%",IF(AND(R18="Correctivo",S18="Manual"),"25%","")))))) -> 40% | U18: Documentado | V18: Continua | W18: Con Registro | X18: Declaración juramentada de ocupación de lote diligenciada. Reporte POT Acuerdo 48 2014. Alcaldía de Medellín - Departamento Administrativo de Planeación. Estudios de títulos y anexos. consulta de cruces | Y18: =IFERROR(IF(AND(Q17="Probabilidad",Q18="Probabilidad"),(AA17-(+AA17*T18)),IF(AND(Q17="Impacto",Q18="Probabilidad"),(AA16-(+AA16*T18)),IF(Q18="Impacto",AA17,""))),"") -> 0.36 | Z18: =IFERROR(IF(Y18="","",IF(Y18<=0.2,"Muy Baja",IF(Y18<=0.4,"Baja",IF(Y18<=0.6,"Media",IF(Y18<=0.8,"Alta","Muy Alta"))))),"") -> Baja | AA18: =+Y18 -> 0.36 | AB18: =IFERROR(IF(AC18="","",IF(AC18<=0.2,"Leve",IF(AC18<=0.4,"Menor",IF(AC18<=0.6,"Moderado",IF(AC18<=0.8,"Mayor","Catastrófico"))))),"") -> Menor | AC18: =IFERROR(IF(AND(Q17="Impacto",Q18="Impacto"),(AC17-(+AC17*T18)),IF(AND(Q17="Probabilidad",Q18="Impacto"),(AC16-(+AC16*T18)),IF(Q18="Probabilidad",AC17,""))),"") -> 0.3375
H19: 4. Falta de individualización catastral y de la actualización de la cartografía de los predios fiscales del Distrito de Medellín y Desactualización del inventario de bienes fiscales y de uso público (capa parcela) que maneja la Subsecretaria de Gestión de Bienes Inmuebles. | O19: 4 | P19: El profesional especializado líder de la línea de acción oficia a la subsecretaria de Catastro del Distrito de Medellín requiriendo el cargue catastral de los lotes que no están individualizados y/o a la Subsecretaria de Gestión de Bienes Inmuebles requiriendo las modificaciones al inventario relacionados con el uso de los lotes. En el tablero de control de titulación se relacionan los lotes mayor extensión con las necesidades de ajuste en la etapa de estudio. El profesional especializado líder de la línea de acción realiza seguimiento sobre las respuestas a los oficios enviados a las dependencias arriba en mención, lo cual es registrado en la base de datos de control de lotes de mayor extensión. | Q19: =IF(OR(R19="Preventivo",R19="Detectivo"),"Probabilidad",IF(R19="Correctivo","Impacto","")) -> Probabilidad | R19: Detectivo | S19: Manual | T19: =IF(AND(R19="Preventivo",S19="Automático"),"50%",IF(AND(R19="Preventivo",S19="Manual"),"40%",IF(AND(R19="Detectivo",S19="Automático"),"40%",IF(AND(R19="Detectivo",S19="Manual"),"30%",IF(AND(R19="Correctivo",S19="Automático"),"35%",IF(AND(R19="Correctivo",S19="Manual"),"25%","")))))) -> 30% | U19: Documentado | V19: Continua | W19: Con Registro | X19: Tablero de control de la linea de acción de titulación Base de datos de control de lotes de mayor extensión. | Y19: =IFERROR(IF(AND(Q18="Probabilidad",Q19="Probabilidad"),(AA18-(+AA18*T19)),IF(AND(Q18="Impacto",Q19="Probabilidad"),(AA17-(+AA17*T19)),IF(Q19="Impacto",AA18,""))),"") -> 0.252 | Z19: =IFERROR(IF(Y19="","",IF(Y19<=0.2,"Muy Baja",IF(Y19<=0.4,"Baja",IF(Y19<=0.6,"Media",IF(Y19<=0.8,"Alta","Muy Alta"))))),"") -> Baja | AA19: =+Y19 -> 0.252 | AB19: =IFERROR(IF(AC19="","",IF(AC19<=0.2,"Leve",IF(AC19<=0.4,"Menor",IF(AC19<=0.6,"Moderado",IF(AC19<=0.8,"Mayor","Catastrófico"))))),"") -> Menor | AC19: =IFERROR(IF(AND(Q18="Impacto",Q19="Impacto"),(AC18-(+AC18*T19)),IF(AND(Q18="Probabilidad",Q19="Impacto"),(AC17-(+AC17*T19)),IF(Q19="Probabilidad",AC18,""))),"") -> 0.3375
H20: 5. Que no existan mecanismos de seguimiento y control sobre el desarrollo de cada una de las etapas de la linea de acción de titulación con el propósito de cesión de lotes fiscales y calcular el estado del indicador del Plan de Desarrollo Distrital (lotes fiscales titulados - unidades prediales beneficiadas con la titulación). | O20: 5 | P20: la linea de acción de titulación ha diseñado un tablero de control en donde se visualiza el consolidado de lotes fiscales 2017-2027 con sus respectivos estados (en estudio, ruta, titulado). Este tablero también permite distintos filtros y gráficos de reporte tales como estadísticas de titulación por cuatrienio, año, por comuna, porcentaje de lotes aptos y no aptos, entre otros. Este tablero es utilizado para la toma decisiones en los distintos espacios institucionales como comités institucionales y equipos primarios. | Q20: =IF(OR(R20="Preventivo",R20="Detectivo"),"Probabilidad",IF(R20="Correctivo","Impacto","")) -> Probabilidad | R20: Preventivo | S20: Manual | T20: =IF(AND(R20="Preventivo",S20="Automático"),"50%",IF(AND(R20="Preventivo",S20="Manual"),"40%",IF(AND(R20="Detectivo",S20="Automático"),"40%",IF(AND(R20="Detectivo",S20="Manual"),"30%",IF(AND(R20="Correctivo",S20="Automático"),"35%",IF(AND(R20="Correctivo",S20="Manual"),"25%","")))))) -> 40% | U20: Sin Documentar | V20: Aleatoria | W20: Con Registro | X20: Tablero de control de la linea de acción de titulación | Y20: =IFERROR(IF(AND(Q19="Probabilidad",Q20="Probabilidad"),(AA19-(+AA19*T20)),IF(AND(Q19="Impacto",Q20="Probabilidad"),(AA18-(+AA18*T20)),IF(Q20="Impacto",AA19,""))),"") -> 0.1512 | Z20: =IFERROR(IF(Y20="","",IF(Y20<=0.2,"Muy Baja",IF(Y20<=0.4,"Baja",IF(Y20<=0.6,"Media",IF(Y20<=0.8,"Alta","Muy Alta"))))),"") -> Muy Baja | AA20: =+Y20 -> 0.1512 | AB20: =IFERROR(IF(AC20="","",IF(AC20<=0.2,"Leve",IF(AC20<=0.4,"Menor",IF(AC20<=0.6,"Moderado",IF(AC20<=0.8,"Mayor","Catastrófico"))))),"") -> Menor | AC20: =IFERROR(IF(AND(Q19="Impacto",Q20="Impacto"),(AC19-(+AC19*T20)),IF(AND(Q19="Probabilidad",Q20="Impacto"),(AC18-(+AC18*T20)),IF(Q20="Probabilidad",AC19,""))),"") -> 0.3375
Q21: =IF(OR(R21="Preventivo",R21="Detectivo"),"Probabilidad",IF(R21="Correctivo","Impacto","")) | Y21: =IFERROR(IF(AND(Q19="Probabilidad",Q21="Probabilidad"),(AA19-(+AA19*T21)),IF(AND(Q19="Impacto",Q21="Probabilidad"),(AA18-(+AA18*T21)),IF(Q21="Impacto",AA19,""))),"") | Z21: =IFERROR(IF(Y21="","",IF(Y21<=0.2,"Muy Baja",IF(Y21<=0.4,"Baja",IF(Y21<=0.6,"Media",IF(Y21<=0.8,"Alta","Muy Alta"))))),"") | AA21: =+Y21 | AB21: =IFERROR(IF(AC21="","",IF(AC21<=0.2,"Leve",IF(AC21<=0.4,"Menor",IF(AC21<=0.6,"Moderado",IF(AC21<=0.8,"Mayor","Catastrófico"))))),"") | AC21: =IFERROR(IF(AND(Q19="Impacto",Q21="Impacto"),(AC19-(+AC19*T21)),IF(AND(Q19="Probabilidad",Q21="Impacto"),(AC18-(+AC18*T21)),IF(Q21="Probabilidad",AC19,""))),"")
A22: GJ12 | B22: Lograr que el 100% de los procesos realizados cumplan todas la actuaciones correspondientes dentro del debido proceso disciplinario y sancionatorio. | C22: Proceso Disciplinario Proceso Administrativo Sancionatorio | D22: Posibilidad de afectación económica y reputacional del Instituto | E22: reflejada en la imposibilidad de establecer la responsabilidad disciplinaria a los funcionarios / contratistas involucrados en el incumplimiento de los deberes funcionales / obligaciones contractuales (emitir el fallo) y aplicar la sanción correspondiente. por hallazgos disciplinarios y penales por parte de los entes de control. Por posible impunidad frente a los sujetos investigados | F22: debido a que el servidor público encargado del proceso disciplinario administrativo o sancionatorio, retarde u omita un acto propio de su cargo, o para ejecutar uno contrario a sus deberes oficiales, para el beneficio particular o de un tercero. | G22: Posibilidad de afectación económica y reputacional del Instituto reflejada en la imposibilidad de establecer la responsabilidad disciplinaria a los funcionarios / contratistas involucrados en el incumplimiento de los deberes funcionales / obligaciones contractuales para aplicar la sanción correspondiente, lo cual puede llevar a hallazgos disciplinarios y penales por parte de los entes de control, y posible impunidad frente a los sujetos investigados. Lo anterior, debido a que el servidor público encargado del proceso disciplinario administrativo o sancionatorio, retarde u omita un acto propio de su cargo, o para ejecutar uno contrario a sus deberes oficiales, para el beneficio particular o de un tercero. | H22: 1. No existe verificación del contenido de los diferentes autos generados por parte de otra(s) persona(s). (segregación de funciones). | I22: Integridad Pùblica - Corrupción | J22: Baja | K22: 0.4 | L22: Catastrófico | M22: 1 | N22: Extremo | O22: 1 | P22: La revisión del contenido de los diferentes autos generados en el proceso disciplinario administrativo o sancionatorio es revisado por diferentes funcionarios de la siguiente manera: el abogado contratista es quien lleva a cabo todo lo sustancial, una vez tiene el auto y demás actuaciones elaboradas, son revisadas por el profesional líder del proceso quien podrá realizar observaciones o en caso de encontrarlo ajustado se pasará para la revisión y firma por parte del subdirector jurídico. Documentado en: I-GJ-04, INSTRUCTIVO PROCESO DISCIPLINARIO INTERNO. I-GJ-07, INSTRUCTIVO DE IMPOSICION DE SANCIONES MULTAS Y DECLARATORIA DE INCUMPLIMIENTO DE CONTRATOS Y CONVENIOS. | Q22: =IF(OR(R22="Preventivo",R22="Detectivo"),"Probabilidad",IF(R22="Correctivo","Impacto","")) -> Probabilidad | R22: Preventivo | S22: Manual | T22: =IF(AND(R22="Preventivo",S22="Automático"),"50%",IF(AND(R22="Preventivo",S22="Manual"),"40%",IF(AND(R22="Detectivo",S22="Automático"),"40%",IF(AND(R22="Detectivo",S22="Manual"),"30%",IF(AND(R22="Correctivo",S22="Automático"),"35%",IF(AND(R22="Correctivo",S22="Manual"),"25%","")))))) -> 40% | U22: Documentado | V22: Continua | W22: Con Registro | X22: Autos generados con firmas de revisión y aprobación | Y22: =IFERROR(IF(Q22="Probabilidad",(K22-(+K22*T22)),IF(Q22="Impacto",K22,"")),"") -> 0.24 | Z22: =IFERROR(IF(Y22="","",IF(Y22<=0.2,"Muy Baja",IF(Y22<=0.4,"Baja",IF(Y22<=0.6,"Media",IF(Y22<=0.8,"Alta","Muy Alta"))))),"") -> Baja | AA22: =+Y22 -> 0.24 | AB22: =IFERROR(IF(AC22="","",IF(AC22<=0.2,"Leve",IF(AC22<=0.4,"Menor",IF(AC22<=0.6,"Moderado",IF(AC22<=0.8,"Mayor","Catastrófico"))))),"") -> Catastrófico | AC22: =IFERROR(IF(Q22="Impacto",(M22-(+M22*T22)),IF(Q22="Probabilidad",M22,"")),"") -> 1 | AD22: =IFERROR(IF(AE22=0,"",IF(AND(AE22>0,AE22<=0.2),"Muy Baja",IF(AE22<=0.4,"Baja",IF(AE22<=0.6,"Media",IF(AE22<=0.8,"Alta","Muy Alta"))))),"") -> Muy Baja | AE22: =MIN(Y22:Y25) -> 0.1008 | AF22: =IFERROR(IF(AG22=0,"",IF(AND(AG22>0,AG22<=0.2),"Leve",IF(AG22<=0.4,"Menor",IF(AG22<=0.6,"Moderado",IF(AG22<=0.8,"Mayor","Catastrófico"))))),"") -> Mayor | AG22: =MIN(AC22:AC25) -> 0.75 | AH22: =IFERROR(IF(OR(AND(AD22="Muy Baja",AF22="Leve"),AND(AD22="Muy Baja",AF22="Menor"),AND(AD22="Baja",AF22="Leve")),"Bajo",IF(OR(AND(AD22="Muy Baja",AF22="Moderado"),AND(AD22="Baja",AF22="Menor"),AND(AD22="Baja",AF22="Moderado"),AND(AD22="Media",AF22="Leve"),AND(AD22="Media",AF22="Menor"),AND(AD22="Media",AF22="Moderado"),AND(AD22="Alta",AF22="Leve"),AND(AD22="Alta",AF22="Menor")),"Moderado",IF(OR(AND(AD22="Muy Baja",AF22="Mayor"),AND(AD22="Baja",AF22="Mayor"),AND(AD22="Media",AF22="Mayor"),AND(AD22="Alta",AF22="Moderado"),AND(AD22="Alta",AF22="Mayor"),AND(AD22="Muy Alta",AF22="Leve"),AND(AD22="Muy Alta",AF22="Menor"),AND(AD22="Muy Alta",AF22="Moderado"),AND(AD22="Muy Alta",AF22="Mayor")),"Alto",IF(OR(AND(AD22="Muy Baja",AF22="Catastrófico"),AND(AD22="Baja",AF22="Catastrófico"),AND(AD22="Media",AF22="Catastrófico"),AND(AD22="Alta",AF22="Catastrófico"),AND(AD22="Muy Alta",AF22="Catastrófico")),"Extremo","")))),"") -> Alto | AI22: Reducir (mitigar) | AK22: Se materializó el Riesgo? : Para este primer trimestre el riesgo no se materializo. Los Controles están bien diseñados, se aplican de acuerdo al diseño y son efectivos?: Los controles vienen siendo efectivos 1. control de la revisión de los difierentes contenidos generados en los procesos, por parte del funcionario designado lider del proceso y posteriormente por el subdirector juridico. 2. Desde el area de talento humano se promueve los valores del codigo de integridad. 3. Siguen siendo efectivos los canales de recepción de denuncias. 4. En caso de materializarse el riesgo, sigue siendo efectivo el control de realizar las respectivas denuncias a las autoridades competentes. Que acciones propones o se están llevando a cabo para gestionar el riesgo que se materializó? N/A Que acciones propones o se están llevando a cabo para fortalecer los controles? N/A | AM22: Se materializó el Riesgo? : Para este segundo trimestre el riesgo no se materializo. Los Controles están bien diseñados, se aplican de acuerdo al diseño y son efectivos?: Los controles vienen siendo efectivos 1. control de la revisión de los difierentes contenidos generados en los procesos, por parte del funcionario designado lider del proceso y posteriormente por el subdirector juridico. 2. Desde el area de talento humano se promueve los valores del codigo de integridad. 3. Siguen siendo efectivos los canales de recepción de denuncias. 4. En caso de materializarse el riesgo, sigue siendo efectivo el control de realizar las respectivas denuncias a las autoridades competentes. Que acciones propones o se están llevando a cabo para gestionar el riesgo que se materializó? N/A Que acciones propones o se están llevando a cabo para fortalecer los controles? N/A | AO22: Se materializó el Riesgo? (Ver evento potencial principal en Columna F. Relacionar detalles de la materialización - que, como, cuando, donde): Los Controles están bien diseñados, se aplican de acuerdo al diseño y son efectivos? (Ver controles en la columna P / Concluir frente a cada control) Que acciones propones o se están llevando a cabo para gestionar el riesgo que se materializó? (Si no aplica colocar N/A) Que acciones propones o se están llevando a cabo para fortalecer los controles? (En el caso de que tener Acciones de mejora / Acciones correctivas en proceso, relacionar el avance. Si tienes acciones específicas a desarrollar en la columna AJ, también relacionar el avance) | AQ22: Se materializó el Riesgo? (Ver evento potencial principal en Columna F. Relacionar detalles de la materialización - que, como, cuando, donde): Los Controles están bien diseñados, se aplican de acuerdo al diseño y son efectivos? (Ver controles en la columna P / Concluir frente a cada control) Que acciones propones o se están llevando a cabo para gestionar el riesgo que se materializó? (Si no aplica colocar N/A) Que acciones propones o se están llevando a cabo para fortalecer los controles? (En el caso de que tener Acciones de mejora / Acciones correctivas en proceso, relacionar el avance. Si tienes acciones específicas a desarrollar en la columna AJ, también relacionar el avance)
H23: 2. Falta de ética en el personal. | O23: 2 | P23: La entidad en cada vigencia planifica actividades orientadas a promover e interiorizar los valores del código de integridad tanto en funcionarios como en contratistas. El lider de Talento Humano verifica la realizarción de estas actividades y evalua la eficacia de las mismas. | Q23: =IF(OR(R23="Preventivo",R23="Detectivo"),"Probabilidad",IF(R23="Correctivo","Impacto","")) -> Probabilidad | R23: Preventivo | S23: Manual | T23: =IF(AND(R23="Preventivo",S23="Automático"),"50%",IF(AND(R23="Preventivo",S23="Manual"),"40%",IF(AND(R23="Detectivo",S23="Automático"),"40%",IF(AND(R23="Detectivo",S23="Manual"),"30%",IF(AND(R23="Correctivo",S23="Automático"),"35%",IF(AND(R23="Correctivo",S23="Manual"),"25%","")))))) -> 40% | U23: Sin Documentar | V23: Aleatoria | W23: Con Registro | X23: Registros de actividades de promocion de valores Evaluación de la interiorización de valores del código de integridad (caja de herramientas dela función pública) | Y23: =IFERROR(IF(AND(Q22="Probabilidad",Q23="Probabilidad"),(AA22-(+AA22*T23)),IF(Q23="Probabilidad",(K22-(+K22*T23)),IF(Q23="Impacto",AA22,""))),"") -> 0.144 | Z23: =IFERROR(IF(Y23="","",IF(Y23<=0.2,"Muy Baja",IF(Y23<=0.4,"Baja",IF(Y23<=0.6,"Media",IF(Y23<=0.8,"Alta","Muy Alta"))))),"") -> Muy Baja | AA23: =+Y23 -> 0.144 | AB23: =IFERROR(IF(AC23="","",IF(AC23<=0.2,"Leve",IF(AC23<=0.4,"Menor",IF(AC23<=0.6,"Moderado",IF(AC23<=0.8,"Mayor","Catastrófico"))))),"") -> Catastrófico | AC23: =IFERROR(IF(AND(Q22="Impacto",Q23="Impacto"),(AC22-(+AC22*T23)),IF(Q23="Impacto",($M$15-(+$M$15*T23)),IF(Q23="Probabilidad",AC22,""))),"") -> 1
H24: 3. Ausencia de mecanismo para que funcionarios, contratistas o funcionarios puedan denunciar de manera anónima irregularidades frente al proceso disciplinario o sancionatorio | O24: 3 | P24: La entidad cuenta con dos canales para la recepción de denuncias por posibles hechos o riesgos de corrupción, a través de la pagina web y el corrreo soytransparente@isvimed.gov.co. A través de estos canales el denunciante tiene la opción de interponer la denuncia a nombre propio o de manera anónima. El oficial de transparencia recible la denuncia, coordina el respectivo estudio y si el del caso, realiza la remisión de la misma ante las autoridades competentes. El oficial de transparencia realiza seguimiento al estado de trámite de cada denuncia y cuando sea posible proporciona respuesta al denunciante. Documentado en: P-GE-10, PROCEDIMIENTO PARA EL TRAMITE DE DENUNCIAS. | Q24: =IF(OR(R24="Preventivo",R24="Detectivo"),"Probabilidad",IF(R24="Correctivo","Impacto","")) -> Probabilidad | R24: Detectivo | S24: Manual | T24: =IF(AND(R24="Preventivo",S24="Automático"),"50%",IF(AND(R24="Preventivo",S24="Manual"),"40%",IF(AND(R24="Detectivo",S24="Automático"),"40%",IF(AND(R24="Detectivo",S24="Manual"),"30%",IF(AND(R24="Correctivo",S24="Automático"),"35%",IF(AND(R24="Correctivo",S24="Manual"),"25%","")))))) -> 30% | U24: Documentado | V24: Aleatoria | W24: Con Registro | X24: Acta de estudio de la Denuncia Oficio remisorio a la autoridad competente control de denuncias RITA. Respuesta al denunciante. | Y24: =IFERROR(IF(AND(Q23="Probabilidad",Q24="Probabilidad"),(AA23-(+AA23*T24)),IF(AND(Q23="Impacto",Q24="Probabilidad"),(AA22-(+AA22*T24)),IF(Q24="Impacto",AA23,""))),"") -> 0.1008 | Z24: =IFERROR(IF(Y24="","",IF(Y24<=0.2,"Muy Baja",IF(Y24<=0.4,"Baja",IF(Y24<=0.6,"Media",IF(Y24<=0.8,"Alta","Muy Alta"))))),"") -> Muy Baja | AA24: =+Y24 -> 0.1008 | AB24: =IFERROR(IF(AC24="","",IF(AC24<=0.2,"Leve",IF(AC24<=0.4,"Menor",IF(AC24<=0.6,"Moderado",IF(AC24<=0.8,"Mayor","Catastrófico"))))),"") -> Catastrófico | AC24: =IFERROR(IF(AND(Q23="Impacto",Q24="Impacto"),(AC23-(+AC23*T24)),IF(AND(Q23="Probabilidad",Q24="Impacto"),(AC22-(+AC22*T24)),IF(Q24="Probabilidad",AC23,""))),"") -> 1
O25: 4 | P25: En caso de que el riesgo se materialice se realiza la respectiva denuncias ante las autoridades competentes, la cual podrá realizarse de manera directa o mediante el marco del RITA a través del Oficial de Transparencia. Documentado en: P-GE-10, PROCEDIMIENTO PARA EL TRAMITE DE DENUNCIAS. | Q25: =IF(OR(R25="Preventivo",R25="Detectivo"),"Probabilidad",IF(R25="Correctivo","Impacto","")) -> Impacto | R25: Correctivo | S25: Manual | T25: =IF(AND(R25="Preventivo",S25="Automático"),"50%",IF(AND(R25="Preventivo",S25="Manual"),"40%",IF(AND(R25="Detectivo",S25="Automático"),"40%",IF(AND(R25="Detectivo",S25="Manual"),"30%",IF(AND(R25="Correctivo",S25="Automático"),"35%",IF(AND(R25="Correctivo",S25="Manual"),"25%","")))))) -> 25% | U25: Documentado | V25: Aleatoria | W25: Con Registro | X25: Reportes de Riesgos o posibles hechos de corrupción. | Y25: =IFERROR(IF(AND(Q24="Probabilidad",Q25="Probabilidad"),(AA24-(+AA24*T25)),IF(AND(Q24="Impacto",Q25="Probabilidad"),(AA23-(+AA23*T25)),IF(Q25="Impacto",AA24,""))),"") -> 0.1008 | Z25: =IFERROR(IF(Y25="","",IF(Y25<=0.2,"Muy Baja",IF(Y25<=0.4,"Baja",IF(Y25<=0.6,"Media",IF(Y25<=0.8,"Alta","Muy Alta"))))),"") -> Muy Baja | AA25: =+Y25 -> 0.1008 | AB25: =IFERROR(IF(AC25="","",IF(AC25<=0.2,"Leve",IF(AC25<=0.4,"Menor",IF(AC25<=0.6,"Moderado",IF(AC25<=0.8,"Mayor","Catastrófico"))))),"") -> Mayor | AC25: =IFERROR(IF(AND(Q24="Impacto",Q25="Impacto"),(AC24-(+AC24*T25)),IF(AND(Q24="Probabilidad",Q25="Impacto"),(AC23-(+AC23*T25)),IF(Q25="Probabilidad",AC24,""))),"") -> 0.75
A26: GJ13 | B26: Lograr que el 100% de los procesos realizados cumplan todas la actuaciones correspondientes dentro del debido proceso disciplinario en cada vigencia. Lograr el 100% de los procesos sean adelantados dentro de los términos de ley sin que opere la extinción de la acción disciplinaria durante todas las vigencias. | C26: Proceso Disciplinario | D26: Afectación económica y reputacional del Instituto | E26: reflejada en la imposibilidad de establecer la responsabilidad a los funcionarios implicados en faltas disciplinarias (emitir el fallo) y aplicar la sanción correspondiente (Detrimento Patrimonial) por hallazgos por parte de los entes de control frente a la gestión del proceso disciplinario en el Instituto. Por posible impunidad frente a los sujetos disciplinables | F26: debido al vencimiento del término legal establecido para adelantar las acciones disciplinarias. | G26: Posibilidad de afectación económica y reputacional del Instituto, reflejada en la imposibilidad de establecer la responsabilidad a los funcionarios implicados en faltas disciplinarias (emitir el fallo) y aplicar la sanción correspondiente (Detrimento Patrimonial), lo cual l puede conllevar a hallazgos por parte de los entes de control frente a la gestión del proceso disciplinario en el Instituto y posible impunidad frente a los sujetos disciplinables. Lo anterior, debido al vencimiento del término legal establecido para adelantar las acciones disciplinarias. | H26: 1. La Oficina jurídica no inicia el respectivo procedimiento disciplinario (indagación preliminar o auto de apertura de investigación disciplinaria). | I26: Gestión | J26: Baja | K26: =IF(J26="","",IF(J26="Muy Baja",0.2,IF(J26="Baja",0.4,IF(J26="Media",0.6,IF(J26="Alta",0.8,IF(J26="Muy Alta",1,)))))) -> 0.4 | L26: Moderado | M26: =IF(L26="","",IF(L26="Leve",0.2,IF(L26="Menor",0.4,IF(L26="Moderado",0.6,IF(L26="Mayor",0.8,IF(L26="Catastrófico",1,)))))) -> 0.6 | N26: =IF(OR(AND(J26="Muy Baja",L26="Leve"),AND(J26="Muy Baja",L26="Menor"),AND(J26="Baja",L26="Leve")),"Bajo",IF(OR(AND(J26="Muy baja",L26="Moderado"),AND(J26="Baja",L26="Menor"),AND(J26="Baja",L26="Moderado"),AND(J26="Media",L26="Leve"),AND(J26="Media",L26="Menor"),AND(J26="Media",L26="Moderado"),AND(J26="Alta",L26="Leve"),AND(J26="Alta",L26="Menor")),"Moderado",IF(OR(AND(J26="Muy Baja",L26="Mayor"),AND(J26="Baja",L26="Mayor"),AND(J26="Media",L26="Mayor"),AND(J26="Alta",L26="Moderado"),AND(J26="Alta",L26="Mayor"),AND(J26="Muy Alta",L26="Leve"),AND(J26="Muy Alta",L26="Menor"),AND(J26="Muy Alta",L26="Moderado"),AND(J26="Muy Alta",L26="Mayor")),"Alto",IF(OR(AND(J26="Muy Baja",L26="Catastrófico"),AND(J26="Baja",L26="Catastrófico"),AND(J26="Media",L26="Catastrófico"),AND(J26="Alta",L26="Catastrófico"),AND(J26="Muy Alta",L26="Catastrófico")),"Extremo","")))) -> Moderado | O26: 1 | P26: El profesional líder de la línea de Disciplinarios verifica la fecha de presentación de queja o denuncia frente al término establecidos en las normas y procedimientos, para lo cual se utiliza el archivo de control de procesos disciplinarios. | Q26: =IF(OR(R26="Preventivo",R26="Detectivo"),"Probabilidad",IF(R26="Correctivo","Impacto","")) -> Probabilidad | R26: Preventivo | S26: Manual | T26: =IF(AND(R26="Preventivo",S26="Automático"),"50%",IF(AND(R26="Preventivo",S26="Manual"),"40%",IF(AND(R26="Detectivo",S26="Automático"),"40%",IF(AND(R26="Detectivo",S26="Manual"),"30%",IF(AND(R26="Correctivo",S26="Automático"),"35%",IF(AND(R26="Correctivo",S26="Manual"),"25%","")))))) -> 40% | U26: Sin Documentar | V26: Continua | W26: Con Registro | X26: archivo de control de procesos disciplinarios | Y26: =IFERROR(IF(Q26="Probabilidad",(K26-(+K26*T26)),IF(Q26="Impacto",K26,"")),"") -> 0.24 | Z26: =IFERROR(IF(Y26="","",IF(Y26<=0.2,"Muy Baja",IF(Y26<=0.4,"Baja",IF(Y26<=0.6,"Media",IF(Y26<=0.8,"Alta","Muy Alta"))))),"") -> Baja | AA26: =+Y26 -> 0.24 | AB26: =IFERROR(IF(AC26="","",IF(AC26<=0.2,"Leve",IF(AC26<=0.4,"Menor",IF(AC26<=0.6,"Moderado",IF(AC26<=0.8,"Mayor","Catastrófico"))))),"") -> Moderado | AC26: =IFERROR(IF(Q26="Impacto",(M26-(+M26*T26)),IF(Q26="Probabilidad",M26,"")),"") -> 0.6 | AD26: =IFERROR(IF(AE26=0,"",IF(AND(AE26>0,AE26<=0.2),"Muy Baja",IF(AE26<=0.4,"Baja",IF(AE26<=0.6,"Media",IF(AE26<=0.8,"Alta","Muy Alta"))))),"") -> Muy Baja | AE26: =MIN(Y26:Y28) -> 0.168 | AF26: =IFERROR(IF(AG26=0,"",IF(AND(AG26>0,AG26<=0.2),"Leve",IF(AG26<=0.4,"Menor",IF(AG26<=0.6,"Moderado",IF(AG26<=0.8,"Mayor","Catastrófico"))))),"") -> Moderado | AG26: =MIN(AC26:AC28) -> 0.6 | AH26: =IFERROR(IF(OR(AND(AD26="Muy Baja",AF26="Leve"),AND(AD26="Muy Baja",AF26="Menor"),AND(AD26="Baja",AF26="Leve")),"Bajo",IF(OR(AND(AD26="Muy Baja",AF26="Moderado"),AND(AD26="Baja",AF26="Menor"),AND(AD26="Baja",AF26="Moderado"),AND(AD26="Media",AF26="Leve"),AND(AD26="Media",AF26="Menor"),AND(AD26="Media",AF26="Moderado"),AND(AD26="Alta",AF26="Leve"),AND(AD26="Alta",AF26="Menor")),"Moderado",IF(OR(AND(AD26="Muy Baja",AF26="Mayor"),AND(AD26="Baja",AF26="Mayor"),AND(AD26="Media",AF26="Mayor"),AND(AD26="Alta",AF26="Moderado"),AND(AD26="Alta",AF26="Mayor"),AND(AD26="Muy Alta",AF26="Leve"),AND(AD26="Muy Alta",AF26="Menor"),AND(AD26="Muy Alta",AF26="Moderado"),AND(AD26="Muy Alta",AF26="Mayor")),"Alto",IF(OR(AND(AD26="Muy Baja",AF26="Catastrófico"),AND(AD26="Baja",AF26="Catastrófico"),AND(AD26="Media",AF26="Catastrófico"),AND(AD26="Alta",AF26="Catastrófico"),AND(AD26="Muy Alta",AF26="Catastrófico")),"Extremo","")))),"") -> Moderado | AI26: Reducir (mitigar) | AJ26: Capacitar al personal frente al deber de denunciar los hechos disciplinario por quien tenga conocimiento del mismo. Evaluar la posibilidad de gestionar canales que permitan que los funcionarios puedan interponer de manera anónima denuncias sobre posibles actos de disciplinables (línea de ética o línea de denuncia). Coordinar con la Subdirección de Planeación, Subdirección Jurídica y TIC. | AK26: Se materializó el Riesgo? : Para este trimestre no se materiolizo el riesgo Los Controles están bien diseñados, se aplican de acuerdo al diseño y son efectivos?: Los controles siguen siendo efectivos 1. Se utiliza el archivo de control con la finalidad de fijar la fecha de recpeción de la posible fecha de ocurrencia de los hechos. 2. Se utiliza el archivo de control una vez se establece la posible fecha de los hechos para establecer la fecha de prescrición de acción de investigar. Que acciones propones o se están llevando a cabo para gestionar el riesgo que se materializó? N/A Que acciones propones o se están llevando a cabo para fortalecer los controles? Actualmente el proceso cuenta con un acción de mejora el cual tiene como plan de acción, generar en el boletin interno de la entidad información sobre el proceso disciplinario, con el fin de capacitar al personal frente al deber de denunciar los hecho disciplinarios. En el momento no tiene avances. | AL26: https://isvimedgovco.sharepoint.com/:f:/s/5Juridica/IgAaWxi2DMiwQo0fK7C5vurhAbvUk2G037LDNJzqvxDwJQk?e=2F8KZV | AM26: Se materializó el Riesgo? : Para este segundo trimestre no se materiolizo el riesgo Los Controles están bien diseñados, se aplican de acuerdo al diseño y son efectivos?: Los controles siguen siendo efectivos 1. Se utiliza el archivo de control con la finalidad de fijar la fecha de recpeción de la posible fecha de ocurrencia de los hechos. 2. Se utiliza el archivo de control una vez se establece la posible fecha de los hechos para establecer la fecha de prescrición de acción de investigar. Que acciones propones o se están llevando a cabo para gestionar el riesgo que se materializó? N/A Que acciones propones o se están llevando a cabo para fortalecer los controles? Actualmente el proceso cuenta con un acción de mejora el cual tiene como plan de acción, generar en el boletin interno de la entidad información sobre el proceso disciplinario, con el fin de capacitar al personal frente al deber de denunciar los hecho disciplinarios. En el momento no tiene avances. | AN26: https://isvimedgovco-my.sharepoint.com/:x:/g/personal/andres_moreira_isvimed_gov_co/IQCJyydNvCQRS4EY1ncXx1N5AZgjGXxvFBUPP7Fm3JJKN10?e=meOmw4 | AO26: Se materializó el Riesgo? (Ver evento potencial principal en Columna F. Relacionar detalles de la materialización - que, como, cuando, donde): Los Controles están bien diseñados, se aplican de acuerdo al diseño y son efectivos? (Ver controles en la columna P / Concluir frente a cada control) Que acciones propones o se están llevando a cabo para gestionar el riesgo que se materializó? (Si no aplica colocar N/A) Que acciones propones o se están llevando a cabo para fortalecer los controles? (En el caso de que tener Acciones de mejora / Acciones correctivas en proceso, relacionar el avance. Si tienes acciones específicas a desarrollar en la columna AJ, también relacionar el avance) | AQ26: Se materializó el Riesgo? (Ver evento potencial principal en Columna F. Relacionar detalles de la materialización - que, como, cuando, donde): Los Controles están bien diseñados, se aplican de acuerdo al diseño y son efectivos? (Ver controles en la columna P / Concluir frente a cada control) Que acciones propones o se están llevando a cabo para gestionar el riesgo que se materializó? (Si no aplica colocar N/A) Que acciones propones o se están llevando a cabo para fortalecer los controles? (En el caso de que tener Acciones de mejora / Acciones correctivas en proceso, relacionar el avance. Si tienes acciones específicas a desarrollar en la columna AJ, también relacionar el avance)
H27: 2. No existe control sobre las fechas límite de caducidad y prescripción. (5 años desde la falta disciplinable para el primero y 5 años desde el auto de apertura para el segundo). | O27: 2 | P27: El profesional líder de la línea de Disciplinarios verifica que las actuaciones dentro de los procesos estén dentro del término de los límites de caducidad y prescripción, para lo cual se utiliza el archivo de control de procesos disciplinarios. | Q27: =IF(OR(R27="Preventivo",R27="Detectivo"),"Probabilidad",IF(R27="Correctivo","Impacto","")) -> Probabilidad | R27: Detectivo | S27: Manual | T27: =IF(AND(R27="Preventivo",S27="Automático"),"50%",IF(AND(R27="Preventivo",S27="Manual"),"40%",IF(AND(R27="Detectivo",S27="Automático"),"40%",IF(AND(R27="Detectivo",S27="Manual"),"30%",IF(AND(R27="Correctivo",S27="Automático"),"35%",IF(AND(R27="Correctivo",S27="Manual"),"25%","")))))) -> 30% | U27: Sin Documentar | V27: Continua | W27: Con Registro | X27: archivo de control de procesos disciplinarios | Y27: =IFERROR(IF(AND(Q26="Probabilidad",Q27="Probabilidad"),(AA26-(+AA26*T27)),IF(Q27="Probabilidad",(K26-(+K26*T27)),IF(Q27="Impacto",AA26,""))),"") -> 0.168 | Z27: =IFERROR(IF(Y27="","",IF(Y27<=0.2,"Muy Baja",IF(Y27<=0.4,"Baja",IF(Y27<=0.6,"Media",IF(Y27<=0.8,"Alta","Muy Alta"))))),"") -> Muy Baja | AA27: =+Y27 -> 0.168 | AB27: =IFERROR(IF(AC27="","",IF(AC27<=0.2,"Leve",IF(AC27<=0.4,"Menor",IF(AC27<=0.6,"Moderado",IF(AC27<=0.8,"Mayor","Catastrófico"))))),"") -> Moderado | AC27: =IFERROR(IF(AND(Q26="Impacto",Q27="Impacto"),(AC26-(+AC26*T27)),IF(Q27="Impacto",($M$15-(+$M$15*T27)),IF(Q27="Probabilidad",AC26,""))),"") -> 0.6
H28: 3. No se reporta a la oficina jurídica el hecho disciplinario por quien tenga conocimiento del mismo. | O28: 3 | P28: No existe el control | Q28: =IF(OR(R28="Preventivo",R28="Detectivo"),"Probabilidad",IF(R28="Correctivo","Impacto","")) | R28: N/A | S28: N/A | U28: N/A | V28: N/A | W28: N/A | X28: N/A | Y28: =IFERROR(IF(AND(Q27="Probabilidad",Q28="Probabilidad"),(AA27-(+AA27*T28)),IF(AND(Q27="Impacto",Q28="Probabilidad"),(AA26-(+AA26*T28)),IF(Q28="Impacto",AA27,""))),"") | Z28: =IFERROR(IF(Y28="","",IF(Y28<=0.2,"Muy Baja",IF(Y28<=0.4,"Baja",IF(Y28<=0.6,"Media",IF(Y28<=0.8,"Alta","Muy Alta"))))),"") | AA28: =+Y28 | AB28: =IFERROR(IF(AC28="","",IF(AC28<=0.2,"Leve",IF(AC28<=0.4,"Menor",IF(AC28<=0.6,"Moderado",IF(AC28<=0.8,"Mayor","Catastrófico"))))),"") | AC28: =IFERROR(IF(AND(Q27="Impacto",Q28="Impacto"),(AC27-(+AC27*T28)),IF(AND(Q27="Probabilidad",Q28="Impacto"),(AC26-(+AC26*T28)),IF(Q28="Probabilidad",AC27,""))),"")
