Workbook
Name Afectación_Económica: #REF!
Name Afectación_Económica: #REF!
Name Definicion_tratamiento: #REF!
Name Definicion_tratamiento: #REF!
Name Ejecución_administración_de_procesos: #REF!
Name Fiscal_A: #REF!
Name Fiscal_A: #REF!
Name Fiscal_B: #REF!
Name Fiscal_B: #REF!
Name Gestiòn: #REF!
Name Gestiòn: #REF!
Name Gestión_A: #REF!
Name Gestión_A: #REF!
Name Gestión_B: #REF!
Name Gestión_B: #REF!
Name IMPACTO_PROCESOS: #REF!
Name IMPACTO_PROCESOS: #REF!
Name IMPACTO_PROCESOS: #REF!
Name IMPACTO_PROCESOS: #REF!
Name IntegridadPública_Corrupción: #REF!
Name IntegridadPública_Corrupción: #REF!
Name IntegridadPública_LA_FT_FP: #REF!
Name IntegridadPública_LA_FT_FP: #REF!
Name opciones: #REF!
Name opciones: #REF!
Name opciones: #REF!
Name opciones: #REF!
Name opciones2: #REF!
Name opciones2: #REF!
Name opciones2: #REF!
Name opciones2: #REF!
Name Plan_accion: #REF!
Name Plan_accion: #REF!
Name Plan_acción: #REF!
Name Plan_acción: #REF!
Name Plan_de_acción: #REF!
Name Plan_de_acción: #REF!
Name Posibilidad__de_efecto_dañoso_sobre_el_interes_patrimonial: #REF!
Name Posibilidad__de_efecto_dañoso_sobre_el_interes_patrimonial: #REF!
Name Posibilidad_de_pérdida_Económica: #REF!
Name Posibilidad_de_pérdida_Económica: #REF!
Name Proceso: #REF!
Name Quince_Cero: #REF!
Name Quince_Cero: #REF!
Name Quince_Cero: #REF!
Name Quince_Cero: #REF!
Name Rango_Calificacion_Ejecucion: #REF!
Name Rango_Calificacion_Ejecucion: #REF!
Name Rango_Calificacion_Ejecucion: #REF!
Name Rango_Calificacion_Ejecucion: #REF!
Name Reducir_mitigar_Transferir_Evitar: #REF!
Name Reducir_mitigar_Transferir_Evitar: #REF!
Name Reputacional: #REF!
Name Reputacional: #REF!
Name Requiere_Plan_de_Acción: #REF!
Name Requiere_Plan_de_Acción: #REF!
Name Seg.Información: #REF!
Name Seg.Información: #REF!
Name TIPO: #REF!
Name TIPO: #REF!

Sheet 1. ESTABLECIMIENTO CONTEXTO 
B1: MAPA DE RIESGOS DE PROCESO | L1: CÓDIGO: F-GM-29
L2: VERSIÓN: 05
L3: FECHA: 30/03/2022
L4: PÁGINA: 1 de 3
A6: 4.2.1. ESTABLECIMIENTO DEL CONTEXTO
A9: PROCESO: | D9: Gestión del Talento Humano
A10: FECHA DE ELABORACIÓN O ACTUALIZACIÓN: | E10: Diciembre de 2021
A11: RESPONSABLE (s) DE ELABORACIÓN O ACTUALIZACIÓN | F11: Profesional Líder de Talento Humano
A14: Factor: Externo/Interno/Proceso | D14: Variable | G14: ¿Cómo me puede afectar?
G15: CARÁCTER: Positivo/negativo | I15: Breve análisis
A16: Factor Interno | C16: Factor Externo | D16: Asignación de Recursos | G16: NEGATIVO | H16: POSITIVO | I16: Porque limita la gestión del ciclo de talento humano cuando los recursos no son oportunos en el tiempo de entrega para poder cumplir con las actividades. Lo anterior debido a que se disminuyeron las transferencias de la alcaldia de medellín al instituto.
A17: Factor Interno | C17: Factor Interno | D17: Poca capacidad operativa para adaptar el cambio de normatividad al contexto interno | G17: NEGATIVO | H17: NEGATIVO | I17: Podría llevar al incumplimiento de la misma norma por falta de capacidad operativa para ejecutarla y por el desconocimiento de la misma
A18: Factor Externo | C18: Factor de proceso | D18: Articulación interinstitucional | G18: POSITIVO | I18: Permite el fortalecimiento de las relaciones insterinstitucionales lo que conlleva al aprovechamiento de recursos a traves de la fijación de convenios, alianzas, e integraciones. Permite tambien la artiulacion en temas relacionados con directrices normativas.
A19: Factor Externo | D19: Situaciones coyunturales (situaciones orden publico - situaciones de salud pública ) | G19: NEGATIVO | I19: Teniendo en cuenta la capacidad operativa del Instituto la cual se apoya mayormente en personal técnico que realiza labores de campo y trabajo con la comunidad, es altamente probable que se presenten afectaciones a la integridad de los servidores del instituto debido a cuestiones de salud y orden público, teniendo en cuenta el proyecto actual del traslado a la nueva sede, es relevante mencionar que la ubicación de dicha sede incrementa la exposición a las alteraciones de orden publico.
A20: Factor Externo | D20: Lineamiento estratégico nivel central | G20: POSITIVO | I20: Es una guia para planificar la gestión del ciclo de talento humano al interior del instituto, debido que permite la identificacion de puntos o competencias claves que deberian ser atendidas desde el plan estrategico de talento humano.
A21: Factor Interno | D21: Alta carga laboral | G21: NEGATIVO | I21: Debido a la configuracion actual de la estructura organizacional se identifican algunos cargos criticos con altas cargas laborales debido a la asignación de funciones que tienen, lo cual conlleva a la generación de reprocesos, restraso o inoportunidad y el no cumplimiento de metas.
A22: Factor Interno | D22: Trabajo en equipo Talento Humano | G22: POSITIVO | I22: El equipo de 5 personas que ejecutan las actividades del proceso actúan de forma proactiva y articulada, facilitando la consecución de objetivos.
A23: Factor Interno | D23: Ambiente de Trabajo | G23: NEGATIVO | I23: No se cuenta con las condiciones físicas, tecnológicas y de clima laboral que propicien un ambiente sano y armónico para la ejecución de actividades asignadas a los servidores publicos.
A24: Factor Interno | D24: Estilo de Liderazgo | G24: POSITIVO | I24: En términos generales se cuenta con un estilo de liderazgo en el instituto que respalda las estrategias enfocadas al talento humano.
A25: Factor Interno | D25: Capacitación | G25: POSITIVO | I25: Existe un plan institucional de capacitacion el cual esta alineado con la gestión estrategica del talento humano.
A26: Factor Interno | D26: Entrenamiento | G26: NEGATIVO | I26: Actualmente no se cuenta con planes de entrenamiento definidos para los puestos de trabajo, lo que conlleva a un restraso en el proceso de incorporación del funcionario al puesto de trabajo.
A27: Factor Interno | D27: Herramientas Tecnológicas (software y hardware) | G27: NEGATIVO | I27: La ausencia de las mismas no permite la generación de información de forma oportuna, verídica, segura y eficiente.
A28: Factor Externo | D28: Cambio de administración | G28: NEGATIVO | I28: Afecta la continuidad de los procesos propios de talento humano
A29: Factor Interno | D29: Cultura Organizacional | G29: NEGATIVO | I29: Debilidad en la consolidación de un identidad organizacional, debido a la alta rotación de personal de libre nombramiento y remoción y personal contratista que en su mayoría es el que soporta las actividades del instituto.
A30: Factor Interno | D30: Sistema de Bienestar | G30: POSITIVO | I30: En términos generales se cuenta con un plan y recursos para temas de bienestar de los funcionarios del instituto.
... A32: Factor Interno | D32: Trabajo colaborativo al interior de la subdirección | G32: POSITIVO | I32: Permite trabajo articulado, fluidez en el cumplimiento de obligaciones.

Sheet 2. MATRIZ DE RIESGOS
D1: MAPA DE RIESGOS DE PROCESO | AG1: CÓDIGO: F-GM-29
AG2: VERSIÓN: 05
AG3: FECHA: 30/03/2022
AG4: PÁGINA: 3 de 3
A6: PROCESO: | D6: Gestión del Talento Humano | F6: FECHA DE ELABORACIÓN O ACTUALIZACIÓN: | H6: Actualizada abril de 2026
F7: RESPONSABLE (s) DE ELABORACIÓN O ACTUALIZACIÓN | H7: Profesional Líder de Talento Humano
A8: OBJETIVO: | D8: Administrar el talento humano de planta, garantizando que el personal cuente con la idoneidad necesaria para cumplir con la estrategia Institucional.
A9: ALCANCE: | D9: Desde la selección del personal de planta hasta la desvinculación del mismo.
A11: 4.2. IDENTIFICACION DEL RIESGO | J11: 4.3. EVALUACIÓN DEL RIESGO | AI11: 4.4. TRATAMIENTO DEL RIESGO | AK11: SEGUIMIENTO TRIMESTRE 1 DE 2026 | AL11: RELACIÓN DE EVIDENCIAS IMPORTANTE:- RELACIONAR LOS ENLACES SOBRE MATERIALIZACION DE RIESGOS Y SOBRE APLICACIÓN DE CONTROLES -LAS EVIDENCIAS SOBRE APLICACIÓN DE CONTROLES SON LAS QUE SE ENCUENTRAN EN LA COLUMNA X - RELACIONARLAS UNA A UNA CON EL ENLACE CORRESPONDIENTE. | AM11: SEGUIMIENTO TRIMESTRE 2 DE 2026 | AN11: RELACIÓN DE EVIDENCIAS IMPORTANTE:- RELACIONAR LOS ENLACES SOBRE MATERIALIZACION DE RIESGOS Y SOBRE APLICACIÓN DE CONTROLES -LAS EVIDENCIAS SOBRE APLICACIÓN DE CONTROLES SON LAS QUE SE ENCUENTRAN EN LA COLUMNA X - RELACIONARLAS UNA A UNA CON EL ENLACE CORRESPONDIENTE. | AO11: SEGUIMIENTO TRIMESTRE 3 DE 2026 | AP11: RELACIÓN DE EVIDENCIAS IMPORTANTE:- RELACIONAR LOS ENLACES SOBRE MATERIALIZACION DE RIESGOS Y SOBRE APLICACIÓN DE CONTROLES -LAS EVIDENCIAS SOBRE APLICACIÓN DE CONTROLES SON LAS QUE SE ENCUENTRAN EN LA COLUMNA X - RELACIONARLAS UNA A UNA CON EL ENLACE CORRESPONDIENTE. | AQ11: SEGUIMIENTO TRIMESTRE 4 DE 2026 | AR11: RELACIÓN DE EVIDENCIAS IMPORTANTE:- RELACIONAR LOS ENLACES SOBRE MATERIALIZACION DE RIESGOS Y SOBRE APLICACIÓN DE CONTROLES -LAS EVIDENCIAS SOBRE APLICACIÓN DE CONTROLES SON LAS QUE SE ENCUENTRAN EN LA COLUMNA X - RELACIONARLAS UNA A UNA CON EL ENLACE CORRESPONDIENTE.
A12: Referencia | B12: Objetivo | C12: Temática / Linea de Acción | D12: 1. QUE? | E12: 2. COMO SE REFLEJA? | F12: 3. POR QUE? (Evento Potencial Principal) | G12: Descripción del Riesgo (1+2+3) | H12: Causa (Evento Potencial Intermedio) | I12: Clasificación del Riesgo | J12: EVALUACION DE RIESGO INHERENTE | O12: VALORACION DE CONTROLES | AD12: EVALUACION DEL RIESGO RESIDUAL | AI12: Tratamiento | AJ12: FORMULAR ACCIONES ESPECIFICAS
J13: Probabilidad Inherente | K13: % | L13: Impacto Inherente | M13: % | N13: Zona de Riesgo Inherente | O13: No. Control | P13: Descripción del Control (Medida Actual) | Q13: Afectación | R13: Atributos | Y13: Probabilidad Residual | Z13: Probabilidad Residual | AA13: % | AB13: Impacto Residual | AC13: % | AD13: Probabilidad Residual Final | AE13: % | AF13: Impacto Residual Final | AG13: % | AH13: Zona de Riesgo Final | AJ13: VER ACCION #
R14: Tipo | S14: Implementación | T14: Calificación | U14: Documentación | V14: Frecuencia | W14: Evidencia | X14: Nombre de la evidencia
A15: GH8 | B15: Lograr la vinculación de personal con relación a la planta requerida según estudio técnico de rediseño institucional vigente. (Se relaciona con evento potencial intermedio 5). Garantizar que el 100% de funcionarios vinculados cumplan con el perfil del cargo en cuanto a formación y experiencia. (Se relaciona con evento potencial intermedio 1). Lograr el cumplimiento del 90% de las actividades programadas en el Plan Institucional de Capacitación de la entidad en cada vigencia. (Se relaciona con evento potencial intermedio 3). Garantizar que el 100% del personal vinculado cuente con la eváluación de desempeño semestral y que la misma tenga una calificación igual o superior al 80%. Lograr un cumplimiento del 90% en las actividades programadas del Plan de Bienestar Laboral. Mantener un resultado de encuesta de clima laboral igual o superior al 80% cada 2 años. | C15: Desempeño del personal | D15: Posibilidad de afectación económica y reputacional del Instituto | E15: por mal desempeño institucional derivado del incumplimiento de objetivos y metas relacionados con el Plan de Desarrollo Municipal a cargo del Instituto y con la planeación estratégica | F15: debido a un deficiente desempeño del personal que desarrolla los procesos de la entidad. | G15: Posibilidad de afectación económica y reputacional del Instituto por mal desempeño institucional derivado del incumplimiento de objetivos y metas relacionados con el Plan de Desarrollo Municipal a cargo del Instituto y con la planeación estratégica institucional. Lo anterior, debido a un deficiente desempeño del personal que desarrolla los procesos de la entidad. | H15: 1. Nombramiento de personal de planta en provisionalidad sin la idoneidad y competencias requeridas | I15: Gestión | J15: Media | K15: =IF(J15="","",IF(J15="Muy Baja",0.2,IF(J15="Baja",0.4,IF(J15="Media",0.6,IF(J15="Alta",0.8,IF(J15="Muy Alta",1,)))))) -> 0.6 | L15: Mayor | M15: =IF(L15="","",IF(L15="Leve",0.2,IF(L15="Menor",0.4,IF(L15="Moderado",0.6,IF(L15="Mayor",0.8,IF(L15="Catastrófico",1,)))))) -> 0.8 | N15: =IF(OR(AND(J15="Muy Baja",L15="Leve"),AND(J15="Muy Baja",L15="Menor"),AND(J15="Baja",L15="Leve")),"Bajo",IF(OR(AND(J15="Muy Baja",L15="Moderado"),AND(J15="Baja",L15="Menor"),AND(J15="Baja",L15="Moderado"),AND(J15="Media",L15="Leve"),AND(J15="Media",L15="Menor"),AND(J15="Media",L15="Moderado"),AND(J15="Alta",L15="Leve"),AND(J15="Alta",L15="Menor")),"Moderado",IF(OR(AND(J15="Muy Baja",L15="Mayor"),AND(J15="Baja",L15="Mayor"),AND(J15="Media",L15="Mayor"),AND(J15="Alta",L15="Moderado"),AND(J15="Alta",L15="Mayor"),AND(J15="Muy Alta",L15="Leve"),AND(J15="Muy Alta",L15="Menor"),AND(J15="Muy Alta",L15="Moderado"),AND(J15="Muy Alta",L15="Mayor")),"Alto",IF(OR(AND(J15="Muy Baja",L15="Catastrófico"),AND(J15="Baja",L15="Catastrófico"),AND(J15="Media",L15="Catastrófico"),AND(J15="Alta",L15="Catastrófico"),AND(J15="Muy Alta",L15="Catastrófico")),"Extremo","")))) -> Alto | O15: 1 | P15: El profesional Líder de Talento Humano verifica los requisitos del perfil del cargo que permitan garantizar el cumplimiento de la idoneidad y competencia requerida para la incorporación de personal de planta en provisionalidad y libre nombramiento y remoción, para lo cual utiliza una lista de chequeo de cumplimiento de perfil. | Q15: =IF(OR(R15="Preventivo",R15="Detectivo"),"Probabilidad",IF(R15="Correctivo","Impacto","")) -> Probabilidad | R15: Preventivo | S15: Manual | T15: =IF(AND(R15="Preventivo",S15="Automático"),"50%",IF(AND(R15="Preventivo",S15="Manual"),"40%",IF(AND(R15="Detectivo",S15="Automático"),"40%",IF(AND(R15="Detectivo",S15="Manual"),"30%",IF(AND(R15="Correctivo",S15="Automático"),"35%",IF(AND(R15="Correctivo",S15="Manual"),"25%","")))))) -> 40% | U15: Documentado | V15: Aleatoria | W15: Con Registro | X15: Lista de chequeo de cumplimiento de perfil (Personal de planta en provisionalidad). F-GH-74 verificación de cumplimiento de requisitos | Y15: =IFERROR(IF(Q15="Probabilidad",(K15-(+K15*T15)),IF(Q15="Impacto",K15,"")),"") -> 0.36 | Z15: =IFERROR(IF(Y15="","",IF(Y15<=0.2,"Muy Baja",IF(Y15<=0.4,"Baja",IF(Y15<=0.6,"Media",IF(Y15<=0.8,"Alta","Muy Alta"))))),"") -> Baja | AA15: =+Y15 -> 0.36 | AB15: =IFERROR(IF(AC15="","",IF(AC15<=0.2,"Leve",IF(AC15<=0.4,"Menor",IF(AC15<=0.6,"Moderado",IF(AC15<=0.8,"Mayor","Catastrófico"))))),"") -> Mayor | AC15: =IFERROR(IF(Q15="Impacto",(M15-(+M15*T15)),IF(Q15="Probabilidad",M15,"")),"") -> 0.8 | AD15: =IFERROR(IF(AE15=0,"",IF(AND(AE15>0,AE15<=0.2),"Muy Baja",IF(AE15<=0.4,"Baja",IF(AE15<=0.6,"Media",IF(AE15<=0.8,"Alta","Muy Alta"))))),"") -> Baja | AE15: =MIN(Y15:Y18) -> 0.216 | AF15: =IFERROR(IF(AG15=0,"",IF(AND(AG15>0,AG15<=0.2),"Leve",IF(AG15<=0.4,"Menor",IF(AG15<=0.6,"Moderado",IF(AG15<=0.8,"Mayor","Catastrófico"))))),"") -> Moderado | AG15: =MIN(AC15:AC18) -> 0.6 | AH15: =IFERROR(IF(OR(AND(AD15="Muy Baja",AF15="Leve"),AND(AD15="Muy Baja",AF15="Menor"),AND(AD15="Baja",AF15="Leve")),"Bajo",IF(OR(AND(AD15="Muy Baja",AF15="Moderado"),AND(AD15="Baja",AF15="Menor"),AND(AD15="Baja",AF15="Moderado"),AND(AD15="Media",AF15="Leve"),AND(AD15="Media",AF15="Menor"),AND(AD15="Media",AF15="Moderado"),AND(AD15="Alta",AF15="Leve"),AND(AD15="Alta",AF15="Menor")),"Moderado",IF(OR(AND(AD15="Muy Baja",AF15="Mayor"),AND(AD15="Baja",AF15="Mayor"),AND(AD15="Media",AF15="Mayor"),AND(AD15="Alta",AF15="Moderado"),AND(AD15="Alta",AF15="Mayor"),AND(AD15="Muy Alta",AF15="Leve"),AND(AD15="Muy Alta",AF15="Menor"),AND(AD15="Muy Alta",AF15="Moderado"),AND(AD15="Muy Alta",AF15="Mayor")),"Alto",IF(OR(AND(AD15="Muy Baja",AF15="Catastrófico"),AND(AD15="Baja",AF15="Catastrófico"),AND(AD15="Media",AF15="Catastrófico"),AND(AD15="Alta",AF15="Catastrófico"),AND(AD15="Muy Alta",AF15="Catastrófico")),"Extremo","")))),"") -> Moderado | AI15: Reducir (mitigar) | AK15: El riesgo y sus causas continuan vigentes de acuerdo al contexto? (Ver Columnas F y H): El riesgo y las causas continúan vigentes de acuerdo al contexto interno y externo Se materializó el Riesgo? (Evento Potencial Principal. Columna F): Durante el primer trimestre el riesgo no se ha materializado, debido a que las Evaluaciones de Desempeño y de Acuerdos de Gestión Gerentes Públicos han sido satisfactorias. Se materializaron las causas? (Eventos Potenciales Intermedios. Columna H): Causa 1: Materializada. Durante el primer trimestre del año 2026, hubo las siguienets contrataciones: Catalina Vasquez Restrepo- Control Interno, Claudia Victoria Gomez Toro - Tesoreria, Oscar Andres Cardona Cadavid - Dirección Causa 3. No materializado. Para el cargo vinculado no se ha realizado el entrenamiento requerido de acuerdo al procedimiento establecido. Causa 4. No Materializada. Se está desarrollando en el marco de la política de Gestión del conocimiento y la innovación actividades orientadas a gestionar la fuga de conocimiento las cuales se encuentran establecidas en el plan táctico de la Subdirección Administrativa y Financiera. Fecha límite: diciembre de 2025. Causa 5. Materializado. El estudio técnico de planta de personal realizado en el 2020 con vigencia hasta el 2022 se encuentra vencido. No es posible gestionar un nuevo estudio toda vez que el Instituto se encuentra inmerso en el proceso de selección Antioquia 3 el cual limita la modificación de la estructura de la planta. Los Controles están bien diseñados, se aplican conforme al diseño y son efectivos? (Ver controles en la columna P / Concluir frente a cada control) Control 1. Esta diseñado adecuadamente.y se realizo de acuerdo a lo establecido en el formato F-GH-74 - VERIFICACION DE CUMPLIMIENTO DE REQUISITOS Control 3. El control se encuentra bien diseñado, una vez se realice la traducción del lenguaje claro al instructivo de entrenamiento se procederá a realizarlo. Control 4. En el plan de trabajo de política del conocimiento ya se incluyeron actividades relacionadas con la mitigacion de fuga de conocimiento explícito y tácito (ver plan de trabajo GESCO). Control 5. No es posible implementar un control por las razones expuestas en la causa 5. Control 7. El control está bien diseñado y no ha sido necesaria su aplicación toda vez que las evaluaciones de desempeño de personal vinculado y las evaluaciones de acuerdo de gestión de los gerentes públicos con corte a junio 30 de 2025 fueron satisfactorias. Acciones derivadas de materialización de eventos / fortalecimiento de controles: Ver acciones en los subtítulos anteriores. Que acciones propones o se están llevando a cabo para gestionar los riesgos y las causas que se materializaron? (Si no aplica colocar NA). Se realizará validación con el funcionario para identificar en cuales temas ha recibido entrenamiento. Que acciones propones o se están llevando a cabo para fortalecer los controles? En caso de que tengas acciones por ejecutar en la columna AJ también concluir frente a su estado): N/A | AL15: Lista de chequeo de cumplimiento de perfil (personal de Planta en provisionalidad) - Documentos SIFI Link a plan táctico de la Subdirección Administrativa y Financiero. Actividades mitigación fuga de conocimiento. https://isvimedgovco.sharepoint.com/:x:/s/1Admin_Y_Financiera/EbghkMMy2UJNhxVzUoYxFPABDIeaHYqSYjTzF4U8TjbdAw?e=MLv0Wv Evaluaciones de desempeño de personal vinculado y evaluación de acuerdos de gestión gerentes publicos corte junio 30 de 2025: https://isvimedgovco.sharepoint.com/sites/Admin_Y_Financiera-09.TalentoHumano/Documentos%20compartidos/Forms/AllItems.aspx?id=%2Fsites%2FAdmin%5FY%5FFinanciera%2D09%2ETalentoHumano%2FDocumentos%20compartidos%2F09%2ETalento%20Humano%2FEVALUACIONES%20DE%20DESEMPE%C3%91O&viewid=2dd00e51%2Dd816%2D465c%2Db07a%2Dac38ca92939f&p=true | AM15: Se materializó el Riesgo? (Ver evento potencial principal en Columna F. Relacionar detalles de la materialización - que, como, cuando, donde): Durante el segundo trimestre el riesgo no se ha materializado, debido a que en este periodo no se ha realizado Evaluaciones de Desempeño. Los Controles están bien diseñados, se aplican de acuerdo al diseño y son efectivos? (Ver controles en la columna P / Concluir frente a cada control) Control 1. Esta diseñado adecuadamente y se realizo de acuerdo a lo establecido en el formato F-GH-74 - VERIFICACION DE CUMPLIMIENTO DE REQUISITOS Control 3. El control se encuentra bien diseñado, una vez se realice la traducción del lenguaje claro al instructivo de entrenamiento se procederá a realizarlo. Control 4. En el plan de trabajo de política del conocimiento ya se incluyeron actividades relacionadas con la mitigacion de fuga de conocimiento explícito y tácito (ver plan de trabajo GESCO). Control 5. No es posible implementar un control por las razones expuestas en la causa 5. Control 7. El control está bien diseñado y no ha sido necesaria su aplicación toda vez que las evaluaciones de desempeño de personal vinculado y las evaluaciones de acuerdo de gestión de los gerentes públicos con corte a junio 30 de 2025 fueron satisfactorias. Que acciones propones o se están llevando a cabo para gestionar el riesgo que se materializó? (Si no aplica colocar N/A) N/A Que acciones propones o se están llevando a cabo para fortalecer los controles? (En el caso de que tener Acciones de mejora / Acciones correctivas en proceso, relacionar el avance. Si tienes acciones específicas a desarrollar en la columna AJ, también relacionar el avance) N/A | AN15: Lista de chequeo de cumplimiento de perfil (personal de Planta en provisionalidad) - Documentos SIFI Link a plan táctico de la Subdirección Administrativa y Financiero. Actividades mitigación fuga de conocimiento. https://isvimedgovco.sharepoint.com/:x:/s/1Admin_Y_Financiera/EbghkMMy2UJNhxVzUoYxFPABDIeaHYqSYjTzF4U8TjbdAw?e=MLv0Wv Evaluaciones de desempeño de personal vinculado y evaluación de acuerdos de gestión gerentes publicos corte junio 30 de 2025: https://isvimedgovco.sharepoint.com/sites/Admin_Y_Financiera-09.TalentoHumano/Documentos%20compartidos/Forms/AllItems.aspx?id=%2Fsites%2FAdmin%5FY%5FFinanciera%2D09%2ETalentoHumano%2FDocumentos%20compartidos%2F09%2ETalento%20Humano%2FEVALUACIONES%20DE%20DESEMPE%C3%91O&viewid=2dd00e51%2Dd816%2D465c%2Db07a%2Dac38ca92939f&p=true | AO15: Se materializó el Riesgo? (Ver evento potencial principal en Columna F. Relacionar detalles de la materialización - que, como, cuando, donde): Los Controles están bien diseñados, se aplican de acuerdo al diseño y son efectivos? (Ver controles en la columna P / Concluir frente a cada control) Que acciones propones o se están llevando a cabo para gestionar el riesgo que se materializó? (Si no aplica colocar N/A) Que acciones propones o se están llevando a cabo para fortalecer los controles? (En el caso de que tener Acciones de mejora / Acciones correctivas en proceso, relacionar el avance. Si tienes acciones específicas a desarrollar en la columna AJ, también relacionar el avance) | AQ15: Se materializó el Riesgo? (Ver evento potencial principal en Columna F. Relacionar detalles de la materialización - que, como, cuando, donde): Los Controles están bien diseñados, se aplican de acuerdo al diseño y son efectivos? (Ver controles en la columna P / Concluir frente a cada control) Que acciones propones o se están llevando a cabo para gestionar el riesgo que se materializó? (Si no aplica colocar N/A) Que acciones propones o se están llevando a cabo para fortalecer los controles? (En el caso de que tener Acciones de mejora / Acciones correctivas en proceso, relacionar el avance. Si tienes acciones específicas a desarrollar en la columna AJ, también relacionar el avance)
B16: Lograr la vinculación de personal con relación a la planta requerida según estudio técnico de rediseño institucional vigente. | H16: 3. No se proporciona el entrenamiento necesario al personal. | O16: 3 | P16: La Subdirección Administrativa y financiera definen el plan de entrenamiento por nivel jerárquico en observancia de lo establecido en el procedimiento P-GH-10. El profesional Líder de Talento Humano verifica que los funcionarios en entrenamiento, realicen todas las formaciones establecidas en el registro de Plan de entrenamiento. Este registro debe contar con la firma de los responsables de los entrenamientos, el jefe respectivo, el líder de programa o líder de proceso y la suya. Adicionalmente, El profesional de gestión de talento humano realiza proceso de inducción y reinducción al personal de la entidad de acuerdo al volumen de ingresos de personal, para lo cual se aplica lo establecido en el procedimiento de inducción y reinducción. El profesional de gestión de talento humano evalúa el contenido de la inducción y reinducción mediante taller evaluativo. | Q16: =IF(OR(R16="Preventivo",R16="Detectivo"),"Probabilidad",IF(R16="Correctivo","Impacto","")) -> Probabilidad | R16: Preventivo | S16: Manual | T16: =IF(AND(R16="Preventivo",S16="Automático"),"50%",IF(AND(R16="Preventivo",S16="Manual"),"40%",IF(AND(R16="Detectivo",S16="Automático"),"40%",IF(AND(R16="Detectivo",S16="Manual"),"30%",IF(AND(R16="Correctivo",S16="Automático"),"35%",IF(AND(R16="Correctivo",S16="Manual"),"25%","")))))) -> 40% | U16: Documentado | V16: Aleatoria | W16: Con Registro | X16: Formato Plan de Entrenamiento diligenciado Ayudas Audiovisuales para la Inducción y reinducción Institucional. Registros de Asistencia. Registros deTaller evaluativo de inducción y reinducción. | Y16: =IFERROR(IF(AND(Q15="Probabilidad",Q16="Probabilidad"),(AA15-(+AA15*T16)),IF(Q16="Probabilidad",(K15-(+K15*T16)),IF(Q16="Impacto",AA15,""))),"") -> 0.216 | Z16: =IFERROR(IF(Y16="","",IF(Y16<=0.2,"Muy Baja",IF(Y16<=0.4,"Baja",IF(Y16<=0.6,"Media",IF(Y16<=0.8,"Alta","Muy Alta"))))),"") -> Baja | AA16: =+Y16 -> 0.216 | AB16: =IFERROR(IF(AC16="","",IF(AC16<=0.2,"Leve",IF(AC16<=0.4,"Menor",IF(AC16<=0.6,"Moderado",IF(AC16<=0.8,"Mayor","Catastrófico"))))),"") -> Mayor | AC16: =IFERROR(IF(AND(Q15="Impacto",Q16="Impacto"),(AC15-(+AC15*T16)),IF(Q16="Impacto",($N$15-(+$N$15*T16)),IF(Q16="Probabilidad",AC15,""))),"") -> 0.8
H17: 5. No se cuenta con una estructura organizacional adecuada que soporte el desarrollo de los procesos. | O17: 5 | P17: No existe medida actual | Q17: =IF(OR(R17="Preventivo",R17="Detectivo"),"Probabilidad",IF(R17="Correctivo","Impacto","")) | R17: N/A | S17: N/A | T17: =IF(AND(R17="Preventivo",S17="Automático"),"50%",IF(AND(R17="Preventivo",S17="Manual"),"40%",IF(AND(R17="Detectivo",S17="Automático"),"40%",IF(AND(R17="Detectivo",S17="Manual"),"30%",IF(AND(R17="Correctivo",S17="Automático"),"35%",IF(AND(R17="Correctivo",S17="Manual"),"25%","")))))) | U17: N/A | V17: N/A | W17: N/A | X17: N/A | Y17: =IFERROR(IF(AND(Q16="Probabilidad",Q17="Probabilidad"),(AA16-(+AA16*T17)),IF(AND(Q16="Impacto",Q17="Probabilidad"),(AA15-(+AA15*T17)),IF(Q17="",AA16,""))),"") -> 0.216 | Z17: =IFERROR(IF(Y17="","",IF(Y17<=0.2,"Muy Baja",IF(Y17<=0.4,"Baja",IF(Y17<=0.6,"Media",IF(Y17<=0.8,"Alta","Muy Alta"))))),"") -> Baja | AA17: =+Y17 -> 0.216 | AB17: =IFERROR(IF(AC17="","",IF(AC17<=0.2,"Leve",IF(AC17<=0.4,"Menor",IF(AC17<=0.6,"Moderado",IF(AC17<=0.8,"Mayor","Catastrófico"))))),"") -> Mayor | AC17: =IFERROR(IF(AND(Q16="Impacto",Q17="Impacto"),(AC16-(+AC16*T17)),IF(AND(Q16="Probabilidad",Q17="Impacto"),(AC15-(+AC15*T17)),IF(Q17="",AC16,""))),"") -> 0.8
O18: 7 | P18: En caso de incumplimiento de los objetivos formulados y concertados en la Evaluación de Desempeño para la vigencia actual, se concerta un plan de mejoramiento entre evaluador y evaluado, que debe ser revisado en el seguimiento próximo y al cierre de la evaluación de desempeño para la vigencia. | Q18: =IF(OR(R18="Preventivo",R18="Detectivo"),"Probabilidad",IF(R18="Correctivo","Impacto","")) -> Impacto | R18: Correctivo | S18: Manual | T18: =IF(AND(R18="Preventivo",S18="Automático"),"50%",IF(AND(R18="Preventivo",S18="Manual"),"40%",IF(AND(R18="Detectivo",S18="Automático"),"40%",IF(AND(R18="Detectivo",S18="Manual"),"30%",IF(AND(R18="Correctivo",S18="Automático"),"35%",IF(AND(R18="Correctivo",S18="Manual"),"25%","")))))) -> 25% | U18: Sin Documentar | V18: Aleatoria | W18: Con Registro | X18: Evaluación de desempeño | Y18: =IFERROR(IF(AND(Q17="Probabilidad",Q18="Probabilidad"),(AA17-(+AA17*T18)),IF(AND(Q17="Impacto",Q18="Probabilidad"),(AA16-(+AA16*T18)),IF(Q18="Impacto",AA17,""))),"") -> 0.216 | Z18: =IFERROR(IF(Y18="","",IF(Y18<=0.2,"Muy Baja",IF(Y18<=0.4,"Baja",IF(Y18<=0.6,"Media",IF(Y18<=0.8,"Alta","Muy Alta"))))),"") -> Baja | AA18: =+Y18 -> 0.216 | AB18: =IFERROR(IF(AC18="","",IF(AC18<=0.2,"Leve",IF(AC18<=0.4,"Menor",IF(AC18<=0.6,"Moderado",IF(AC18<=0.8,"Mayor","Catastrófico"))))),"") -> Moderado | AC18: =IFERROR(IF(AND(Q17="Impacto",Q18="Impacto"),(AC17-(+AC17*T18)),IF(AND(Q17="",Q18="Impacto"),(AC16-(+AC16*T18)),IF(Q18="Probabilidad",AC17,""))),"") -> 0.6
A19: GH9 | B19: Lograr el 95% de cumplimiento de los estándares mínimos del Sistema de Seguridad y Salud en el Trabajo aplicables al Isvimed, en cada vigencia. | C19: Requerimientos normativos y/o de informes de Ley relacionados con el proceso de gestión humana y con el SG-SST. | D19: Posibilidad de afectación económica del Instituto | E19: por multas y sanciones aplicadas por los entes de control | F19: debido al incumplimiento de requerimientos normativos y/o de informes de Ley relacionados con el proceso de gestión humana y con el SG-SST. | G19: Posibilidad de afectación económica del Instituto por multas y sanciones aplicadas por los entes de control debido al incumplimiento de requerimientos normativos y/o de informes de Ley relacionados con el proceso de gestión humana y con el SG-SST. | H19: 1. Desconocimiento de la normatividad aplicable al proceso. 1.1. Inexistencia o desactualización del normograma (gestión humana, nomina y prestaciones sociales, SG-SST) | I19: Fiscal | J19: Alta | K19: =IF(J19="","",IF(J19="Muy Baja",0.2,IF(J19="Baja",0.4,IF(J19="Media",0.6,IF(J19="Alta",0.8,IF(J19="Muy Alta",1,)))))) -> 0.8 | L19: Menor | M19: =IF(L19="","",IF(L19="Leve",0.2,IF(L19="Menor",0.4,IF(L19="Moderado",0.6,IF(L19="Mayor",0.8,IF(L19="Catastrófico",1,)))))) -> 0.4 | N19: =IF(OR(AND(J19="Muy Baja",L19="Leve"),AND(J19="Muy Baja",L19="Menor"),AND(J19="Baja",L19="Leve")),"Bajo",IF(OR(AND(J19="Muy baja",L19="Moderado"),AND(J19="Baja",L19="Menor"),AND(J19="Baja",L19="Moderado"),AND(J19="Media",L19="Leve"),AND(J19="Media",L19="Menor"),AND(J19="Media",L19="Moderado"),AND(J19="Alta",L19="Leve"),AND(J19="Alta",L19="Menor")),"Moderado",IF(OR(AND(J19="Muy Baja",L19="Mayor"),AND(J19="Baja",L19="Mayor"),AND(J19="Media",L19="Mayor"),AND(J19="Alta",L19="Moderado"),AND(J19="Alta",L19="Mayor"),AND(J19="Muy Alta",L19="Leve"),AND(J19="Muy Alta",L19="Menor"),AND(J19="Muy Alta",L19="Moderado"),AND(J19="Muy Alta",L19="Mayor")),"Alto",IF(OR(AND(J19="Muy Baja",L19="Catastrófico"),AND(J19="Baja",L19="Catastrófico"),AND(J19="Media",L19="Catastrófico"),AND(J19="Alta",L19="Catastrófico"),AND(J19="Muy Alta",L19="Catastrófico")),"Extremo","")))) -> Moderado | O19: 1 | P19: El profesional de gestión del talento y el profesional del Sistema de Seguridad y Salud en el trabajo, una vez identifica cambios en la normatividad o nuevas normas, informa al area jurídica para que actualicen el normograma institucional. | Q19: =IF(OR(R19="Preventivo",R19="Detectivo"),"Probabilidad",IF(R19="Correctivo","Impacto","")) -> Probabilidad | R19: Preventivo | S19: Manual | T19: =IF(AND(R19="Preventivo",S19="Automático"),"50%",IF(AND(R19="Preventivo",S19="Manual"),"40%",IF(AND(R19="Detectivo",S19="Automático"),"40%",IF(AND(R19="Detectivo",S19="Manual"),"30%",IF(AND(R19="Correctivo",S19="Automático"),"35%",IF(AND(R19="Correctivo",S19="Manual"),"25%","")))))) -> 40% | U19: Sin Documentar | V19: Aleatoria | W19: Con Registro | X19: Control de cambios del normograma en temas relacionados con la Gestión del Talento Humano, Nómina y prestaciones sociales y el SG-SST | Y19: =IFERROR(IF(Q19="Probabilidad",(K19-(+K19*T19)),IF(Q19="Impacto",K19,"")),"") -> 0.48 | Z19: =IFERROR(IF(Y19="","",IF(Y19<=0.2,"Muy Baja",IF(Y19<=0.4,"Baja",IF(Y19<=0.6,"Media",IF(Y19<=0.8,"Alta","Muy Alta"))))),"") -> Media | AA19: =+Y19 -> 0.48 | AB19: =IFERROR(IF(AC19="","",IF(AC19<=0.2,"Leve",IF(AC19<=0.4,"Menor",IF(AC19<=0.6,"Moderado",IF(AC19<=0.8,"Mayor","Catastrófico"))))),"") -> Menor | AC19: =IFERROR(IF(Q19="Impacto",(M19-(+M19*T19)),IF(Q19="Probabilidad",M19,"")),"") -> 0.4 | AD19: =IFERROR(IF(AE19=0,"",IF(AND(AE19>0,AE19<=0.2),"Muy Baja",IF(AE19<=0.4,"Baja",IF(AE19<=0.6,"Media",IF(AE19<=0.8,"Alta","Muy Alta"))))),"") -> Muy Baja | AE19: =MIN(Y19:Y21) -> 0.1728 | AF19: =IFERROR(IF(AG19=0,"",IF(AND(AG19>0,AG19<=0.2),"Leve",IF(AG19<=0.4,"Menor",IF(AG19<=0.6,"Moderado",IF(AG19<=0.8,"Mayor","Catastrófico"))))),"") -> Menor | AG19: =MIN(AC19:AC21) -> 0.4 | AH19: =IFERROR(IF(OR(AND(AD19="Muy Baja",AF19="Leve"),AND(AD19="Muy Baja",AF19="Menor"),AND(AD19="Baja",AF19="Leve")),"Bajo",IF(OR(AND(AD19="Muy Baja",AF19="Moderado"),AND(AD19="Baja",AF19="Menor"),AND(AD19="Baja",AF19="Moderado"),AND(AD19="Media",AF19="Leve"),AND(AD19="Media",AF19="Menor"),AND(AD19="Media",AF19="Moderado"),AND(AD19="Alta",AF19="Leve"),AND(AD19="Alta",AF19="Menor")),"Moderado",IF(OR(AND(AD19="Muy Baja",AF19="Mayor"),AND(AD19="Baja",AF19="Mayor"),AND(AD19="Media",AF19="Mayor"),AND(AD19="Alta",AF19="Moderado"),AND(AD19="Alta",AF19="Mayor"),AND(AD19="Muy Alta",AF19="Leve"),AND(AD19="Muy Alta",AF19="Menor"),AND(AD19="Muy Alta",AF19="Moderado"),AND(AD19="Muy Alta",AF19="Mayor")),"Alto",IF(OR(AND(AD19="Muy Baja",AF19="Catastrófico"),AND(AD19="Baja",AF19="Catastrófico"),AND(AD19="Media",AF19="Catastrófico"),AND(AD19="Alta",AF19="Catastrófico"),AND(AD19="Muy Alta",AF19="Catastrófico")),"Extremo","")))),"") -> Bajo | AI19: Reducir (mitigar) | AK19: El riesgo y sus causas continuan vigentes de acuerdo al contexto? (Ver Columnas F y H): El riesgo y las causas continúan vigentes de acuerdo al contexto interno y externo Se materializó el Riesgo? (Evento Potencial Principal. Columna F): Este riesgo no se ha materializado en el primer trimestre del 2026, debido al cumplimiento oportuno de la normativa aplicable desde el proceso de Talento humano y desde SGSST.>>> Se materializaron las causas? (Eventos Potenciales Intermedios. Columna H): Causa 1: El normograma esta actualizado de acuerdo con la normativa vigente aplicable al proceso de Talento humano y al SGSST: Causa 2: No se ha materializado, por lo tanto no se han realizado a la fecha actualizaciones ni socializaciones de carácter normativo. Causa 3: No se ha materializado, por lo tanto, no se han realizado a la fecha actualizaciones ni socializaciones de carácter normativo. Los Controles están bien diseñados, se aplican conforme al diseño y son efectivos? (Ver controles en la columna P / Concluir frente a cada control) Control 1: Control está bien diseñado y este se actualiza cada vez que surge una norma nueva aplicable a los procesos. Una vez surja la actualización envía a subdirección Jurídica para que procedan. Control 2: Control está bien diseñado y este se actualiza cada vez que surge una norma nueva aplicable a los procesos. Una vez surja la utilización se enviará a la Subdirección Jurídica y se socializara en comités primarios y el equipo primario de talento humano. Control 3: No se ha materializado. Acciones derivadas de materialización de eventos / fortalecimiento de controles: ver acciones en Subtítulos anteriores. Que acciones propones o se están llevando a cabo para gestionar los riesgos y las causas que se materializaron? (Si no aplica colocar NA): N/A Que acciones propones o se están llevando a cabo para fortalecer los controles? En caso de que tengas acciones por ejecutar en la columna AJ también concluir frente a su estado): N/A | AL19: Control de cambio de normograma en temas relacionados con la gestión de Talento Humano, Nomina, Prestaciones Sociales y SG-SST Se adjunta link que conduce a la plataforma Sifi donde se encuentan todos las actalizaciones normativas http://sifi2.isvimed.gov.co:85/calidadprocesos?search=&searchn=NORMOGRAMA&x=0&y=0 | AM19: Se materializó el Riesgo? (Evento Potencial Principal. Columna F): Este riesgo no se ha materializado en el segundo trimestre del 2026, debido al cumplimiento oportuno de la normativa aplicable desde el proceso de Talento humano y desde SGSST.>>> Los Controles están bien diseñados, se aplican conforme al diseño y son efectivos? (Ver controles en la columna P / Concluir frente a cada control) Control 1: Control está bien diseñado y este se actualiza cada vez que surge una norma nueva aplicable a los procesos. Una vez surja la actualización envía a subdirección Jurídica para que procedan. Control 2: Control está bien diseñado y este se actualiza cada vez que surge una norma nueva aplicable a los procesos. Una vez surja la utilización se enviará a la Subdirección Jurídica y se socializara en comités primarios y el equipo primario de talento humano. Control 3: No se ha materializado. Acciones derivadas de materialización de eventos / fortalecimiento de controles: ver acciones en Subtítulos anteriores. Que acciones propones o se están llevando a cabo para gestionar los riesgos y las causas que se materializaron? (Si no aplica colocar NA): N/A Que acciones propones o se están llevando a cabo para fortalecer los controles? En caso de que tengas acciones por ejecutar en la columna AJ también concluir frente a su estado): N/A | AN19: Control de cambio de normograma en temas relacionados con la gestión de Talento Humano, Nomina, Prestaciones Sociales y SG-SST Se adjunta link que conduce a la plataforma Sifi donde se encuentan todos las actalizaciones normativas http://sifi2.isvimed.gov.co:85/calidadprocesos?search=&searchn=NORMOGRAMA&x=0&y=0 | AO19: Se materializó el Riesgo? (Ver evento potencial principal en Columna F. Relacionar detalles de la materialización - que, como, cuando, donde): Los Controles están bien diseñados, se aplican de acuerdo al diseño y son efectivos? (Ver controles en la columna P / Concluir frente a cada control) Que acciones propones o se están llevando a cabo para gestionar el riesgo que se materializó? (Si no aplica colocar N/A) Que acciones propones o se están llevando a cabo para fortalecer los controles? (En el caso de que tener Acciones de mejora / Acciones correctivas en proceso, relacionar el avance. Si tienes acciones específicas a desarrollar en la columna AJ, también relacionar el avance) | AQ19: Se materializó el Riesgo? (Ver evento potencial principal en Columna F. Relacionar detalles de la materialización - que, como, cuando, donde): Los Controles están bien diseñados, se aplican de acuerdo al diseño y son efectivos? (Ver controles en la columna P / Concluir frente a cada control) Que acciones propones o se están llevando a cabo para gestionar el riesgo que se materializó? (Si no aplica colocar N/A) Que acciones propones o se están llevando a cabo para fortalecer los controles? (En el caso de que tener Acciones de mejora / Acciones correctivas en proceso, relacionar el avance. Si tienes acciones específicas a desarrollar en la columna AJ, también relacionar el avance)
H20: 2. La normatividad se encuentra identificada pero no se aplica. 2.1. Los requisitos normativos no se han incluido en la documentación del SGC. | O20: 2 | P20: El profesional Líder de Talento Humano, socializa los cambios normativos e informa sobre su aplicación en comités primarios de la Subdirección Administrativa y Financiera, y el equipo primario del area de Gestión Humana La ARL verifca el cumplmiento de los requisitos de la resolución 0312 del 2015 (estandares mínimos del SGSST), a través de lista de chequeo establecida dentro de la misma norma. Frecuencia: Minimo una vez al año | Q20: =IF(OR(R20="Preventivo",R20="Detectivo"),"Probabilidad",IF(R20="Correctivo","Impacto","")) -> Probabilidad | R20: Preventivo | S20: Manual | T20: =IF(AND(R20="Preventivo",S20="Automático"),"50%",IF(AND(R20="Preventivo",S20="Manual"),"40%",IF(AND(R20="Detectivo",S20="Automático"),"40%",IF(AND(R20="Detectivo",S20="Manual"),"30%",IF(AND(R20="Correctivo",S20="Automático"),"35%",IF(AND(R20="Correctivo",S20="Manual"),"25%","")))))) -> 40% | U20: Sin Documentar | V20: Aleatoria | W20: Con Registro | X20: Actas de comité primario Subdirección Adminsitrativa y Financiera y Actas de eqiuipo primario Area Gestión Humana. Lista de Chequeo de Cumplimiento de Requisitos del SG-SST por parte de la ARL | Y20: =IFERROR(IF(AND(Q19="Probabilidad",Q20="Probabilidad"),(AA19-(+AA19*T20)),IF(Q20="Probabilidad",(K19-(+K19*T20)),IF(Q20="Impacto",AA19,""))),"") -> 0.288 | Z20: =IFERROR(IF(Y20="","",IF(Y20<=0.2,"Muy Baja",IF(Y20<=0.4,"Baja",IF(Y20<=0.6,"Media",IF(Y20<=0.8,"Alta","Muy Alta"))))),"") -> Baja | AA20: =+Y20 -> 0.288 | AB20: =IFERROR(IF(AC20="","",IF(AC20<=0.2,"Leve",IF(AC20<=0.4,"Menor",IF(AC20<=0.6,"Moderado",IF(AC20<=0.8,"Mayor","Catastrófico"))))),"") -> Menor | AC20: =IFERROR(IF(AND(Q19="Impacto",Q20="Impacto"),(AC19-(+AC19*T20)),IF(AND(Q19="Probabilidad",Q20="Impacto"),(AC18-(+AC18*T20)),IF(Q20="Probabilidad",AC19,""))),"") -> 0.4
H21: 3. No existe un control informes de ley y de fechas de presentación de los mismos. 3.1.. No existe un mecanismo de generación de alertas para presentación de informes. | O21: 3 | P21: El profesional Líder de Talento Humano identifica la normatividad aplicable a los proceso de gestión humana, nomina y prestaciones sociales y SG-SST y los ingresa en el COLA (Calendari o de Obligaciones Laborales y Administrativas). En los equipos primarios del área de gestión humana se realiza seguimiento al cumplimiento del COLA. | Q21: =IF(OR(R21="Preventivo",R21="Detectivo"),"Probabilidad",IF(R21="Correctivo","Impacto","")) -> Probabilidad | R21: Preventivo | S21: Manual | T21: =IF(AND(R21="Preventivo",S21="Automático"),"50%",IF(AND(R21="Preventivo",S21="Manual"),"40%",IF(AND(R21="Detectivo",S21="Automático"),"40%",IF(AND(R21="Detectivo",S21="Manual"),"30%",IF(AND(R21="Correctivo",S21="Automático"),"35%",IF(AND(R21="Correctivo",S21="Manual"),"25%","")))))) -> 40% | U21: Sin Documentar | V21: Aleatoria | W21: Con Registro | X21: Actas de equipo primario del área de Gestión Humana | Y21: =IFERROR(IF(AND(Q20="Probabilidad",Q21="Probabilidad"),(AA20-(+AA20*T21)),IF(AND(Q20="Impacto",Q21="Probabilidad"),(AA19-(+AA19*T21)),IF(Q21="Impacto",AA20,""))),"") -> 0.1728 | Z21: =IFERROR(IF(Y21="","",IF(Y21<=0.2,"Muy Baja",IF(Y21<=0.4,"Baja",IF(Y21<=0.6,"Media",IF(Y21<=0.8,"Alta","Muy Alta"))))),"") -> Muy Baja | AA21: =+Y21 -> 0.1728 | AB21: =IFERROR(IF(AC21="","",IF(AC21<=0.2,"Leve",IF(AC21<=0.4,"Menor",IF(AC21<=0.6,"Moderado",IF(AC21<=0.8,"Mayor","Catastrófico"))))),"") -> Menor | AC21: =IFERROR(IF(AND(Q20="Impacto",Q21="Impacto"),(AC20-(+AC20*T21)),IF(AND(Q20="Probabilidad",Q21="Impacto"),(AC19-(+AC19*T21)),IF(Q21="Probabilidad",AC20,""))),"") -> 0.4
A22: GH10 | B22: Garantizar que el 100% de los pagos de nomina, prestaciones sociales y seguridad social cumplan los términos pactados y la normatividad aplicable. | C22: Nomina y prestaciones sociales | D22: Posibilidad de afectación económica del Instituto | E22: por pérdida de recursos | F22: debido a que se pague nómina y prestaciones sociales por una mayor valor al establecido en la ley, o que se pague nómina y prestaciones sociales a personal no existente en la planta de cargos de la entidad. Lo anterior para beneficio particular o de un tercero. | G22: Posibilidad de afectación económica del Instituto por pérdida de recursos debido a que se pague nómina y prestaciones sociales por un mayor valor al establecido en la ley, o que se pague nómina y prestaciones sociales a personal no existente en la planta de cargos de la entidad. Lo anterior para beneficio particular o de un tercero. | H22: 1. Existencia de sistemas de información manuales. | I22: Integridad Pùblica - Corrupción | J22: Alta | K22: =IF(J22="","",IF(J22="Muy Baja",0.2,IF(J22="Baja",0.4,IF(J22="Media",0.6,IF(J22="Alta",0.8,IF(J22="Muy Alta",1,)))))) -> 0.8 | L22: Catastrófico | M22: =IF(L22="","",IF(L22="Leve",0.2,IF(L22="Menor",0.4,IF(L22="Moderado",0.6,IF(L22="Mayor",0.8,IF(L22="Catastrófico",1,)))))) -> 1 | N22: =IF(OR(AND(J22="Muy Baja",L22="Leve"),AND(J22="Muy Baja",L22="Menor"),AND(J22="Baja",L22="Leve")),"Bajo",IF(OR(AND(J22="Muy baja",L22="Moderado"),AND(J22="Baja",L22="Menor"),AND(J22="Baja",L22="Moderado"),AND(J22="Media",L22="Leve"),AND(J22="Media",L22="Menor"),AND(J22="Media",L22="Moderado"),AND(J22="Alta",L22="Leve"),AND(J22="Alta",L22="Menor")),"Moderado",IF(OR(AND(J22="Muy Baja",L22="Mayor"),AND(J22="Baja",L22="Mayor"),AND(J22="Media",L22="Mayor"),AND(J22="Alta",L22="Moderado"),AND(J22="Alta",L22="Mayor"),AND(J22="Muy Alta",L22="Leve"),AND(J22="Muy Alta",L22="Menor"),AND(J22="Muy Alta",L22="Moderado"),AND(J22="Muy Alta",L22="Mayor")),"Alto",IF(OR(AND(J22="Muy Baja",L22="Catastrófico"),AND(J22="Baja",L22="Catastrófico"),AND(J22="Media",L22="Catastrófico"),AND(J22="Alta",L22="Catastrófico"),AND(J22="Muy Alta",L22="Catastrófico")),"Extremo","")))) -> Extremo | O22: 1 | P22: El modulo de nómina - plataforma SICOP, se encuentra parametrizado para calcular nomina y seguridad social de manera automática. | Q22: =IF(OR(R22="Preventivo",R22="Detectivo"),"Probabilidad",IF(R22="Correctivo","Impacto","")) -> Probabilidad | R22: Preventivo | S22: Automático | T22: =IF(AND(R22="Preventivo",S22="Automático"),"50%",IF(AND(R22="Preventivo",S22="Manual"),"40%",IF(AND(R22="Detectivo",S22="Automático"),"40%",IF(AND(R22="Detectivo",S22="Manual"),"30%",IF(AND(R22="Correctivo",S22="Automático"),"35%",IF(AND(R22="Correctivo",S22="Manual"),"25%","")))))) -> 50% | U22: Documentado | V22: Continua | W22: Con Registro | X22: Reportes de liquidación nomina y de prestaciones sociales. Planillas de seguridad social | Y22: =IFERROR(IF(Q22="Probabilidad",(K22-(+K22*T22)),IF(Q22="Impacto",K22,"")),"") -> 0.4 | Z22: =IFERROR(IF(Y22="","",IF(Y22<=0.2,"Muy Baja",IF(Y22<=0.4,"Baja",IF(Y22<=0.6,"Media",IF(Y22<=0.8,"Alta","Muy Alta"))))),"") -> Baja | AA22: =+Y22 -> 0.4 | AB22: =IFERROR(IF(AC22="","",IF(AC22<=0.2,"Leve",IF(AC22<=0.4,"Menor",IF(AC22<=0.6,"Moderado",IF(AC22<=0.8,"Mayor","Catastrófico"))))),"") -> Catastrófico | AC22: =IFERROR(IF(Q22="Impacto",(M22-(+M22*T22)),IF(Q22="Probabilidad",M22,"")),"") -> 1 | AD22: =IFERROR(IF(AE22=0,"",IF(AND(AE22>0,AE22<=0.2),"Muy Baja",IF(AE22<=0.4,"Baja",IF(AE22<=0.6,"Media",IF(AE22<=0.8,"Alta","Muy Alta"))))),"") -> Muy Baja | AE22: =MIN(Y22:Y26) -> 0.168 | AF22: =IFERROR(IF(AG22=0,"",IF(AND(AG22>0,AG22<=0.2),"Leve",IF(AG22<=0.4,"Menor",IF(AG22<=0.6,"Moderado",IF(AG22<=0.8,"Mayor","Catastrófico"))))),"") -> Moderado | AG22: =MIN(AC22:AC26) -> 0.5625 | AH22: =IFERROR(IF(OR(AND(AD22="Muy Baja",AF22="Leve"),AND(AD22="Muy Baja",AF22="Menor"),AND(AD22="Baja",AF22="Leve")),"Bajo",IF(OR(AND(AD22="Muy Baja",AF22="Moderado"),AND(AD22="Baja",AF22="Menor"),AND(AD22="Baja",AF22="Moderado"),AND(AD22="Media",AF22="Leve"),AND(AD22="Media",AF22="Menor"),AND(AD22="Media",AF22="Moderado"),AND(AD22="Alta",AF22="Leve"),AND(AD22="Alta",AF22="Menor")),"Moderado",IF(OR(AND(AD22="Muy Baja",AF22="Mayor"),AND(AD22="Baja",AF22="Mayor"),AND(AD22="Media",AF22="Mayor"),AND(AD22="Alta",AF22="Moderado"),AND(AD22="Alta",AF22="Mayor"),AND(AD22="Muy Alta",AF22="Leve"),AND(AD22="Muy Alta",AF22="Menor"),AND(AD22="Muy Alta",AF22="Moderado"),AND(AD22="Muy Alta",AF22="Mayor")),"Alto",IF(OR(AND(AD22="Muy Baja",AF22="Catastrófico"),AND(AD22="Baja",AF22="Catastrófico"),AND(AD22="Media",AF22="Catastrófico"),AND(AD22="Alta",AF22="Catastrófico"),AND(AD22="Muy Alta",AF22="Catastrófico")),"Extremo","")))),"") -> Moderado | AI22: Reducir (mitigar) | AK22: El riesgo y sus causas continuan vigentes de acuerdo al contexto? (Ver Columnas F y H): El riesgo y las causas continúan vigentes de acuerdo al contexto interno y externo Se materializó el Riesgo? (Evento Potencial Principal. Columna F): No materializado en el primer trimestre Se materializaron las causas? (Eventos Potenciales Intermedios. Columna H): No materializado en el primer trimestre Los Controles están bien diseñados, se aplican conforme al diseño y son efectivos? (Ver controles en la columna P / Concluir frente a cada control) Control 1: No fue necesario ya que no se materializo el riesgo en el primer trimestre Control 2: No fue necesario ya que no se materializo el riesgo en el primer trimestre Control 3: No fue efectivo debido a que no se detectó por ninguna de las partes. Control 4: No fue necesario ya que no se materializo el riesgo en el primer trimestre Control 5: Esta bien diseñado, no ha sido necesaria su aplicación ya que los empleados han reflejado comportamientos adecuados que no incluyen en malas prácticas de corrupción. Acciones derivadas de materialización de eventos / fortalecimiento de controles: ver acciones en Subtítulos anteriores. Que acciones propones o se están llevando a cabo para gestionar los riesgos y las causas que se materializaron? (Si no aplica colocar NA): N/A Que acciones propones o se están llevando a cabo para fortalecer los controles? En caso de que tengas acciones por ejecutar en la columna AJ también concluir frente a su estado): N/A | AL22: Liquidación de nomina y prestaciones sociales con VoBo (Archivo en Excel) Ruta de One drive, carpeta compartida de Admin y Financiera estan cargadas las nominas de los meses que se han pagado del año 2026: https://isvimedgovco.sharepoint.com/sites/Admin_Y_Financiera-09.TalentoHumano/Documentos%20compartidos/Forms/AllItems.aspx?id=%2Fsites%2FAdmin%5FY%5FFinanciera%2D09%2ETalentoHumano%2FDocumentos%20compartidos%2F09%2ETalento%20Humano%2FNOVEDADES%5FNOMINA%2F2026%2FNOMINA&viewid=2dd00e51%2Dd816%2D465c%2Db07a%2Dac38ca92939f&p=true | AM22: Se materializó el Riesgo? (Evento Potencial Principal. Columna F): No materializado en el segundo trimestre Los Controles están bien diseñados, se aplican conforme al diseño y son efectivos? (Ver controles en la columna P / Concluir frente a cada control) Control 1: El control está bien diseñado y se aplicó adecuadamente durante el segundo trimestre. . Control 2: El control está bien diseñado y se aplicó adecuadamente durante el segundo trimestre. . Control 3: El control está bien diseñado y se aplicó adecuadamente durante el segundo trimestre. . Control 4: No fue necesario aplicarlo ya que no se materializo el riesgo en el segundo trimestre Control 5: Esta bien diseñado, no ha sido necesaria su aplicación ya que los empleados han reflejado comportamientos adecuados que no incluyen en malas prácticas de corrupción. Acciones derivadas de materialización de eventos / fortalecimiento de controles: ver acciones en Subtítulos anteriores. Que acciones propones o se están llevando a cabo para gestionar los riesgos y las causas que se materializaron? (Si no aplica colocar NA): N/A Que acciones propones o se están llevando a cabo para fortalecer los controles? En caso de que tengas acciones por ejecutar en la columna AJ también concluir frente a su estado): N/A | AN22: Liquidación de nomina y prestaciones sociales con VoBo (Archivo en Excel) Ruta de One drive, carpeta compartida de Admin y Financiera estan cargadas las nominas de los meses que se han pagado del año 2026: https://isvimedgovco.sharepoint.com/sites/Admin_Y_Financiera-09.TalentoHumano/Documentos%20compartidos/Forms/AllItems.aspx?id=%2Fsites%2FAdmin%5FY%5FFinanciera%2D09%2ETalentoHumano%2FDocumentos%20compartidos%2F09%2ETalento%20Humano%2FNOVEDADES%5FNOMINA%2F2026%2FNOMINA&viewid=2dd00e51%2Dd816%2D465c%2Db07a%2Dac38ca92939f&p=true | AO22: Se materializó el Riesgo? (Ver evento potencial principal en Columna F. Relacionar detalles de la materialización - que, como, cuando, donde): Los Controles están bien diseñados, se aplican de acuerdo al diseño y son efectivos? (Ver controles en la columna P / Concluir frente a cada control) Que acciones propones o se están llevando a cabo para gestionar el riesgo que se materializó? (Si no aplica colocar N/A) Que acciones propones o se están llevando a cabo para fortalecer los controles? (En el caso de que tener Acciones de mejora / Acciones correctivas en proceso, relacionar el avance. Si tienes acciones específicas a desarrollar en la columna AJ, también relacionar el avance) | AQ22: Se materializó el Riesgo? (Ver evento potencial principal en Columna F. Relacionar detalles de la materialización - que, como, cuando, donde): Los Controles están bien diseñados, se aplican de acuerdo al diseño y son efectivos? (Ver controles en la columna P / Concluir frente a cada control) Que acciones propones o se están llevando a cabo para gestionar el riesgo que se materializó? (Si no aplica colocar N/A) Que acciones propones o se están llevando a cabo para fortalecer los controles? (En el caso de que tener Acciones de mejora / Acciones correctivas en proceso, relacionar el avance. Si tienes acciones específicas a desarrollar en la columna AJ, también relacionar el avance)
H23: 2. Ausencia de segregación de las funciones de registro, verificación y aprobación, con respecto a la información para el pago de nomina y prestaciones sociales, así como para la desvinculación del personal a nivel del sistema. | O23: 2 | P23: La segregación de funciones para las actividad de nómina y prestaciones sociales se realiza de la siguiente manera: El contratista de gestión de talento humano registra las novedades de nómina. La profesional universitaria de talento humano revisa la liquidación de la nómina. El subdirector administrativo y financiero aprueba la liquidación de la nómina. | Q23: =IF(OR(R23="Preventivo",R23="Detectivo"),"Probabilidad",IF(R23="Correctivo","Impacto","")) -> Probabilidad | R23: Preventivo | S23: Manual | T23: =IF(AND(R23="Preventivo",S23="Automático"),"50%",IF(AND(R23="Preventivo",S23="Manual"),"40%",IF(AND(R23="Detectivo",S23="Automático"),"40%",IF(AND(R23="Detectivo",S23="Manual"),"30%",IF(AND(R23="Correctivo",S23="Automático"),"35%",IF(AND(R23="Correctivo",S23="Manual"),"25%","")))))) -> 40% | U23: Sin Documentar | V23: Continua | W23: Con Registro | X23: Correos de revisión y aprobación de la nómina y prestaciones sociales | Y23: =IFERROR(IF(AND(Q22="Probabilidad",Q23="Probabilidad"),(AA22-(+AA22*T23)),IF(Q23="Probabilidad",(K22-(+K22*T23)),IF(Q23="Impacto",AA22,""))),"") -> 0.24 | Z23: =IFERROR(IF(Y23="","",IF(Y23<=0.2,"Muy Baja",IF(Y23<=0.4,"Baja",IF(Y23<=0.6,"Media",IF(Y23<=0.8,"Alta","Muy Alta"))))),"") -> Baja | AA23: =+Y23 -> 0.24 | AB23: =IFERROR(IF(AC23="","",IF(AC23<=0.2,"Leve",IF(AC23<=0.4,"Menor",IF(AC23<=0.6,"Moderado",IF(AC23<=0.8,"Mayor","Catastrófico"))))),"") -> Catastrófico | AC23: =IFERROR(IF(AND(Q22="Impacto",Q23="Impacto"),(AC22-(+AC22*T23)),IF(Q23="Impacto",(#REF!-(+#REF!*T23)),IF(Q23="Probabilidad",AC22,""))),"") -> 1
H24: 3. Posibilidad de modificar la información de las bases de datos cuando se ingresa la información para el pago de nómina y prestaciones sociales por parte de personal con perfil de registro y edición. | O24: 3 | P24: El profesional Líder de Talento Humano revisa la liquidación de nómina y prestaciones sociales realizada por el personal asignado a esta actividad, la cual es generada del software SICOF. En caso de identificar errores los notifica para realizar los ajustes pertinentes, de otro modo proporciona Visto Bueno, para que se proceda a realizar el pago correspondiente. | Q24: =IF(OR(R24="Preventivo",R24="Detectivo"),"Probabilidad",IF(R24="Correctivo","Impacto","")) -> Probabilidad | R24: Detectivo | S24: Manual | T24: =IF(AND(R24="Preventivo",S24="Automático"),"50%",IF(AND(R24="Preventivo",S24="Manual"),"40%",IF(AND(R24="Detectivo",S24="Automático"),"40%",IF(AND(R24="Detectivo",S24="Manual"),"30%",IF(AND(R24="Correctivo",S24="Automático"),"35%",IF(AND(R24="Correctivo",S24="Manual"),"25%","")))))) -> 30% | U24: Sin Documentar | V24: Continua | W24: Con Registro | X24: Liquidación de nómina y prestaciones sociales con VoBo (Archivo en excel) | Y24: =IFERROR(IF(AND(Q23="Probabilidad",Q24="Probabilidad"),(AA23-(+AA23*T24)),IF(AND(Q23="Impacto",Q24="Probabilidad"),(AA22-(+AA22*T24)),IF(Q24="Impacto",AA23,""))),"") -> 0.168 | Z24: =IFERROR(IF(Y24="","",IF(Y24<=0.2,"Muy Baja",IF(Y24<=0.4,"Baja",IF(Y24<=0.6,"Media",IF(Y24<=0.8,"Alta","Muy Alta"))))),"") -> Muy Baja | AA24: =+Y24 -> 0.168 | AB24: =IFERROR(IF(AC24="","",IF(AC24<=0.2,"Leve",IF(AC24<=0.4,"Menor",IF(AC24<=0.6,"Moderado",IF(AC24<=0.8,"Mayor","Catastrófico"))))),"") -> Catastrófico | AC24: =IFERROR(IF(AND(Q23="Impacto",Q24="Impacto"),(AC23-(+AC23*T24)),IF(AND(Q23="Probabilidad",Q24="Impacto"),(AC22-(+AC22*T24)),IF(Q24="Probabilidad",AC23,""))),"") -> 1
H25: No aplica | O25: 4 | P25: 1. En el caso que se pague un mayor valor de nomina y prestacione sociales a un funcionario activo se debe: - identiificar el mayor valor pagado. - Informar al funcionario de la novedad respecto al mayor valor pagado. - Solicitar el reintegro del mayor valo pagado. - Hacer firmar la autorización de descuento de nomina por mayor valor. pagado. - Descontar en proxima nomina el mayor valor pagado. 2. En el caso de que se pague nómina y prestaciones sociales a personal no existente en la planta de cargos de la entidad se remite el caso a la Subdirección Juridica para que adelanten las medidas pertinentes para el reintegro del dinero. | Q25: =IF(OR(R25="Preventivo",R25="Detectivo"),"Probabilidad",IF(R25="Correctivo","Impacto","")) -> Impacto | R25: Correctivo | S25: Manual | T25: =IF(AND(R25="Preventivo",S25="Automático"),"50%",IF(AND(R25="Preventivo",S25="Manual"),"40%",IF(AND(R25="Detectivo",S25="Automático"),"40%",IF(AND(R25="Detectivo",S25="Manual"),"30%",IF(AND(R25="Correctivo",S25="Automático"),"35%",IF(AND(R25="Correctivo",S25="Manual"),"25%","")))))) -> 25% | U25: Sin Documentar | V25: Aleatoria | W25: Con Registro | X25: 1. Autorización de descuento de nomina Soportes de nomina donde se observa el reintegro del dinero. 2. Registro de remisión del caso a la Sudirección Jurídica Expediente del proceso para el cobro coactivo. | Y25: =IFERROR(IF(AND(Q24="Probabilidad",Q25="Probabilidad"),(AA24-(+AA24*T25)),IF(AND(Q24="Impacto",Q25="Probabilidad"),(AA23-(+AA23*T25)),IF(Q25="Impacto",AA24,""))),"") -> 0.168 | Z25: =IFERROR(IF(Y25="","",IF(Y25<=0.2,"Muy Baja",IF(Y25<=0.4,"Baja",IF(Y25<=0.6,"Media",IF(Y25<=0.8,"Alta","Muy Alta"))))),"") -> Muy Baja | AA25: =+Y25 -> 0.168 | AB25: =IFERROR(IF(AC25="","",IF(AC25<=0.2,"Leve",IF(AC25<=0.4,"Menor",IF(AC25<=0.6,"Moderado",IF(AC25<=0.8,"Mayor","Catastrófico"))))),"") -> Mayor | AC25: =IFERROR(IF(AND(Q24="Impacto",Q25="Impacto"),(AC24-(+AC24*T25)),IF(AND(Q24="Probabilidad",Q25="Impacto"),(AC23-(+AC23*T25)),IF(Q25="Probabilidad",AC24,""))),"") -> 0.75
