Workbook
Name Afectación_Económica: #REF!
Name Afectación_Económica: #REF!
Name Definicion_tratamiento: #REF!
Name Definicion_tratamiento: #REF!
Name Ejecución_administración_de_procesos: #REF!
Name Fiscal_A: #REF!
Name Fiscal_A: #REF!
Name Fiscal_B: #REF!
Name Fiscal_B: #REF!
Name Gestiòn: #REF!
Name Gestiòn: #REF!
Name Gestión_A: #REF!
Name Gestión_A: #REF!
Name Gestión_B: #REF!
Name Gestión_B: #REF!
Name IMPACTO_PROCESOS: #REF!
Name IMPACTO_PROCESOS: #REF!
Name IMPACTO_PROCESOS: #REF!
Name IMPACTO_PROCESOS: #REF!
Name IntegridadPública_Corrupción: #REF!
Name IntegridadPública_Corrupción: #REF!
Name IntegridadPública_LA_FT_FP: #REF!
Name IntegridadPública_LA_FT_FP: #REF!
Name opciones: #REF!
Name opciones: #REF!
Name opciones: #REF!
Name opciones: #REF!
Name opciones2: #REF!
Name opciones2: #REF!
Name opciones2: #REF!
Name opciones2: #REF!
Name Plan_accion: #REF!
Name Plan_accion: #REF!
Name Plan_acción: #REF!
Name Plan_acción: #REF!
Name Plan_de_acción: #REF!
Name Plan_de_acción: #REF!
Name Posibilidad__de_efecto_dañoso_sobre_el_interes_patrimonial: #REF!
Name Posibilidad__de_efecto_dañoso_sobre_el_interes_patrimonial: #REF!
Name Posibilidad_de_pérdida_Económica: #REF!
Name Posibilidad_de_pérdida_Económica: #REF!
Name Proceso: #REF!
Name Quince_Cero: #REF!
Name Quince_Cero: #REF!
Name Quince_Cero: #REF!
Name Quince_Cero: #REF!
Name Rango_Calificacion_Ejecucion: #REF!
Name Rango_Calificacion_Ejecucion: #REF!
Name Rango_Calificacion_Ejecucion: #REF!
Name Rango_Calificacion_Ejecucion: #REF!
Name Reducir_mitigar_Transferir_Evitar: #REF!
Name Reducir_mitigar_Transferir_Evitar: #REF!
Name Reputacional: #REF!
Name Reputacional: #REF!
Name Requiere_Plan_de_Acción: #REF!
Name Requiere_Plan_de_Acción: #REF!
Name Seg.Información: #REF!
Name Seg.Información: #REF!
Name TIPO: #REF!
Name TIPO: #REF!

Sheet 1. ESTABLECIMIENTO CONTEXTO 
B1: MAPA DE RIESGOS DE PROCESO | L1: CÓDIGO: F-GM-29
L2: VERSIÓN: 05
L3: FECHA: 30/03/2022
L4: PÁGINA: 1 de 3
A6: 4.2.1. ESTABLECIMIENTO DEL CONTEXTO
A9: PROCESO: | D9: Gestión Financiera
A10: FECHA DE ELABORACIÓN O ACTUALIZACIÓN: | E10: Diciembre de 2021
A11: RESPONSABLE (s) DE ELABORACIÓN O ACTUALIZACIÓN | F11: Subdirector Administrativo y Financiero
A14: Factor: Externo/Interno/Proceso | D14: Variable | G14: ¿Cómo me puede afectar?
G15: CARÁCTER: Positivo/negativo | I15: Breve análisis
A16: Factor Externo | C16: Factor Externo | D16: Transferencias municipales | G16: NEGATIVO | H16: POSITIVO | I16: Reduce la inversión en procesos misionales y gastos de funcionamiento, agudizado actualmente por la destinación de recursos para la atención de la emergencia sanitaria COVID 19.
A17: Factor de proceso | D17: Recuperación de cartera | G17: NEGATIVO | I17: La irrecuperabilidad de la cartera afecta los recursos para soportar los gastos de funcionamiento proyectados en el presupuesto del instituto
A18: Factor Externo | D18: Solvencia financiera por parte de los usuarios | G18: NEGATIVO | I18: Afecta las metas proyectadas para el recaudo de la cartera.
A19: Factor Interno | C19: Factor de proceso | D19: Comunicación con los grupos de interes | G19: NEGATIVO | I19: No permite la accesibilidad y consulta constante de información por parte de los grupos de interes, en medios de comunicación dispuestos por la entidad.
A20: Factor Externo | D20: Conflicto de orden público | G20: NEGATIVO | I20: Afectaciones a la integridad de las personas que podria desencadenar pagos de indemnización a terceros.
A21: Factor Interno | D21: Fortaleza en las alianzas para la cooperación | G21: POSITIVO | I21: Las inicativas de cooperación que actualmente desarrolla el Instituto permitirá el acceso a recursos y por ende el cumplimiento de las metas globales.
A22: Factor Externo | D22: Imposiciones administrativas y financieras | G22: NEGATIVO | I22: El instituto se ve afectado en ciertas circunstancias por directrices impartidas desde la administración central.
A23: Factor Externo | D23: Medio ambiente | G23: NEGATIVO | I23: Situaciones de desastre derivados de temas ambientales, pueden generar contingencias y por ende la redistribución de recursos.
A24: Factor Externo | D24: Cambios normativos | G24: POSITIVO | I24: Cambios normativos en términos del presupuesto que buscan la estandarización de los informes del presupuesto.
A25: Factor Externo | D25: Cambio de administración | G25: NEGATIVO | I25: Se puede ver afectada la asignación de recursos dada la priorización de necesidades.
A26: Factor Interno | D26: Debilidad en la planificación de cambios | G26: NEGATIVO | I26: No se proyectan los cambios de acuerdo al ciclo presupuestal y asignación de recursos.
A27: Factor Interno | D27: Planeación de actividades internas | G27: NEGATIVO | I27: No existe articulación entre lo planeado y lo ejecutado lo cual afecta los resultados.
A28: Factor Interno | D28: Sistemas de información | G28: NEGATIVO | I28: El Instituto no cuenta con recursos tecnológicos adecuados para la a elaboración de sus procesos, además algunas herramientas son sub-utilizadas.
A29: Factor Interno | D29: Competencias del personal | G29: NEGATIVO | I29: Falencias en la incorporación que se ajuste a los perfiles definidos en el Instituto dada la modalidad de contratación de personal.
A30: Factor Interno | D30: Evaluación del desempeño | G30: NEGATIVO | I30: Los resultados en la evaluación del desempeño no se utiliza para efectos de planes de mejoramiento individuales.
A31: Factor Interno | D31: Estructura organizacional | G31: NEGATIVO | I31: La estructura organizacional actual no es la óptima para el funcionamiento del Instituto.
... A37: Factor Externo | D37: Ambiental o Biologico | G37: NEGATIVO | I37: Cambios en la calidad de vida y entorno laboral a raiz de posibles catastofes, ambientales o biologicas, como la pandemia.

Sheet 2. MATRIZ DE RIESGOS
D1: MAPA DE RIESGOS DE PROCESO | AG1: CÓDIGO: F-GM-29
AG2: VERSIÓN: 05
AG3: FECHA: 30/03/2022
AG4: PÁGINA: 3 de 3
A6: PROCESO: | D6: Gestión Financiera | F6: FECHA DE ELABORACIÓN O ACTUALIZACIÓN: | H6: Actualizada noviembre de 2025
F7: RESPONSABLE (s) DE ELABORACIÓN O ACTUALIZACIÓN | H7: Suddirector Administrativo y Financiero
A8: OBJETIVO: | D8: Gestionar presupuestal y financieramente los recursos del Instituto, garantizando el cumplimiento de requisitos legales.
A9: ALCANCE: | D9: Desde la elaboración del presupuesto hasta la presentación de estados contables y financieros consolidados.
A11: 4.2. IDENTIFICACION DEL RIESGO | J11: 4.3. EVALUACIÓN DEL RIESGO | AI11: 4.4. TRATAMIENTO DEL RIESGO | AK11: SEGUIMIENTO TRIMESTRE 1 DE 2026 | AL11: RELACIÓN DE EVIDENCIAS IMPORTANTE:- RELACIONAR LOS ENLACES SOBRE MATERIALIZACION DE RIESGOS Y SOBRE APLICACIÓN DE CONTROLES -LAS EVIDENCIAS SOBRE APLICACIÓN DE CONTROLES SON LAS QUE SE ENCUENTRAN EN LA COLUMNA X - RELACIONARLAS UNA A UNA CON EL ENLACE CORRESPONDIENTE. | AM11: SEGUIMIENTO TRIMESTRE 2 DE 2026 | AN11: RELACIÓN DE EVIDENCIAS IMPORTANTE:- RELACIONAR LOS ENLACES SOBRE MATERIALIZACION DE RIESGOS Y SOBRE APLICACIÓN DE CONTROLES -LAS EVIDENCIAS SOBRE APLICACIÓN DE CONTROLES SON LAS QUE SE ENCUENTRAN EN LA COLUMNA X - RELACIONARLAS UNA A UNA CON EL ENLACE CORRESPONDIENTE. | AO11: SEGUIMIENTO TRIMESTRE 3 DE 2026 | AP11: RELACIÓN DE EVIDENCIAS IMPORTANTE:- RELACIONAR LOS ENLACES SOBRE MATERIALIZACION DE RIESGOS Y SOBRE APLICACIÓN DE CONTROLES -LAS EVIDENCIAS SOBRE APLICACIÓN DE CONTROLES SON LAS QUE SE ENCUENTRAN EN LA COLUMNA X - RELACIONARLAS UNA A UNA CON EL ENLACE CORRESPONDIENTE. | AQ11: SEGUIMIENTO TRIMESTRE 4 DE 2026 | AR11: RELACIÓN DE EVIDENCIAS IMPORTANTE:- RELACIONAR LOS ENLACES SOBRE MATERIALIZACION DE RIESGOS Y SOBRE APLICACIÓN DE CONTROLES -LAS EVIDENCIAS SOBRE APLICACIÓN DE CONTROLES SON LAS QUE SE ENCUENTRAN EN LA COLUMNA X - RELACIONARLAS UNA A UNA CON EL ENLACE CORRESPONDIENTE.
A12: Referencia | B12: Objetivo / Requisto a cumplir | C12: Temática / Linea de Acción | D12: 1. QUE? | E12: 2. COMO SE REFLEJA? | F12: 3. POR QUE? (Evento Potencial Principal) | G12: Descripción del Riesgo (1+2+3) | H12: Causa (Evento Potencial Intermedio) | I12: Clasificación del Riesgo | J12: EVALUACION DE RIESGO INHERENTE | O12: VALORACION DE CONTROLES | AD12: EVALUACION DEL RIESGO RESIDUAL | AI12: Tratamiento | AJ12: FORMULAR ACCIONES ESPECIFICAS
J13: Probabilidad Inherente | K13: % | L13: Impacto Inherente | M13: % | N13: Zona de Riesgo Inherente | O13: No. Control | P13: Descripción del Control (Medida Actual) | Q13: Afectación | R13: Atributos | Y13: Probabilidad Residual | Z13: Probabilidad Residual | AA13: % | AB13: Impacto Residual | AC13: % | AD13: Probabilidad Residual Final | AE13: % | AF13: Impacto Residual Final | AG13: % | AH13: Zona de Riesgo Final | AJ13: VER ACCION #
R14: Tipo | S14: Implementación | T14: Calificación | U14: Documentación | V14: Frecuencia | W14: Evidencia | X14: Nombre de la evidencia
A15: GF16 | B15: NA Riesgo Fiscal | C15: Tesorería | D15: Posibilidad de afectación reputacional y económica | E15: Por quejas interpuestas de manera informal o por correo electrónico por parte de proveedores y contratistas. Por disminución en la liquidez institucional. Por pérdida de recursos. Por acciones legales de terceros | F15: debido a la realización de desembolsos por valores diferentes a los obligados. | G15: Posibilidad de afectación reputacional y económica del Instituto por quejas interpuestas de manera informal o por correo electrónico por parte de los proveedores y contratistas, por disminución en la liquidez institucional, por pérdida de recursos, así como por posibles acciones legales de terceros. Lo anterior, debido a la realización de desembolsos por valores diferentes a los obligados. | H15: 1. Errores en la digitación | I15: Fiscal | J15: Alta | K15: =IF(J15="","",IF(J15="Muy Baja",0.2,IF(J15="Baja",0.4,IF(J15="Media",0.6,IF(J15="Alta",0.8,IF(J15="Muy Alta",1,)))))) -> 0.8 | L15: Moderado | M15: =IF(L15="","",IF(L15="Leve",0.2,IF(L15="Menor",0.4,IF(L15="Moderado",0.6,IF(L15="Mayor",0.8,IF(L15="Catastrófico",1,)))))) -> 0.6 | N15: =IF(OR(AND(J15="Muy Baja",L15="Leve"),AND(J15="Muy Baja",L15="Menor"),AND(J15="Baja",L15="Leve")),"Bajo",IF(OR(AND(J15="Muy baja",L15="Moderado"),AND(J15="Baja",L15="Menor"),AND(J15="Baja",L15="Moderado"),AND(J15="Media",L15="Leve"),AND(J15="Media",L15="Menor"),AND(J15="Media",L15="Moderado"),AND(J15="Alta",L15="Leve"),AND(J15="Alta",L15="Menor")),"Moderado",IF(OR(AND(J15="Muy Baja",L15="Mayor"),AND(J15="Baja",L15="Mayor"),AND(J15="Media",L15="Mayor"),AND(J15="Alta",L15="Moderado"),AND(J15="Alta",L15="Mayor"),AND(J15="Muy Alta",L15="Leve"),AND(J15="Muy Alta",L15="Menor"),AND(J15="Muy Alta",L15="Moderado"),AND(J15="Muy Alta",L15="Mayor")),"Alto",IF(OR(AND(J15="Muy Baja",L15="Catastrófico"),AND(J15="Baja",L15="Catastrófico"),AND(J15="Media",L15="Catastrófico"),AND(J15="Alta",L15="Catastrófico"),AND(J15="Muy Alta",L15="Catastrófico")),"Extremo","")))) -> Alto | O15: 1.1. | P15: El profesional de tesorería genera el soporte de pago a través de la sucursal bancaria y lo compara contra el egreso. | Q15: =IF(OR(R15="Preventivo",R15="Detectivo"),"Probabilidad",IF(R15="Correctivo","Impacto","")) -> Probabilidad | R15: Detectivo | S15: Manual | T15: =IF(AND(R15="Preventivo",S15="Automático"),"50%",IF(AND(R15="Preventivo",S15="Manual"),"40%",IF(AND(R15="Detectivo",S15="Automático"),"40%",IF(AND(R15="Detectivo",S15="Manual"),"30%",IF(AND(R15="Correctivo",S15="Automático"),"35%",IF(AND(R15="Correctivo",S15="Manual"),"25%","")))))) -> 30% | U15: Sin Documentar | V15: Continua | W15: Con Registro | X15: Documentos que soportan la solicitud de pago. | Y15: =IFERROR(IF(Q15="Probabilidad",(K15-(+K15*T15)),IF(Q15="Impacto",K15,"")),"") -> 0.56 | Z15: =IFERROR(IF(Y15="","",IF(Y15<=0.2,"Muy Baja",IF(Y15<=0.4,"Baja",IF(Y15<=0.6,"Media",IF(Y15<=0.8,"Alta","Muy Alta"))))),"") -> Media | AA15: =+Y15 -> 0.56 | AB15: =IFERROR(IF(AC15="","",IF(AC15<=0.2,"Leve",IF(AC15<=0.4,"Menor",IF(AC15<=0.6,"Moderado",IF(AC15<=0.8,"Mayor","Catastrófico"))))),"") -> Moderado | AC15: =IFERROR(IF(Q15="Impacto",(M15-(+M15*T15)),IF(Q15="Probabilidad",M15,"")),"") -> 0.6 | AD15: =IFERROR(IF(AE15=0,"",IF(AND(AE15>0,AE15<=0.2),"Muy Baja",IF(AE15<=0.4,"Baja",IF(AE15<=0.6,"Media",IF(AE15<=0.8,"Alta","Muy Alta"))))),"") -> Baja | AE15: =MIN(Y15:Y16) -> 0.336 | AF15: =IFERROR(IF(AG15=0,"",IF(AND(AG15>0,AG15<=0.2),"Leve",IF(AG15<=0.4,"Menor",IF(AG15<=0.6,"Moderado",IF(AG15<=0.8,"Mayor","Catastrófico"))))),"") -> Moderado | AG15: =MIN(AC15:AC16) -> 0.6 | AH15: =IFERROR(IF(OR(AND(AD15="Muy Baja",AF15="Leve"),AND(AD15="Muy Baja",AF15="Menor"),AND(AD15="Baja",AF15="Leve")),"Bajo",IF(OR(AND(AD15="Muy Baja",AF15="Moderado"),AND(AD15="Baja",AF15="Menor"),AND(AD15="Baja",AF15="Moderado"),AND(AD15="Media",AF15="Leve"),AND(AD15="Media",AF15="Menor"),AND(AD15="Media",AF15="Moderado"),AND(AD15="Alta",AF15="Leve"),AND(AD15="Alta",AF15="Menor")),"Moderado",IF(OR(AND(AD15="Muy Baja",AF15="Mayor"),AND(AD15="Baja",AF15="Mayor"),AND(AD15="Media",AF15="Mayor"),AND(AD15="Alta",AF15="Moderado"),AND(AD15="Alta",AF15="Mayor"),AND(AD15="Muy Alta",AF15="Leve"),AND(AD15="Muy Alta",AF15="Menor"),AND(AD15="Muy Alta",AF15="Moderado"),AND(AD15="Muy Alta",AF15="Mayor")),"Alto",IF(OR(AND(AD15="Muy Baja",AF15="Catastrófico"),AND(AD15="Baja",AF15="Catastrófico"),AND(AD15="Media",AF15="Catastrófico"),AND(AD15="Alta",AF15="Catastrófico"),AND(AD15="Muy Alta",AF15="Catastrófico")),"Extremo","")))),"") -> Moderado | AI15: Reducir (mitigar) | AK15: Se materializó el Riesgo? (Ver evento potencial principal en Columna F. Relacionar detalles de la materialización - que, como, cuando, donde): No se evidencia la materialización del evento potencial principal. Durante el período evaluado, los valores desembolsados corresponden a los valores obligados. Los Controles están bien diseñados, se aplican de acuerdo al diseño y son efectivos? (Ver controles en la columna P / Concluir frente a cada control): Las medidas de control para este riesgo están bien diseñadas y se aplican de acuerdo con el proceso. El control 1 permite verificar que el soporte de pago generado en la sucursal bancaria coincida con el egreso, y el control 2 valida que la información registrada en la sucursal corresponda con los soportes de la solicitud de pago. En este sentido, los controles son coherentes y contribuyen a mitigar el riesgo. Que acciones propones o se están llevando a cabo para gestionar el riesgo que se materializó? (Si no aplica colocar N/A) No aplica, dado que el riesgo no se materializó durante el período evaluado. Que acciones propones o se están llevando a cabo para fortalecer los controles? (En el caso de que tener Acciones de mejora / Acciones correctivas en proceso, relacionar el avance. Si tienes acciones específicas a desarrollar en la columna AJ, también relacionar el avance): Se continúa con la aplicación de los controles definidos y el seguimiento periódico a su ejecución, con el fin de garantizar su adecuada operación. | AL15: https://isvimedgovco.sharepoint.com/:f:/s/1Admin_Y_Financiera/IgCsojgZ1oSPQLAtK0yc-mNzAb8cABpLn_42Hza6Gmluo6E?e=ZgJq4E | AM15: Se materializó el Riesgo? (Ver evento potencial principal en Columna F. Relacionar detalles de la materialización - que, como, cuando, donde): No se evidencia la materialización del evento potencial principal. Durante el período evaluado, los valores desembolsados corresponden a los valores obligados. Los Controles están bien diseñados, se aplican de acuerdo al diseño y son efectivos? (Ver controles en la columna P / Concluir frente a cada control): Las medidas de control para este riesgo están bien diseñadas y se aplican de acuerdo con el proceso. El control 1 permite verificar que el soporte de pago generado en la sucursal bancaria coincida con el egreso, y el control 2 valida que la información registrada en la sucursal corresponda con los soportes de la solicitud de pago. En este sentido, los controles son coherentes y contribuyen a mitigar el riesgo. Que acciones propones o se están llevando a cabo para gestionar el riesgo que se materializó? (Si no aplica colocar N/A) No aplica, dado que el riesgo no se materializó durante el período evaluado. Que acciones propones o se están llevando a cabo para fortalecer los controles? (En el caso de que tener Acciones de mejora / Acciones correctivas en proceso, relacionar el avance. Si tienes acciones específicas a desarrollar en la columna AJ, también relacionar el avance): Se continúa con la aplicación de los controles definidos y el seguimiento periódico a su ejecución, con el fin de garantizar su adecuada operación. | AN15: CORRESPONDE A EGRESOS ( SOPORTES SOLICITUDES PAGO) EN LA COMPARTIDA *P:\1.ADMIN_Y_FINANCIERA\Comprobantes\Soportes 2026 | AO15: Se materializó el Riesgo? (Ver evento potencial principal en Columna F. Relacionar detalles de la materialización - que, como, cuando, donde): Los Controles están bien diseñados, se aplican de acuerdo al diseño y son efectivos? (Ver controles en la columna P / Concluir frente a cada control) Que acciones propones o se están llevando a cabo para gestionar el riesgo que se materializó? (Si no aplica colocar N/A) Que acciones propones o se están llevando a cabo para fortalecer los controles? (En el caso de que tener Acciones de mejora / Acciones correctivas en proceso, relacionar el avance. Si tienes acciones específicas a desarrollar en la columna AJ, también relacionar el avance) | AQ15: Se materializó el Riesgo? (Ver evento potencial principal en Columna F. Relacionar detalles de la materialización - que, como, cuando, donde): Los Controles están bien diseñados, se aplican de acuerdo al diseño y son efectivos? (Ver controles en la columna P / Concluir frente a cada control) Que acciones propones o se están llevando a cabo para gestionar el riesgo que se materializó? (Si no aplica colocar N/A) Que acciones propones o se están llevando a cabo para fortalecer los controles? (En el caso de que tener Acciones de mejora / Acciones correctivas en proceso, relacionar el avance. Si tienes acciones específicas a desarrollar en la columna AJ, también relacionar el avance)
O16: 1.2. | P16: El aprobador del pago valida que lo registrado en la sucursal bancaria corresponda a los soportes de la solicitud de pago (obligación y egreso) | Q16: =IF(OR(R16="Preventivo",R16="Detectivo"),"Probabilidad",IF(R16="Correctivo","Impacto","")) -> Probabilidad | R16: Preventivo | S16: Manual | T16: =IF(AND(R16="Preventivo",S16="Automático"),"50%",IF(AND(R16="Preventivo",S16="Manual"),"40%",IF(AND(R16="Detectivo",S16="Automático"),"40%",IF(AND(R16="Detectivo",S16="Manual"),"30%",IF(AND(R16="Correctivo",S16="Automático"),"35%",IF(AND(R16="Correctivo",S16="Manual"),"25%","")))))) -> 40% | U16: Sin Documentar | V16: Continua | W16: Con Registro | X16: Documentos que soportan la solicitud de pago. | Y16: =IFERROR(IF(AND(Q15="Probabilidad",Q16="Probabilidad"),(AA15-(+AA15*T16)),IF(Q16="Probabilidad",(K15-(+K15*T16)),IF(Q16="Impacto",AA15,""))),"") -> 0.336 | Z16: =IFERROR(IF(Y16="","",IF(Y16<=0.2,"Muy Baja",IF(Y16<=0.4,"Baja",IF(Y16<=0.6,"Media",IF(Y16<=0.8,"Alta","Muy Alta"))))),"") -> Baja | AA16: =+Y16 -> 0.336 | AB16: =IFERROR(IF(AC16="","",IF(AC16<=0.2,"Leve",IF(AC16<=0.4,"Menor",IF(AC16<=0.6,"Moderado",IF(AC16<=0.8,"Mayor","Catastrófico"))))),"") -> Moderado | AC16: =IFERROR(IF(AND(Q15="Impacto",Q16="Impacto"),(AC15-(+AC15*T16)),IF(Q16="Impacto",(#REF!-(+#REF!*T16)),IF(Q16="Probabilidad",AC15,""))),"") -> 0.6
A17: GF17 | B17: NA Riesgos Fiscal | C17: Tesorería | D17: Posibilidad de afectación económica | E17: Por disminución en la liquidez institucional Por pérdida de recursos | F17: debido a la realización de pagos dobles de obligaciones. | G17: Posibilidad de afectación económica por disminución en la liquidez institucional así como por pérdida de recursos, debido a la realización de pagos dobles de obligaciones. | H17: 1. Falta de control a la documentación de los pagos realizados. | I17: Fiscal | J17: Alta | K17: =IF(J17="","",IF(J17="Muy Baja",0.2,IF(J17="Baja",0.4,IF(J17="Media",0.6,IF(J17="Alta",0.8,IF(J17="Muy Alta",1,)))))) -> 0.8 | L17: Mayor | M17: =IF(L17="","",IF(L17="Leve",0.2,IF(L17="Menor",0.4,IF(L17="Moderado",0.6,IF(L17="Mayor",0.8,IF(L17="Catastrófico",1,)))))) -> 0.8 | N17: =IF(OR(AND(J17="Muy Baja",L17="Leve"),AND(J17="Muy Baja",L17="Menor"),AND(J17="Baja",L17="Leve")),"Bajo",IF(OR(AND(J17="Muy baja",L17="Moderado"),AND(J17="Baja",L17="Menor"),AND(J17="Baja",L17="Moderado"),AND(J17="Media",L17="Leve"),AND(J17="Media",L17="Menor"),AND(J17="Media",L17="Moderado"),AND(J17="Alta",L17="Leve"),AND(J17="Alta",L17="Menor")),"Moderado",IF(OR(AND(J17="Muy Baja",L17="Mayor"),AND(J17="Baja",L17="Mayor"),AND(J17="Media",L17="Mayor"),AND(J17="Alta",L17="Moderado"),AND(J17="Alta",L17="Mayor"),AND(J17="Muy Alta",L17="Leve"),AND(J17="Muy Alta",L17="Menor"),AND(J17="Muy Alta",L17="Moderado"),AND(J17="Muy Alta",L17="Mayor")),"Alto",IF(OR(AND(J17="Muy Baja",L17="Catastrófico"),AND(J17="Baja",L17="Catastrófico"),AND(J17="Media",L17="Catastrófico"),AND(J17="Alta",L17="Catastrófico"),AND(J17="Muy Alta",L17="Catastrófico")),"Extremo","")))) -> Alto | O17: 1.1. | P17: El profesional asignado del área de contabilidad realiza la conciliación bancaria e identifica el pago doble de obligaciones, para lo cual compara el libro auxiliar contable contra el extracto bancario. | Q17: =IF(OR(R17="Preventivo",R17="Detectivo"),"Probabilidad",IF(R17="Correctivo","Impacto","")) -> Probabilidad | R17: Detectivo | S17: Manual | T17: =IF(AND(R17="Preventivo",S17="Automático"),"50%",IF(AND(R17="Preventivo",S17="Manual"),"40%",IF(AND(R17="Detectivo",S17="Automático"),"40%",IF(AND(R17="Detectivo",S17="Manual"),"30%",IF(AND(R17="Correctivo",S17="Automático"),"35%",IF(AND(R17="Correctivo",S17="Manual"),"25%","")))))) -> 30% | U17: Sin Documentar | V17: Aleatoria | W17: Con Registro | X17: Conciliación bancaria | Y17: =IFERROR(IF(Q17="Probabilidad",(K17-(+K17*T17)),IF(Q17="Impacto",K17,"")),"") -> 0.56 | Z17: =IFERROR(IF(Y17="","",IF(Y17<=0.2,"Muy Baja",IF(Y17<=0.4,"Baja",IF(Y17<=0.6,"Media",IF(Y17<=0.8,"Alta","Muy Alta"))))),"") -> Media | AA17: =+Y17 -> 0.56 | AB17: =IFERROR(IF(AC17="","",IF(AC17<=0.2,"Leve",IF(AC17<=0.4,"Menor",IF(AC17<=0.6,"Moderado",IF(AC17<=0.8,"Mayor","Catastrófico"))))),"") -> Mayor | AC17: =IFERROR(IF(Q17="Impacto",(M17-(+M17*T17)),IF(Q17="Probabilidad",M17,"")),"") -> 0.8 | AD17: =IFERROR(IF(AE17=0,"",IF(AND(AE17>0,AE17<=0.2),"Muy Baja",IF(AE17<=0.4,"Baja",IF(AE17<=0.6,"Media",IF(AE17<=0.8,"Alta","Muy Alta"))))),"") -> Baja | AE17: =MIN(Y17:Y19) -> 0.336 | AF17: =IFERROR(IF(AG17=0,"",IF(AND(AG17>0,AG17<=0.2),"Leve",IF(AG17<=0.4,"Menor",IF(AG17<=0.6,"Moderado",IF(AG17<=0.8,"Mayor","Catastrófico"))))),"") -> Moderado | AG17: =MIN(AC17:AC19) -> 0.6 | AH17: =IFERROR(IF(OR(AND(AD17="Muy Baja",AF17="Leve"),AND(AD17="Muy Baja",AF17="Menor"),AND(AD17="Baja",AF17="Leve")),"Bajo",IF(OR(AND(AD17="Muy Baja",AF17="Moderado"),AND(AD17="Baja",AF17="Menor"),AND(AD17="Baja",AF17="Moderado"),AND(AD17="Media",AF17="Leve"),AND(AD17="Media",AF17="Menor"),AND(AD17="Media",AF17="Moderado"),AND(AD17="Alta",AF17="Leve"),AND(AD17="Alta",AF17="Menor")),"Moderado",IF(OR(AND(AD17="Muy Baja",AF17="Mayor"),AND(AD17="Baja",AF17="Mayor"),AND(AD17="Media",AF17="Mayor"),AND(AD17="Alta",AF17="Moderado"),AND(AD17="Alta",AF17="Mayor"),AND(AD17="Muy Alta",AF17="Leve"),AND(AD17="Muy Alta",AF17="Menor"),AND(AD17="Muy Alta",AF17="Moderado"),AND(AD17="Muy Alta",AF17="Mayor")),"Alto",IF(OR(AND(AD17="Muy Baja",AF17="Catastrófico"),AND(AD17="Baja",AF17="Catastrófico"),AND(AD17="Media",AF17="Catastrófico"),AND(AD17="Alta",AF17="Catastrófico"),AND(AD17="Muy Alta",AF17="Catastrófico")),"Extremo","")))),"") -> Moderado | AI17: Reducir (mitigar) | AK17: Se materializó el Riesgo? (Ver evento potencial principal en Columna F. Relacionar detalles de la materialización - que, como, cuando, donde): No se evidencia la materialización del evento potencial principal. Durante el período evaluado no se presentaron pagos dobles de obligaciones. Los Controles están bien diseñados, se aplican de acuerdo al diseño y son efectivos? (Ver controles en la columna P / Concluir frente a cada control): Las medidas de control para este riesgo están bien diseñadas y se aplican de acuerdo con el proceso. El control 1 permite identificar posibles inconsistencias a través de la conciliación bancaria realizada por contabilidad, y el control 2 asegura, mediante el visto bueno de tesorería a los egresos, que no se generen pagos duplicados. En este sentido, los controles son coherentes y contribuyen a mitigar el riesgo. Que acciones propones o se están llevando a cabo para gestionar el riesgo que se materializó? (Si no aplica colocar N/A) No aplica, dado que el riesgo no se materializó. Se mantienen los controles establecidos para su mitigación. Que acciones propones o se están llevando a cabo para fortalecer los controles? (En el caso de que tener Acciones de mejora / Acciones correctivas en proceso, relacionar el avance. Si tienes acciones específicas a desarrollar en la columna AJ, también relacionar el avance) Se mantiene la aplicación de los controles establecidos y se realiza seguimiento periódico a su ejecución. | AL17: https://isvimedgovco.sharepoint.com/:f:/s/1Admin_Y_Financiera/IgCsojgZ1oSPQLAtK0yc-mNzAb8cABpLn_42Hza6Gmluo6E?e=ZgJq4E | AM17: Se materializó el Riesgo? (Ver evento potencial principal en Columna F. Relacionar detalles de la materialización - que, como, cuando, donde): No se evidencia la materialización del evento potencial principal. Durante el período evaluado no se presentaron pagos dobles de obligaciones. Los Controles están bien diseñados, se aplican de acuerdo al diseño y son efectivos? (Ver controles en la columna P / Concluir frente a cada control): Las medidas de control para este riesgo están bien diseñadas y se aplican de acuerdo con el proceso. El control 1 permite identificar posibles inconsistencias a través de la conciliación bancaria realizada por contabilidad, y el control 2 asegura, mediante el visto bueno de tesorería a los egresos, que no se generen pagos duplicados. En este sentido, los controles son coherentes y contribuyen a mitigar el riesgo. Que acciones propones o se están llevando a cabo para gestionar el riesgo que se materializó? (Si no aplica colocar N/A) No aplica, dado que el riesgo no se materializó. Se mantienen los controles establecidos para su mitigación. Que acciones propones o se están llevando a cabo para fortalecer los controles? (En el caso de que tener Acciones de mejora / Acciones correctivas en proceso, relacionar el avance. Si tienes acciones específicas a desarrollar en la columna AJ, también relacionar el avance) Se mantiene la aplicación de los controles establecidos y se realiza seguimiento periódico a su ejecución. | AN17: * https://isvimedgovco.sharepoint.com/:f:/s/Admin_Y_Financiera-Contabilidad/IgCeynrbmWA7TIWLr2NCIdVlAd7dAFu8v4Hv1m_I5gMCLlw?e=agaQia *P:\1.ADMIN_Y_FINANCIERA\Comprobantes\Soportes 2026 | AO17: Se materializó el Riesgo? (Ver evento potencial principal en Columna F. Relacionar detalles de la materialización - que, como, cuando, donde): Los Controles están bien diseñados, se aplican de acuerdo al diseño y son efectivos? (Ver controles en la columna P / Concluir frente a cada control) Que acciones propones o se están llevando a cabo para gestionar el riesgo que se materializó? (Si no aplica colocar N/A) Que acciones propones o se están llevando a cabo para fortalecer los controles? (En el caso de que tener Acciones de mejora / Acciones correctivas en proceso, relacionar el avance. Si tienes acciones específicas a desarrollar en la columna AJ, también relacionar el avance) | AQ17: Se materializó el Riesgo? (Ver evento potencial principal en Columna F. Relacionar detalles de la materialización - que, como, cuando, donde): Los Controles están bien diseñados, se aplican de acuerdo al diseño y son efectivos? (Ver controles en la columna P / Concluir frente a cada control) Que acciones propones o se están llevando a cabo para gestionar el riesgo que se materializó? (Si no aplica colocar N/A) Que acciones propones o se están llevando a cabo para fortalecer los controles? (En el caso de que tener Acciones de mejora / Acciones correctivas en proceso, relacionar el avance. Si tienes acciones específicas a desarrollar en la columna AJ, también relacionar el avance)
O18: 1.2. | P18: El profesional de tesorería una vez realiza el pago, pone VoBo de pago en la documentación soporte, esto con el fin de evitar de que por error se vuelva a realizar el pago. | Q18: =IF(OR(R18="Preventivo",R18="Detectivo"),"Probabilidad",IF(R18="Correctivo","Impacto","")) -> Probabilidad | R18: Preventivo | S18: Manual | T18: =IF(AND(R18="Preventivo",S18="Automático"),"50%",IF(AND(R18="Preventivo",S18="Manual"),"40%",IF(AND(R18="Detectivo",S18="Automático"),"40%",IF(AND(R18="Detectivo",S18="Manual"),"30%",IF(AND(R18="Correctivo",S18="Automático"),"35%",IF(AND(R18="Correctivo",S18="Manual"),"25%","")))))) -> 40% | U18: Sin Documentar | V18: Continua | W18: Con Registro | X18: Documentación soporte de cada pago con VoBo de pagado | Y18: =IFERROR(IF(AND(Q17="Probabilidad",Q18="Probabilidad"),(AA17-(+AA17*T18)),IF(Q18="Probabilidad",(K17-(+K17*T18)),IF(Q18="Impacto",AA17,""))),"") -> 0.336 | Z18: =IFERROR(IF(Y18="","",IF(Y18<=0.2,"Muy Baja",IF(Y18<=0.4,"Baja",IF(Y18<=0.6,"Media",IF(Y18<=0.8,"Alta","Muy Alta"))))),"") -> Baja | AA18: =+Y18 -> 0.336 | AB18: =IFERROR(IF(AC18="","",IF(AC18<=0.2,"Leve",IF(AC18<=0.4,"Menor",IF(AC18<=0.6,"Moderado",IF(AC18<=0.8,"Mayor","Catastrófico"))))),"") -> Mayor | AC18: =IFERROR(IF(AND(Q17="Impacto",Q18="Impacto"),(AC17-(+AC17*T18)),IF(Q18="Impacto",(#REF!-(+#REF!*T18)),IF(Q18="Probabilidad",AC17,""))),"") -> 0.8
O19: 2 | P19: En caso de materialización del riesgo, desde la tesorería del ISVIMED,una vez identificado el pago doble y el beneficiario del mismo, se realiza una solicitud a traves de correo electronico requriendo realizar el reembolso del recurso correspondiente a la cuenta que se vio afectada. En caso de que el beneficiario no quiera realizar el reembolso, este recurso se le debitará del proximo pago que pueda tener a su favor, y en caso no cuente con un proximo pago se interpondra un recurso legal a fin de gestionar la devolución de dicho dinero. | Q19: =IF(OR(R19="Preventivo",R19="Detectivo"),"Probabilidad",IF(R19="Correctivo","Impacto","")) -> Impacto | R19: Correctivo | S19: Manual | T19: =IF(AND(R19="Preventivo",S19="Automático"),"50%",IF(AND(R19="Preventivo",S19="Manual"),"40%",IF(AND(R19="Detectivo",S19="Automático"),"40%",IF(AND(R19="Detectivo",S19="Manual"),"30%",IF(AND(R19="Correctivo",S19="Automático"),"35%",IF(AND(R19="Correctivo",S19="Manual"),"25%","")))))) -> 25% | U19: Sin Documentar | V19: Continua | W19: Con Registro | X19: Solictud de Reembolso al contratista al cual se realizó el pago doble. Soporte del ingreso del recurso a la cuenta bancaria. Traslado a Subdirección Jurídica para recuperación del recursos a través de recurso legal. | Y19: =IFERROR(IF(AND(Q18="Probabilidad",Q19="Probabilidad"),(AA18-(+AA18*T19)),IF(AND(Q18="Impacto",Q19="Probabilidad"),(AA17-(+AA17*T19)),IF(Q19="Impacto",AA18,""))),"") -> 0.336 | Z19: =IFERROR(IF(Y19="","",IF(Y19<=0.2,"Muy Baja",IF(Y19<=0.4,"Baja",IF(Y19<=0.6,"Media",IF(Y19<=0.8,"Alta","Muy Alta"))))),"") -> Baja | AA19: =+Y19 -> 0.336 | AB19: =IFERROR(IF(AC19="","",IF(AC19<=0.2,"Leve",IF(AC19<=0.4,"Menor",IF(AC19<=0.6,"Moderado",IF(AC19<=0.8,"Mayor","Catastrófico"))))),"") -> Moderado | AC19: =IFERROR(IF(AND(Q18="Impacto",Q19="Impacto"),(AC18-(+AC18*T19)),IF(AND(Q18="Probabilidad",Q19="Impacto"),(AC17-(+AC17*T19)),IF(Q19="Probabilidad",AC18,""))),"") -> 0.6
A20: GF18 | B20: NA Riesgo de Corrupción | C20: Tesorería | D20: Posibilidad de afectación económica y reputacional del Instituto | E20: por perdida de recursos y por lo tanto posibles sanciones de índole disciplinaria, penal y/o económica por parte de los entes de control | F20: debido a la apropiación de recursos financieros por parte empleados o terceros para el beneficio particular. | G20: Posibilidad de afectación económica y reputacional del Instituto por perdida de recursos y por lo tanto posibles sanciones de índole disciplinaria, penal y/o económica por parte de los entes de control, debido a la apropiación de recursos financieros por parte empleados o terceros para el beneficio particular. | I20: Integridad Pùblica - Corrupción | J20: Alta | K20: =IF(J20="","",IF(J20="Muy Baja",0.2,IF(J20="Baja",0.4,IF(J20="Media",0.6,IF(J20="Alta",0.8,IF(J20="Muy Alta",1,)))))) -> 0.8 | L20: Catastrófico | M20: =IF(L20="","",IF(L20="Leve",0.2,IF(L20="Menor",0.4,IF(L20="Moderado",0.6,IF(L20="Mayor",0.8,IF(L20="Catastrófico",1,)))))) -> 1 | N20: =IF(OR(AND(J20="Muy Baja",L20="Leve"),AND(J20="Muy Baja",L20="Menor"),AND(J20="Baja",L20="Leve")),"Bajo",IF(OR(AND(J20="Muy baja",L20="Moderado"),AND(J20="Baja",L20="Menor"),AND(J20="Baja",L20="Moderado"),AND(J20="Media",L20="Leve"),AND(J20="Media",L20="Menor"),AND(J20="Media",L20="Moderado"),AND(J20="Alta",L20="Leve"),AND(J20="Alta",L20="Menor")),"Moderado",IF(OR(AND(J20="Muy Baja",L20="Mayor"),AND(J20="Baja",L20="Mayor"),AND(J20="Media",L20="Mayor"),AND(J20="Alta",L20="Moderado"),AND(J20="Alta",L20="Mayor"),AND(J20="Muy Alta",L20="Leve"),AND(J20="Muy Alta",L20="Menor"),AND(J20="Muy Alta",L20="Moderado"),AND(J20="Muy Alta",L20="Mayor")),"Alto",IF(OR(AND(J20="Muy Baja",L20="Catastrófico"),AND(J20="Baja",L20="Catastrófico"),AND(J20="Media",L20="Catastrófico"),AND(J20="Alta",L20="Catastrófico"),AND(J20="Muy Alta",L20="Catastrófico")),"Extremo","")))) -> Extremo | O20: 0 | P20: En el caso de apropiación indebida recursos por parte de un funcionario (materialización del riesgo), el caso debe remitirse al oficial de transparencia quien a su vez deberá informar a los entes de control con el fin de que lleven a cabo las investigaciones pertinentes. Documentado en: P-GE-10, PROCEDIMIENTO PARA EL TRAMITE DE DENUNCIAS. | Q20: =IF(OR(R20="Preventivo",R20="Detectivo"),"Probabilidad",IF(R20="Correctivo","Impacto","")) -> Impacto | R20: Correctivo | S20: Manual | T20: =IF(AND(R20="Preventivo",S20="Automático"),"50%",IF(AND(R20="Preventivo",S20="Manual"),"40%",IF(AND(R20="Detectivo",S20="Automático"),"40%",IF(AND(R20="Detectivo",S20="Manual"),"30%",IF(AND(R20="Correctivo",S20="Automático"),"35%",IF(AND(R20="Correctivo",S20="Manual"),"25%","")))))) -> 25% | U20: Documentado | V20: Aleatoria | W20: Con Registro | X20: Reporte del hecho de corrupción al oficial de transparencia. Oficio remisorio a la autoridad competente | Y20: =IFERROR(IF(Q20="Probabilidad",(K20-(+K20*T20)),IF(Q20="Impacto",K20,"")),"") -> 0.8 | Z20: =IFERROR(IF(Y20="","",IF(Y20<=0.2,"Muy Baja",IF(Y20<=0.4,"Baja",IF(Y20<=0.6,"Media",IF(Y20<=0.8,"Alta","Muy Alta"))))),"") -> Alta | AA20: =+Y20 -> 0.8 | AB20: =IFERROR(IF(AC20="","",IF(AC20<=0.2,"Leve",IF(AC20<=0.4,"Menor",IF(AC20<=0.6,"Moderado",IF(AC20<=0.8,"Mayor","Catastrófico"))))),"") -> Mayor | AC20: =IFERROR(IF(Q20="Impacto",(M20-(+M20*T20)),IF(Q20="Probabilidad",M20,"")),"") -> 0.75 | AD20: =IFERROR(IF(AE20=0,"",IF(AND(AE20>0,AE20<=0.2),"Muy Baja",IF(AE20<=0.4,"Baja",IF(AE20<=0.6,"Media",IF(AE20<=0.8,"Alta","Muy Alta"))))),"") -> Muy Baja | AE20: =MIN(Y20:Y25) -> 0.084672 | AF20: =IFERROR(IF(AG20=0,"",IF(AND(AG20>0,AG20<=0.2),"Leve",IF(AG20<=0.4,"Menor",IF(AG20<=0.6,"Moderado",IF(AG20<=0.8,"Mayor","Catastrófico"))))),"") -> Mayor | AG20: =MIN(AC20:AC25) -> 0.75 | AH20: =IFERROR(IF(OR(AND(AD20="Muy Baja",AF20="Leve"),AND(AD20="Muy Baja",AF20="Menor"),AND(AD20="Baja",AF20="Leve")),"Bajo",IF(OR(AND(AD20="Muy Baja",AF20="Moderado"),AND(AD20="Baja",AF20="Menor"),AND(AD20="Baja",AF20="Moderado"),AND(AD20="Media",AF20="Leve"),AND(AD20="Media",AF20="Menor"),AND(AD20="Media",AF20="Moderado"),AND(AD20="Alta",AF20="Leve"),AND(AD20="Alta",AF20="Menor")),"Moderado",IF(OR(AND(AD20="Muy Baja",AF20="Mayor"),AND(AD20="Baja",AF20="Mayor"),AND(AD20="Media",AF20="Mayor"),AND(AD20="Alta",AF20="Moderado"),AND(AD20="Alta",AF20="Mayor"),AND(AD20="Muy Alta",AF20="Leve"),AND(AD20="Muy Alta",AF20="Menor"),AND(AD20="Muy Alta",AF20="Moderado"),AND(AD20="Muy Alta",AF20="Mayor")),"Alto",IF(OR(AND(AD20="Muy Baja",AF20="Catastrófico"),AND(AD20="Baja",AF20="Catastrófico"),AND(AD20="Media",AF20="Catastrófico"),AND(AD20="Alta",AF20="Catastrófico"),AND(AD20="Muy Alta",AF20="Catastrófico")),"Extremo","")))),"") -> Alto | AI20: Reducir (mitigar) | AJ20: Identificar si existen pólizas con la cobertura suficiente para amparar los saldos que se manejan en las cuentas bancarias. En caso afirmativo incorporar este control a este riesgo. | AK20: Se materializó el Riesgo? (Ver evento potencial principal en Columna F. Relacionar detalles de la materialización - que, como, cuando, donde): No se evidencia la materialización del evento potencial principal. Durante el período evaluado no se presentaron casos de apropiación indebida de recursos por parte de empleados o terceros. Los Controles están bien diseñados, se aplican de acuerdo al diseño y son efectivos? (Ver controles en la columna P / Concluir frente a cada control) Las medidas de control para este riesgo están bien diseñadas y se aplican de acuerdo con el proceso. Los controles establecidos permiten la adecuada autorización del gasto, la verificación periódica de recursos mediante arqueos y conciliaciones, así como la validación de información del personal y la existencia de canales formales para la denuncia de posibles irregularidades. En este sentido, los controles son coherentes y contribuyen a mitigar el riesgo. Que acciones propones o se están llevando a cabo para gestionar el riesgo que se materializó? (Si no aplica colocar N/A) No aplica, dado que el riesgo no se materializó. Se mantienen los controles establecidos para su mitigación. Que acciones propones o se están llevando a cabo para fortalecer los controles? (En el caso de que tener Acciones de mejora / Acciones correctivas en proceso, relacionar el avance. Si tienes acciones específicas a desarrollar en la columna AJ, también relacionar el avance) Se mantiene la aplicación de los controles establecidos y se realiza seguimiento periódico a su ejecución. | AL20: https://isvimedgovco.sharepoint.com/:f:/s/1Admin_Y_Financiera/IgCsojgZ1oSPQLAtK0yc-mNzAb8cABpLn_42Hza6Gmluo6E?e=ZgJq4E | AM20: Se materializó el Riesgo? (Ver evento potencial principal en Columna F. Relacionar detalles de la materialización - que, como, cuando, donde): No se evidencia la materialización del evento potencial principal. Durante el período evaluado no se presentaron casos de apropiación indebida de recursos por parte de empleados o terceros. Los Controles están bien diseñados, se aplican de acuerdo al diseño y son efectivos? (Ver controles en la columna P / Concluir frente a cada control) Las medidas de control para este riesgo están bien diseñadas y se aplican de acuerdo con el proceso. Los controles establecidos permiten la adecuada autorización del gasto, la verificación periódica de recursos mediante arqueos y conciliaciones, así como la validación de información del personal y la existencia de canales formales para la denuncia de posibles irregularidades. En este sentido, los controles son coherentes y contribuyen a mitigar el riesgo. Que acciones propones o se están llevando a cabo para gestionar el riesgo que se materializó? (Si no aplica colocar N/A) No aplica, dado que el riesgo no se materializó. Se mantienen los controles establecidos para su mitigación. Que acciones propones o se están llevando a cabo para fortalecer los controles? (En el caso de que tener Acciones de mejora / Acciones correctivas en proceso, relacionar el avance. Si tienes acciones específicas a desarrollar en la columna AJ, también relacionar el avance) Se mantiene la aplicación de los controles establecidos y se realiza seguimiento periódico a su ejecución. | AN20: * https://isvimedgovco.sharepoint.com/:f:/s/Admin_Y_Financiera-Contabilidad/IgCeynrbmWA7TIWLr2NCIdVlAd7dAFu8v4Hv1m_I5gMCLlw?e=agaQia *https://isvimedgovco.sharepoint.com/:f:/s/1Admin_Y_Financiera/IgAnXS-OW2KeRqLnxS5tWw05Ac32j_2rgF02JZtbOv9lVlU?e=lswoTR | AO20: Se materializó el Riesgo? (Ver evento potencial principal en Columna F. Relacionar detalles de la materialización - que, como, cuando, donde): Los Controles están bien diseñados, se aplican de acuerdo al diseño y son efectivos? (Ver controles en la columna P / Concluir frente a cada control) Que acciones propones o se están llevando a cabo para gestionar el riesgo que se materializó? (Si no aplica colocar N/A) Que acciones propones o se están llevando a cabo para fortalecer los controles? (En el caso de que tener Acciones de mejora / Acciones correctivas en proceso, relacionar el avance. Si tienes acciones específicas a desarrollar en la columna AJ, también relacionar el avance) | AQ20: Se materializó el Riesgo? (Ver evento potencial principal en Columna F. Relacionar detalles de la materialización - que, como, cuando, donde): Los Controles están bien diseñados, se aplican de acuerdo al diseño y son efectivos? (Ver controles en la columna P / Concluir frente a cada control) Que acciones propones o se están llevando a cabo para gestionar el riesgo que se materializó? (Si no aplica colocar N/A) Que acciones propones o se están llevando a cabo para fortalecer los controles? (En el caso de que tener Acciones de mejora / Acciones correctivas en proceso, relacionar el avance. Si tienes acciones específicas a desarrollar en la columna AJ, también relacionar el avance)
H21: 1. La persona que prepara los pagos es la misma que las aprueba en el portal bancario (falta de segregación de funciones). | O21: 1 | P21: El profesional de tesorería y la contratistas de fiducias preparan los pagos en los portales bancarios correspondientes y el Subdirector Administrativo y Financiero los aprueba. | Q21: =IF(OR(R21="Preventivo",R21="Detectivo"),"Probabilidad",IF(R21="Correctivo","Impacto","")) -> Probabilidad | R21: Preventivo | S21: Manual | T21: =IF(AND(R21="Preventivo",S21="Automático"),"50%",IF(AND(R21="Preventivo",S21="Manual"),"40%",IF(AND(R21="Detectivo",S21="Automático"),"40%",IF(AND(R21="Detectivo",S21="Manual"),"30%",IF(AND(R21="Correctivo",S21="Automático"),"35%",IF(AND(R21="Correctivo",S21="Manual"),"25%","")))))) -> 40% | U21: Sin Documentar | V21: Aleatoria | W21: Sin Registro | X21: N/A | Y21: =IFERROR(IF(AND(Q20="Probabilidad",Q21="Probabilidad"),(AA20-(+AA20*T21)),IF(Q21="Probabilidad",(K20-(+K20*T21)),IF(Q21="Impacto",AA20,""))),"") -> 0.48 | Z21: =IFERROR(IF(Y21="","",IF(Y21<=0.2,"Muy Baja",IF(Y21<=0.4,"Baja",IF(Y21<=0.6,"Media",IF(Y21<=0.8,"Alta","Muy Alta"))))),"") -> Media | AA21: =+Y21 -> 0.48 | AB21: =IFERROR(IF(AC21="","",IF(AC21<=0.2,"Leve",IF(AC21<=0.4,"Menor",IF(AC21<=0.6,"Moderado",IF(AC21<=0.8,"Mayor","Catastrófico"))))),"") -> Mayor | AC21: =IFERROR(IF(AND(Q20="Impacto",Q21="Impacto"),(AC20-(+AC20*T21)),IF(Q21="Impacto",(#REF!-(+#REF!*T21)),IF(Q21="Probabilidad",AC20,""))),"") -> 0.75
H22: 2. Falta de control en la aprobación de los gastos relacionados con la caja menor. | O22: 2 | P22: El Director del Isvimed aprueba la realización del gasto. La persona asignada por la resolución para el manejo de la caja menor y el profesional designado por el área contable realizan arqueos de caja de manera periódica. | Q22: =IF(OR(R22="Preventivo",R22="Detectivo"),"Probabilidad",IF(R22="Correctivo","Impacto","")) -> Probabilidad | R22: Preventivo | S22: Manual | T22: =IF(AND(R22="Preventivo",S22="Automático"),"50%",IF(AND(R22="Preventivo",S22="Manual"),"40%",IF(AND(R22="Detectivo",S22="Automático"),"40%",IF(AND(R22="Detectivo",S22="Manual"),"30%",IF(AND(R22="Correctivo",S22="Automático"),"35%",IF(AND(R22="Correctivo",S22="Manual"),"25%","")))))) -> 40% | U22: Documentado | V22: Aleatoria | W22: Con Registro | X22: Actas de arqueos de caja | Y22: =IFERROR(IF(AND(Q21="Probabilidad",Q22="Probabilidad"),(AA21-(+AA21*T22)),IF(AND(Q21="Impacto",Q22="Probabilidad"),(AA20-(+AA20*T22)),IF(Q22="Impacto",AA21,""))),"") -> 0.288 | Z22: =IFERROR(IF(Y22="","",IF(Y22<=0.2,"Muy Baja",IF(Y22<=0.4,"Baja",IF(Y22<=0.6,"Media",IF(Y22<=0.8,"Alta","Muy Alta"))))),"") -> Baja | AA22: =+Y22 -> 0.288 | AB22: =IFERROR(IF(AC22="","",IF(AC22<=0.2,"Leve",IF(AC22<=0.4,"Menor",IF(AC22<=0.6,"Moderado",IF(AC22<=0.8,"Mayor","Catastrófico"))))),"") -> Mayor | AC22: =IFERROR(IF(AND(Q21="Impacto",Q22="Impacto"),(AC21-(+AC21*T22)),IF(AND(Q21="Probabilidad",Q22="Impacto"),(AC20-(+AC20*T22)),IF(Q22="Probabilidad",AC21,""))),"") -> 0.75
H23: 3. Ausencia de conciliaciones a los recursos administrados en entidades financieras y sociedades fiduciarias. | O23: 3 | P23: El profesional designado en el área contable realiza mensualmente conciliaciones bancarias para identificar diferencias entre los saldos contables y los extractos bancarios y de fiducias. | Q23: =IF(OR(R23="Preventivo",R23="Detectivo"),"Probabilidad",IF(R23="Correctivo","Impacto","")) -> Probabilidad | R23: Detectivo | S23: Manual | T23: =IF(AND(R23="Preventivo",S23="Automático"),"50%",IF(AND(R23="Preventivo",S23="Manual"),"40%",IF(AND(R23="Detectivo",S23="Automático"),"40%",IF(AND(R23="Detectivo",S23="Manual"),"30%",IF(AND(R23="Correctivo",S23="Automático"),"35%",IF(AND(R23="Correctivo",S23="Manual"),"25%","")))))) -> 30% | U23: Documentado | V23: Continua | W23: Con Registro | X23: Conciliación bancaria y de fiducias mensual | Y23: =IFERROR(IF(AND(Q22="Probabilidad",Q23="Probabilidad"),(AA22-(+AA22*T23)),IF(AND(Q22="Impacto",Q23="Probabilidad"),(AA21-(+AA21*T23)),IF(Q23="Impacto",AA22,""))),"") -> 0.2016 | Z23: =IFERROR(IF(Y23="","",IF(Y23<=0.2,"Muy Baja",IF(Y23<=0.4,"Baja",IF(Y23<=0.6,"Media",IF(Y23<=0.8,"Alta","Muy Alta"))))),"") -> Baja | AA23: =+Y23 -> 0.2016 | AB23: =IFERROR(IF(AC23="","",IF(AC23<=0.2,"Leve",IF(AC23<=0.4,"Menor",IF(AC23<=0.6,"Moderado",IF(AC23<=0.8,"Mayor","Catastrófico"))))),"") -> Mayor | AC23: =IFERROR(IF(AND(Q22="Impacto",Q23="Impacto"),(AC22-(+AC22*T23)),IF(AND(Q22="Probabilidad",Q23="Impacto"),(AC21-(+AC21*T23)),IF(Q23="Probabilidad",AC22,""))),"") -> 0.75
H24: 4. El proceso de selección de personal para cargos de manejo y confianza, no incluye la verificación de la situación socioeconómica del aspirante. | O24: 4 | P24: desde el proceso de talento humano se aplica la lista de chequeo F-GH-03 que establece los documentos necesarios para dar inicio al trámite de vinculación de un funcionario en la entidad, dentro de estos requerimientos se solicita la declaración juramentada de bienes y rentas (Función Pública) descargado directamente del SIGEP, en la cual se detalla la situación socioeconómica de los aspirantes. La profesional de Talento Humano verifica la información de la declaración de bienes y rentas, identificando si el nivel de los pasivos es considerable con relación al nivel de ingresos, lo cual podría considerarse como una situación generadora de presión para cometer hechos de corrupción, y debe generarse la alerta respectiva. | Q24: =IF(OR(R24="Preventivo",R24="Detectivo"),"Probabilidad",IF(R24="Correctivo","Impacto","")) -> Probabilidad | R24: Preventivo | S24: Manual | T24: =IF(AND(R24="Preventivo",S24="Automático"),"50%",IF(AND(R24="Preventivo",S24="Manual"),"40%",IF(AND(R24="Detectivo",S24="Automático"),"40%",IF(AND(R24="Detectivo",S24="Manual"),"30%",IF(AND(R24="Correctivo",S24="Automático"),"35%",IF(AND(R24="Correctivo",S24="Manual"),"25%","")))))) -> 40% | U24: Sin Documentar | V24: Continua | W24: Con Registro | X24: la lista de chequeo Vinculación, F-GH-03 | Y24: =IFERROR(IF(AND(Q23="Probabilidad",Q24="Probabilidad"),(AA23-(+AA23*T24)),IF(AND(Q23="Impacto",Q24="Probabilidad"),(AA22-(+AA22*T24)),IF(Q24="Impacto",AA23,""))),"") -> 0.12096 | Z24: =IFERROR(IF(Y24="","",IF(Y24<=0.2,"Muy Baja",IF(Y24<=0.4,"Baja",IF(Y24<=0.6,"Media",IF(Y24<=0.8,"Alta","Muy Alta"))))),"") -> Muy Baja | AA24: =+Y24 -> 0.12096 | AB24: =IFERROR(IF(AC24="","",IF(AC24<=0.2,"Leve",IF(AC24<=0.4,"Menor",IF(AC24<=0.6,"Moderado",IF(AC24<=0.8,"Mayor","Catastrófico"))))),"") -> Mayor | AC24: =IFERROR(IF(AND(Q23="Impacto",Q24="Impacto"),(AC23-(+AC23*T24)),IF(AND(Q23="Probabilidad",Q24="Impacto"),(AC22-(+AC22*T24)),IF(Q24="Probabilidad",AC23,""))),"") -> 0.75
H25: 5. Ausencia de una línea de denuncias | O25: 5 | P25: La entidad cuenta con dos canales para la recepción de denuncias por posibles hechos o riesgos de corrupción, a través de la pagina web y el corrreo soytransparente@isvimed.gov.co. A través de estos canales el denunciante tiene la opción de interponer la denuncia a nombre propio o de manera anónima. El oficial de transparencia recible la denuncia, coordina el respectivo estudio y si el del caso, realiza la remisión de la misma ante las autoridades competentes. El oficial de transparencia realiza seguimiento al estado de trámite de cada denuncia y cuando sea posible proporciona respuesta al denunciante. Documentado en: P-GE-10, PROCEDIMIENTO PARA EL TRAMITE DE DENUNCIAS. | Q25: =IF(OR(R25="Preventivo",R25="Detectivo"),"Probabilidad",IF(R25="Correctivo","Impacto","")) -> Probabilidad | R25: Detectivo | S25: Manual | T25: =IF(AND(R25="Preventivo",S25="Automático"),"50%",IF(AND(R25="Preventivo",S25="Manual"),"40%",IF(AND(R25="Detectivo",S25="Automático"),"40%",IF(AND(R25="Detectivo",S25="Manual"),"30%",IF(AND(R25="Correctivo",S25="Automático"),"35%",IF(AND(R25="Correctivo",S25="Manual"),"25%","")))))) -> 30% | U25: Documentado | V25: Aleatoria | W25: Con Registro | X25: Acta de estudio de la Denuncia Oficio remisorio a la autoridad competente control de denuncias RITA. Respuesta al denunciante. | Y25: =IFERROR(IF(AND(Q24="Probabilidad",Q25="Probabilidad"),(AA24-(+AA24*T25)),IF(AND(Q24="Impacto",Q25="Probabilidad"),(AA23-(+AA23*T25)),IF(Q25="Impacto",AA24,""))),"") -> 0.084672 | Z25: =IFERROR(IF(Y25="","",IF(Y25<=0.2,"Muy Baja",IF(Y25<=0.4,"Baja",IF(Y25<=0.6,"Media",IF(Y25<=0.8,"Alta","Muy Alta"))))),"") -> Muy Baja | AA25: =+Y25 -> 0.084672 | AB25: =IFERROR(IF(AC25="","",IF(AC25<=0.2,"Leve",IF(AC25<=0.4,"Menor",IF(AC25<=0.6,"Moderado",IF(AC25<=0.8,"Mayor","Catastrófico"))))),"") -> Mayor | AC25: =IFERROR(IF(AND(Q24="Impacto",Q25="Impacto"),(AC24-(+AC24*T25)),IF(AND(Q24="Probabilidad",Q25="Impacto"),(AC23-(+AC23*T25)),IF(Q25="Probabilidad",AC24,""))),"") -> 0.75
