Workbook
Name Afectación_Económica: #REF!
Name Afectación_Económica: #REF!
Name Definicion_tratamiento: #REF!
Name Definicion_tratamiento: #REF!
Name Ejecución_administración_de_procesos: #REF!
Name Fiscal_A: #REF!
Name Fiscal_A: #REF!
Name Fiscal_B: #REF!
Name Fiscal_B: #REF!
Name Gestiòn: #REF!
Name Gestiòn: #REF!
Name Gestión_A: #REF!
Name Gestión_A: #REF!
Name Gestión_B: #REF!
Name Gestión_B: #REF!
Name IMPACTO_PROCESOS: #REF!
Name IMPACTO_PROCESOS: #REF!
Name IMPACTO_PROCESOS: #REF!
Name IMPACTO_PROCESOS: #REF!
Name IntegridadPública_Corrupción: #REF!
Name IntegridadPública_Corrupción: #REF!
Name IntegridadPública_LA_FT_FP: #REF!
Name IntegridadPública_LA_FT_FP: #REF!
Name opciones: #REF!
Name opciones: #REF!
Name opciones: #REF!
Name opciones: #REF!
Name opciones2: #REF!
Name opciones2: #REF!
Name opciones2: #REF!
Name opciones2: #REF!
Name Plan_accion: #REF!
Name Plan_accion: #REF!
Name Plan_acción: #REF!
Name Plan_acción: #REF!
Name Plan_de_acción: #REF!
Name Plan_de_acción: #REF!
Name Posibilidad__de_efecto_dañoso_sobre_el_interes_patrimonial: #REF!
Name Posibilidad__de_efecto_dañoso_sobre_el_interes_patrimonial: #REF!
Name Posibilidad_de_pérdida_Económica: #REF!
Name Posibilidad_de_pérdida_Económica: #REF!
Name Proceso: #REF!
Name Quince_Cero: #REF!
Name Quince_Cero: #REF!
Name Quince_Cero: #REF!
Name Quince_Cero: #REF!
Name Rango_Calificacion_Ejecucion: #REF!
Name Rango_Calificacion_Ejecucion: #REF!
Name Rango_Calificacion_Ejecucion: #REF!
Name Rango_Calificacion_Ejecucion: #REF!
Name Reducir_mitigar_Transferir_Evitar: #REF!
Name Reducir_mitigar_Transferir_Evitar: #REF!
Name Reputacional: #REF!
Name Reputacional: #REF!
Name Requiere_Plan_de_Acción: #REF!
Name Requiere_Plan_de_Acción: #REF!
Name Seg.Información: #REF!
Name Seg.Información: #REF!
Name TIPO: #REF!
Name TIPO: #REF!

Sheet 1. ESTABLECIMIENTO CONTEXTO 
B1: MAPA DE RIESGOS DE PROCESO | L1: CÓDIGO: F-GM-29
L2: VERSIÓN: 05
L3: FECHA: 30/03/2022
L4: PÁGINA: 1 de 3
A6: 4.2.1. ESTABLECIMIENTO DEL CONTEXTO
A9: PROCESO: | D9: Gestión de Desarrollo de Soluciones Habitacionales
A10: FECHA DE ELABORACIÓN O ACTUALIZACIÓN: | E10: Marzo de 2022
A11: RESPONSABLE (s) DE ELABORACIÓN O ACTUALIZACIÓN | F11: Subdirector de Dotación de Vivienda y Habitat
A14: Factor: Externo/Interno/Proceso | D14: Variable | G14: ¿Cómo me puede afectar?
G15: CARÁCTER: Positivo/negativo | I15: Breve análisis
A16: Factor Externo | C16: Factor Externo | D16: Desarticulación Interinstitucional | G16: NEGATIVO | H16: POSITIVO | I16: No nos permite acceder a información necesaria para la consolidación de proyectos orientados al cumplimiento de metas, generando reprocesos y sobrecostos en los mismos.
A17: Factor Interno | C17: Factor Interno | D17: Desarticulación Interna / Flujos de Comunicación | G17: NEGATIVO | H17: NEGATIVO | I17: Desarticulación entre los procesos entre subdirecciones lo que conlleva a incumpliendo de metas, sobrecostos y reprocesos.
A18: Factor Externo | C18: Factor de proceso | D18: Lineamientos estratégicos desarticulados con el nivel central | G18: NEGATIVO | I18: Desarticulación con Entes de la Alcaldia de Medellín, lo cual genera incumplimiento en metas y daño en la reputación de la entidad
A19: Factor Interno | D19: Estructura organizacional: Cambio de personal en todos los niveles (Directivo, Profesional, Técnico y asistencial) | G19: NEGATIVO | I19: Genera inestabilidad de los procesos, afectación del clima laboral, afecta resultados, continuidad de los programas y cumplimiento de metas
A20: Factor Externo | D20: Retrasos en la entrega de las soluciones habitacionales | G20: NEGATIVO | I20: Afectación de la imagen del Instituto, perdida de credibilidad.
A21: Factor Interno | D21: Recortes en la asignación de recursos para el Instituto | G21: NEGATIVO | I21: Demora, sobrecosto y no cumplimiento de metas institucionales.
A22: Factor Interno | D22: Falencia en la caracterización de la población potencialmente beneficiaria | G22: NEGATIVO | I22: No permite focalizar proyectos de desarrollo y cumplimiento de metas.
A23: Factor Interno | D23: instalaciones inadecuadas / Fragmentadas | G23: NEGATIVO | I23: Afecta la productividad, los flujos de comunicación e incumplimiento de las normas de Seguridad y salud en el trabajo.
A24: Factor Interno | D24: Obsolescencia Tecnológica | G24: NEGATIVO | I24: Genera reprocesos, perdida de información, inoportunidad en la gestión de la información
A25: Factor Interno | D25: Clima laboral | G25: NEGATIVO | I25: Percepción de inadecuado clima laboral en algunos procesos del Instituto lo que puede generar conflictos en las diferentes áreas
A26: Factor Interno | D26: Bienestar Laboral | G26: NEGATIVO | I26: Se puede presentar sobrecarga laboral, no existe un programa de bienestar laboral que permita el desarrollado integral de los colaboradores, equilibrando las funciones vs el tiempo personal.
A27: Factor Interno | D27: Débil planeación institucional | G27: NEGATIVO | I27: Genera reprocesos, incumplimiento en metas, no identificación clara de roles, poca apropiación de los procesos.
A28: Factor Interno | D28: Empoderamiento del personal de la Subdirección de Dotación de vivienda y hábitat | G28: POSITIVO | I28: Basados en los resutados de la evaluación de desempeño, se evidencia que se desarrollan las funciones asignadas a cada responsable
A29: Factor Interno | D29: Demoras en el proceso de contratación de personal de prestación de servicios | G29: NEGATIVO | I29: Retrasa la ejecución de los procesos, incumplimiento de metas, demoras en la prestación de servicios

Sheet 2. MATRIZ DE RIESGOS
D1: MAPA DE RIESGOS DE PROCESO | AG1: CÓDIGO: F-GM-29
AG2: VERSIÓN: 05
AG3: FECHA: 30/03/2022
AG4: PÁGINA: 3 de 3
A6: PROCESO: | D6: Gestión de Desarrollo de Soluciones Habitacionales | F6: FECHA DE ELABORACIÓN O ACTUALIZACIÓN: | H6: noviembre de 2024
F7: RESPONSABLE (s) DE ELABORACIÓN O ACTUALIZACIÓN | H7: Subdirector de Dotación de Vivienda y Habitat
A8: OBJETIVO: | D8: Desarrollar y brindar acompañamiento a soluciones habitacionales que cumplan con las especificaciones técnicas y financieras requeridas, de una manera oportuna y eficiente.
A9: ALCANCE: | D9: El proceso inicia con la identificación de zonas y proyectos de intervención y finaliza con la entrega a satisfacción de la vivienda, nuevas, mejoradas y reconocidas.
A11: 4.2. IDENTIFICACION DEL RIESGO | J11: 4.3. EVALUACIÓN DEL RIESGO | AI11: 4.4. TRATAMIENTO DEL RIESGO | AK11: SEGUIMIENTO TRIMESTRE 1 DE 2026 | AL11: RELACIÓN DE EVIDENCIAS IMPORTANTE:- RELACIONAR LOS ENLACES SOBRE MATERIALIZACION DE RIESGOS Y SOBRE APLICACIÓN DE CONTROLES -LAS EVIDENCIAS SOBRE APLICACIÓN DE CONTROLES SON LAS QUE SE ENCUENTRAN EN LA COLUMNA X - RELACIONARLAS UNA A UNA CON EL ENLACE CORRESPONDIENTE. | AM11: SEGUIMIENTO TRIMESTRE 2 DE 2026 | AN11: RELACIÓN DE EVIDENCIAS IMPORTANTE:- RELACIONAR LOS ENLACES SOBRE MATERIALIZACION DE RIESGOS Y SOBRE APLICACIÓN DE CONTROLES -LAS EVIDENCIAS SOBRE APLICACIÓN DE CONTROLES SON LAS QUE SE ENCUENTRAN EN LA COLUMNA X - RELACIONARLAS UNA A UNA CON EL ENLACE CORRESPONDIENTE. | AO11: SEGUIMIENTO TRIMESTRE 3 DE 2026 | AP11: RELACIÓN DE EVIDENCIAS IMPORTANTE:- RELACIONAR LOS ENLACES SOBRE MATERIALIZACION DE RIESGOS Y SOBRE APLICACIÓN DE CONTROLES -LAS EVIDENCIAS SOBRE APLICACIÓN DE CONTROLES SON LAS QUE SE ENCUENTRAN EN LA COLUMNA X - RELACIONARLAS UNA A UNA CON EL ENLACE CORRESPONDIENTE. | AQ11: SEGUIMIENTO TRIMESTRE 4 DE 2026 | AR11: RELACIÓN DE EVIDENCIAS IMPORTANTE:- RELACIONAR LOS ENLACES SOBRE MATERIALIZACION DE RIESGOS Y SOBRE APLICACIÓN DE CONTROLES -LAS EVIDENCIAS SOBRE APLICACIÓN DE CONTROLES SON LAS QUE SE ENCUENTRAN EN LA COLUMNA X - RELACIONARLAS UNA A UNA CON EL ENLACE CORRESPONDIENTE.
A12: Referencia | B12: Objetivo | C12: Temática / Linea de Acción | D12: 1. QUE? | E12: 2. COMO SE REFLEJA? | F12: 3. POR QUE? (Evento Potencial Principal) | G12: Descripción del Riesgo (1+2+3) | H12: Causa (Evento Potencial Intermedio) | I12: Clasificación del Riesgo | J12: EVALUACION DE RIESGO INHERENTE | O12: VALORACION DE CONTROLES | AD12: EVALUACION DEL RIESGO RESIDUAL | AI12: Tratamiento | AJ12: FORMULAR ACCIONES ESPECIFICAS
J13: Probabilidad Inherente | K13: % | L13: Impacto Inherente | M13: % | N13: Zona de Riesgo Inherente | O13: No. Control | P13: Descripción del Control (Medidas Actuales) | Q13: Afectación | R13: Atributos | Y13: Probabilidad Residual | Z13: Probabilidad Residual | AA13: % | AB13: Impacto Residual | AC13: % | AD13: Probabilidad Residual Final | AE13: % | AF13: Impacto Residual Final | AG13: % | AH13: Zona de Riesgo Residual Final | AJ13: VER ACCION #
R14: Tipo | S14: Implementación | T14: Calificación | U14: Documentación | V14: Frecuencia | W14: Evidencia | X14: Nombre de la evidencia
A15: GDS15 | B15: Reconocer 2200 unidades de vivienda mediante las respectivas resoluciones de reconocimiento de Edificaciones para el cuatrienio 2024-2027 | C15: Reconocimiento de edificaciones. | D15: Posibilidad de afectación reputacional del Instituto | E15: por incumplimiento de las metas del Plan de Desarrollo Municipal relacionadas con el reconocimiento de edificaciones y la existencia de reclamaciones por parte de los propietarios que entran en este programa | F15: debido a retrasos en la obtención de las resoluciones de reconocimiento. | G15: Posibilidad de afectación reputacional del Instituto por incumplimiento de las metas del Plan de Desarrollo Municipal relacionadas con el reconocimiento de edificaciones y la existencia de reclamaciones por parte de los propietarios que entran en este programa. Lo anterior debido a retrasos en la obtención de las resoluciones de reconocimiento. | H15: 1. Entrega de documentación incompleta y/o incorrecta ante la Curaduría | I15: Gestión | J15: Alta | K15: =IF(J15="","",IF(J15="Muy Baja",0.2,IF(J15="Baja",0.4,IF(J15="Media",0.6,IF(J15="Alta",0.8,IF(J15="Muy Alta",1,)))))) -> 0.8 | L15: Moderado | M15: =IF(L15="","",IF(L15="Leve",0.2,IF(L15="Menor",0.4,IF(L15="Moderado",0.6,IF(L15="Mayor",0.8,IF(L15="Catastrófico",1,)))))) -> 0.6 | N15: =IF(OR(AND(J15="Muy Baja",L15="Leve"),AND(J15="Muy Baja",L15="Menor"),AND(J15="Baja",L15="Leve")),"Bajo",IF(OR(AND(J15="Muy baja",L15="Moderado"),AND(J15="Baja",L15="Menor"),AND(J15="Baja",L15="Moderado"),AND(J15="Media",L15="Leve"),AND(J15="Media",L15="Menor"),AND(J15="Media",L15="Moderado"),AND(J15="Alta",L15="Leve"),AND(J15="Alta",L15="Menor")),"Moderado",IF(OR(AND(J15="Muy Baja",L15="Mayor"),AND(J15="Baja",L15="Mayor"),AND(J15="Media",L15="Mayor"),AND(J15="Alta",L15="Moderado"),AND(J15="Alta",L15="Mayor"),AND(J15="Muy Alta",L15="Leve"),AND(J15="Muy Alta",L15="Menor"),AND(J15="Muy Alta",L15="Moderado"),AND(J15="Muy Alta",L15="Mayor")),"Alto",IF(OR(AND(J15="Muy Baja",L15="Catastrófico"),AND(J15="Baja",L15="Catastrófico"),AND(J15="Media",L15="Catastrófico"),AND(J15="Alta",L15="Catastrófico"),AND(J15="Muy Alta",L15="Catastrófico")),"Extremo","")))) -> Alto | O15: 1 | P15: El equipo jurídico y el administrativo de la linea de Reconocimiento de Edificaciones en dos momentos distintos (previo a la entrega del expediente final a la curaduría) verifica que los documentos que hacen parte integra del expediente se encuentren completos y correctos de acuerdo a los requisitos establecidos en la ley 1077 de 2015, para lo cual se utiliza la lista de chequeo expediente de reconocimiento radicado en curaduría, con código F-GDS-52. | Q15: =IF(OR(R15="Preventivo",R15="Detectivo"),"Probabilidad",IF(R15="Correctivo","Impacto","")) -> Probabilidad | R15: Preventivo | S15: Manual | T15: =IF(AND(R15="Preventivo",S15="Automático"),"50%",IF(AND(R15="Preventivo",S15="Manual"),"40%",IF(AND(R15="Detectivo",S15="Automático"),"40%",IF(AND(R15="Detectivo",S15="Manual"),"30%",IF(AND(R15="Correctivo",S15="Automático"),"35%",IF(AND(R15="Correctivo",S15="Manual"),"25%","")))))) -> 40% | U15: Sin Documentar | V15: Continua | W15: Con Registro | X15: lista de chequeo expediente de reconocimiento radicado en curaduría, con código F-GDS-52 en expediente físico de cada reconocimiento. | Y15: =IFERROR(IF(Q15="Probabilidad",(K15-(+K15*T15)),IF(Q15="Impacto",K15,"")),"") -> 0.48 | Z15: =IFERROR(IF(Y15="","",IF(Y15<=0.2,"Muy Baja",IF(Y15<=0.4,"Baja",IF(Y15<=0.6,"Media",IF(Y15<=0.8,"Alta","Muy Alta"))))),"") -> Media | AA15: =+Y15 -> 0.48 | AB15: =IFERROR(IF(AC15="","",IF(AC15<=0.2,"Leve",IF(AC15<=0.4,"Menor",IF(AC15<=0.6,"Moderado",IF(AC15<=0.8,"Mayor","Catastrófico"))))),"") -> Moderado | AC15: =IFERROR(IF(Q15="Impacto",(M15-(+M15*T15)),IF(Q15="Probabilidad",M15,"")),"") -> 0.6 | AD15: =IFERROR(IF(AE15=0,"",IF(AND(AE15>0,AE15<=0.2),"Muy Baja",IF(AE15<=0.4,"Baja",IF(AE15<=0.6,"Media",IF(AE15<=0.8,"Alta","Muy Alta"))))),"") -> Muy Baja | AE15: =MIN(Y15:Y19) -> 0.10368 | AF15: =IFERROR(IF(AG15=0,"",IF(AND(AG15>0,AG15<=0.2),"Leve",IF(AG15<=0.4,"Menor",IF(AG15<=0.6,"Moderado",IF(AG15<=0.8,"Mayor","Catastrófico"))))),"") -> Moderado | AG15: =MIN(AC15:AC19) -> 0.6 | AH15: =IFERROR(IF(OR(AND(AD15="Muy Baja",AF15="Leve"),AND(AD15="Muy Baja",AF15="Menor"),AND(AD15="Baja",AF15="Leve")),"Bajo",IF(OR(AND(AD15="Muy Baja",AF15="Moderado"),AND(AD15="Baja",AF15="Menor"),AND(AD15="Baja",AF15="Moderado"),AND(AD15="Media",AF15="Leve"),AND(AD15="Media",AF15="Menor"),AND(AD15="Media",AF15="Moderado"),AND(AD15="Alta",AF15="Leve"),AND(AD15="Alta",AF15="Menor")),"Moderado",IF(OR(AND(AD15="Muy Baja",AF15="Mayor"),AND(AD15="Baja",AF15="Mayor"),AND(AD15="Media",AF15="Mayor"),AND(AD15="Alta",AF15="Moderado"),AND(AD15="Alta",AF15="Mayor"),AND(AD15="Muy Alta",AF15="Leve"),AND(AD15="Muy Alta",AF15="Menor"),AND(AD15="Muy Alta",AF15="Moderado"),AND(AD15="Muy Alta",AF15="Mayor")),"Alto",IF(OR(AND(AD15="Muy Baja",AF15="Catastrófico"),AND(AD15="Baja",AF15="Catastrófico"),AND(AD15="Media",AF15="Catastrófico"),AND(AD15="Alta",AF15="Catastrófico"),AND(AD15="Muy Alta",AF15="Catastrófico")),"Extremo","")))),"") -> Moderado | AI15: Reducir (mitigar) | AK15: Se materializó el Riesgo? El riesgo sigue vigente, Durante el Primer trimestre de 2026 No se ha materializado y se ha venido entregando la documentación requerida a las curadurías con el fin de obtener las resoluciones que se le asignan a los beneficiarios. Los Controles están bien diseñados, se aplican de acuerdo al diseño y son efectivos? Todos los controles planteados fueron realizados a cabalidad y han sido efectivos, se ha cumplido con la entrega de la documentación completa a las curadurías con el apoyo de los beneficiarios, igualmente se ha contado con el personal de apoyo para dar cumplimiento a las labores del programa, lo que ha permitido que no se materialice el riesgo, como resultados de estos controles se han radicado en la Curaduría Cuarta 23 CBML que corresponden a 43 unidades de vivienda. Que acciones propones o se están llevando a cabo para gestionar el riesgo que se materializó? N/A Que acciones propones o se están llevando a cabo para fortalecer los controles? No ha sido necesario documentar acciones ya que no se ha materializado el riesgo. | AL15: Se relaciona el correspondiente enlace del Sharepoint donde se lleva el contro de los radicado para verificación del avance en el cumplimiento de la meta: https://isvimedgovco.sharepoint.com/:f:/s/4Dot_Vivienda_y_Habitat2-07.Reconocimiento/EjsRhQcHNcNCiQbA2TP4WesB9zdkVyf-6xDhH7HkyVAyJQ?e=NumE3a | AM15: Se materializó el Riesgo? El riesgo sigue vigente, Durante el segundo trimestre de 2026 No se ha materializado y se ha venido entregando la documentación requerida a las curadurías con el fin de obtener las resoluciones que se le asignan a los beneficiarios. Los Controles están bien diseñados, se aplican de acuerdo al diseño y son efectivos? Todos los controles planteados fueron realizados a cabalidad y han sido efectivos, se ha cumplido con la entrega de la documentación completa a las curadurías con el apoyo de los beneficiarios, igualmente se ha contado con el personal de apoyo para dar cumplimiento a las labores del programa, lo que ha permitido que no se materialice el riesgo, como resultados de estos controles se han radicado en la Curaduría Cuarta 51 CBML que corresponden a 109 unidades de vivienda. Que acciones propones o se están llevando a cabo para gestionar el riesgo que se materializó? N/A Que acciones propones o se están llevando a cabo para fortalecer los controles? No ha sido necesario documentar acciones ya que no se ha materializado el riesgo. | AN15: Se relaciona el correspondiente enlace del Sharepoint donde se lleva el contro de los radicado para verificación del avance en el cumplimiento de la meta: https://isvimedgovco.sharepoint.com/:f:/s/4Dot_Vivienda_y_Habitat2-07.Reconocimiento/EjsRhQcHNcNCiQbA2TP4WesB9zdkVyf-6xDhH7HkyVAyJQ?e=NumE3a | AO15: Se materializó el Riesgo? (Ver evento potencial principal en Columna F. Relacionar detalles de la materialización - que, como, cuando, donde): Los Controles están bien diseñados, se aplican de acuerdo al diseño y son efectivos? (Ver controles en la columna P / Concluir frente a cada control) Que acciones propones o se están llevando a cabo para gestionar el riesgo que se materializó? (Si no aplica colocar N/A) Que acciones propones o se están llevando a cabo para fortalecer los controles? (En el caso de que tener Acciones de mejora / Acciones correctivas en proceso, relacionar el avance. Si tienes acciones específicas a desarrollar en la columna AJ, también relacionar el avance) | AQ15: Se materializó el Riesgo? (Ver evento potencial principal en Columna F. Relacionar detalles de la materialización - que, como, cuando, donde): Los Controles están bien diseñados, se aplican de acuerdo al diseño y son efectivos? (Ver controles en la columna P / Concluir frente a cada control) Que acciones propones o se están llevando a cabo para gestionar el riesgo que se materializó? (Si no aplica colocar N/A) Que acciones propones o se están llevando a cabo para fortalecer los controles? (En el caso de que tener Acciones de mejora / Acciones correctivas en proceso, relacionar el avance. Si tienes acciones específicas a desarrollar en la columna AJ, también relacionar el avance)
H16: 2. Entrega inoportuna de la documentación por parte de los propietarios. | O16: 2 | P16: El equipo administrativo de la Línea de Reconocimiento revisa que los documentos entregados por los propietarios de los inmuebles estén completos de acuerdo a lo establecido en la ley 1077 de 2015, para lo cual se utiliza el formato “lista de chequeo de expediente de reconocimiento”, F-GDS-51. El equipo administrativo identifica los documentos pendientes relacionados por parte de los técnicos de levantamiento en el formato “Visitas de levantamiento de reconocimiento”, F-GDS-58, para ser ingresados en una base de datos para una nueva programación de recorridos. Adicionalmente, se establece como política de operación que en los procesos de reconocimiento en donde los propietarios no entreguen la documentación completa que establece la ley 1077 de 2015, no procede la radicación de los expedientes en la respectiva curaduría. | Q16: =IF(OR(R16="Preventivo",R16="Detectivo"),"Probabilidad",IF(R16="Correctivo","Impacto","")) -> Probabilidad | R16: Preventivo | S16: Manual | T16: =IF(AND(R16="Preventivo",S16="Automático"),"50%",IF(AND(R16="Preventivo",S16="Manual"),"40%",IF(AND(R16="Detectivo",S16="Automático"),"40%",IF(AND(R16="Detectivo",S16="Manual"),"30%",IF(AND(R16="Correctivo",S16="Automático"),"35%",IF(AND(R16="Correctivo",S16="Manual"),"25%","")))))) -> 40% | U16: Sin Documentar | V16: Continua | W16: Con Registro | X16: formato “lista de chequeo expediente de reconocimiento”, F-GDS-51, formato “Visitas de levantamiento de reconocimiento”, F-GDS-58 en expediente físico de cada reconocimiento. Base de datos con control de pendientes en la documentación. | Y16: =IFERROR(IF(AND(Q15="Probabilidad",Q16="Probabilidad"),(AA15-(+AA15*T16)),IF(Q16="Probabilidad",(K15-(+K15*T16)),IF(Q16="Impacto",AA15,""))),"") -> 0.288 | Z16: =IFERROR(IF(Y16="","",IF(Y16<=0.2,"Muy Baja",IF(Y16<=0.4,"Baja",IF(Y16<=0.6,"Media",IF(Y16<=0.8,"Alta","Muy Alta"))))),"") -> Baja | AA16: =+Y16 -> 0.288 | AB16: =IFERROR(IF(AC16="","",IF(AC16<=0.2,"Leve",IF(AC16<=0.4,"Menor",IF(AC16<=0.6,"Moderado",IF(AC16<=0.8,"Mayor","Catastrófico"))))),"") -> Moderado | AC16: =IFERROR(IF(AND(Q15="Impacto",Q16="Impacto"),(AC15-(+AC15*T16)),IF(Q16="Impacto",(#REF!-(+#REF!*T16)),IF(Q16="Probabilidad",AC15,""))),"") -> 0.6
H17: 3. Imposibilidad de acceso a la base de datos SIFI por fallas en el sistema. | O17: 3 | P17: El responsable asignado del area de TIC recibe la solicitud de soporte SIFI, realiza diagnóstico de disponibilidad del servicio y según sea el caso realiza las siguientes actividades: reconstrucción de indices, mantenimiento general de la base de datos, depuración de elementos obsoletos, y revisión y actualización de servidores. | Q17: =IF(OR(R17="Preventivo",R17="Detectivo"),"Probabilidad",IF(R17="Correctivo","Impacto","")) -> Probabilidad | R17: Preventivo | S17: Manual | T17: =IF(AND(R17="Preventivo",S17="Automático"),"50%",IF(AND(R17="Preventivo",S17="Manual"),"40%",IF(AND(R17="Detectivo",S17="Automático"),"40%",IF(AND(R17="Detectivo",S17="Manual"),"30%",IF(AND(R17="Correctivo",S17="Automático"),"35%",IF(AND(R17="Correctivo",S17="Manual"),"25%","")))))) -> 40% | U17: Sin Documentar | V17: Aleatoria | W17: Sin Registro | X17: N/A | Y17: =IFERROR(IF(AND(Q16="Probabilidad",Q17="Probabilidad"),(AA16-(+AA16*T17)),IF(AND(Q16="Impacto",Q17="Probabilidad"),(AA15-(+AA15*T17)),IF(Q17="Impacto",AA16,""))),"") -> 0.1728 | Z17: =IFERROR(IF(Y17="","",IF(Y17<=0.2,"Muy Baja",IF(Y17<=0.4,"Baja",IF(Y17<=0.6,"Media",IF(Y17<=0.8,"Alta","Muy Alta"))))),"") -> Muy Baja | AA17: =+Y17 -> 0.1728 | AB17: =IFERROR(IF(AC17="","",IF(AC17<=0.2,"Leve",IF(AC17<=0.4,"Menor",IF(AC17<=0.6,"Moderado",IF(AC17<=0.8,"Mayor","Catastrófico"))))),"") -> Moderado | AC17: =IFERROR(IF(AND(Q16="Impacto",Q17="Impacto"),(AC16-(+AC16*T17)),IF(AND(Q16="Probabilidad",Q17="Impacto"),(AC15-(+AC15*T17)),IF(Q17="Probabilidad",AC16,""))),"") -> 0.6
H18: 4. Demora en la devolución de documentos radicados en entidades externas (Curadurías, Catastro, Hacienda Municipal), Departamento Administrativo de Planeación. | O18: 4 | P18: No es posible un control por parte de la entidad por tratarse de entidades externas. | R18: N/A | S18: N/A | U18: N/A | V18: N/A | W18: N/A | X18: N/A
H19: 5. Falencias en la capacidad operativa en términos de disponibilidad de personal | O19: 5 | P19: El profesional líder de la línea de reconocimientos verifica que el proceso precontractual y contractual para la contratación de personal (contratos de prestación de servicios profesionales y de apoyo a la gestión), se realice de acuerdo a los tiempos establecidos en el Plan Anual de Adquisiciones. | Q19: =IF(OR(R19="Preventivo",R19="Detectivo"),"Probabilidad",IF(R19="Correctivo","Impacto","")) -> Probabilidad | R19: Preventivo | S19: Manual | T19: =IF(AND(R19="Preventivo",S19="Automático"),"50%",IF(AND(R19="Preventivo",S19="Manual"),"40%",IF(AND(R19="Detectivo",S19="Automático"),"40%",IF(AND(R19="Detectivo",S19="Manual"),"30%",IF(AND(R19="Correctivo",S19="Automático"),"35%",IF(AND(R19="Correctivo",S19="Manual"),"25%","")))))) -> 40% | U19: Sin Documentar | V19: Aleatoria | W19: Con Registro | X19: Estudios previos y anexos Minuta de contratos de prestación de servicios profesionales y de apoyo a la gestión. | Y19: =IFERROR(IF(AND(Q17="Probabilidad",Q19="Probabilidad"),(AA17-(+AA17*T19)),IF(AND(Q17="Impacto",Q19="Probabilidad"),(AA16-(+AA16*T19)),IF(Q19="Impacto",AA17,""))),"") -> 0.10368 | Z19: =IFERROR(IF(Y19="","",IF(Y19<=0.2,"Muy Baja",IF(Y19<=0.4,"Baja",IF(Y19<=0.6,"Media",IF(Y19<=0.8,"Alta","Muy Alta"))))),"") -> Muy Baja | AA19: =+Y19 -> 0.10368 | AB19: =IFERROR(IF(AC19="","",IF(AC19<=0.2,"Leve",IF(AC19<=0.4,"Menor",IF(AC19<=0.6,"Moderado",IF(AC19<=0.8,"Mayor","Catastrófico"))))),"") -> Moderado | AC19: =IFERROR(IF(AND(Q17="Impacto",Q19="Impacto"),(AC17-(+AC17*T19)),IF(AND(Q17="Probabilidad",Q19="Impacto"),(AC16-(+AC16*T19)),IF(Q19="Probabilidad",AC17,""))),"") -> 0.6
A20: GDS 6 | B20: Lograr el cumplimiento de las metas de mejoramiento de vivienda establecida en el Plan de Desarrollo Distrital 2024-2027 con responsabilidad del Isvimed. Lograr la asignación de subdisios distritales de vivienda en la modalidad de mejoramiento en comunas con mayor deficit cualitativo. Lograr un aumento en la cobertura de subsidios asignados con relación al presupuesto inicial. | C20: Mejoramiento de Vivienda | D20: Posibilidad de afectación reputacional del Insituto | E20: Incumplimentos de metas del Plan de Desarrollo Distrital en materia de asignación y ejecución de subsidios de vivienda en la modalidad de mejoramiento. Por existencia de quejas interpuestas por las partes interesadas. | F20: debido a que no hay disponibilidad de recursos para la asignación de subsidios de mejoramiento de vivienda, a los diagnósticos efectivos. | G20: Posibilidad de afectación reputacional del Insituto, reflejada en incumplimentos de metas del Plan de Desarrollo Municipal en materia de asignación y ejecución de subsidios de vivienda en la modalidad de mejoramiento asi como por la existencia de quejas interpuestas por las partes interesadas. Lo anterior, debido a que no hay disponibilidad de recursos para la asignación de subsidios de mejoramiento de vivienda, a los diagnósticos efectivos. | H20: 1. No se realizan las transferencias Distritales previstas en el Plan de Desarrollo. | I20: Gestión | J20: Alta | K20: =IF(J20="","",IF(J20="Muy Baja",0.2,IF(J20="Baja",0.4,IF(J20="Media",0.6,IF(J20="Alta",0.8,IF(J20="Muy Alta",1,)))))) -> 0.8 | L20: Mayor | M20: =IF(L20="","",IF(L20="Leve",0.2,IF(L20="Menor",0.4,IF(L20="Moderado",0.6,IF(L20="Mayor",0.8,IF(L20="Catastrófico",1,)))))) -> 0.8 | N20: =IF(OR(AND(J20="Muy Baja",L20="Leve"),AND(J20="Muy Baja",L20="Menor"),AND(J20="Baja",L20="Leve")),"Bajo",IF(OR(AND(J20="Muy Baja",L20="Moderado"),AND(J20="Baja",L20="Menor"),AND(J20="Baja",L20="Moderado"),AND(J20="Media",L20="Leve"),AND(J20="Media",L20="Menor"),AND(J20="Media",L20="Moderado"),AND(J20="Alta",L20="Leve"),AND(J20="Alta",L20="Menor")),"Moderado",IF(OR(AND(J20="Muy Baja",L20="Mayor"),AND(J20="Baja",L20="Mayor"),AND(J20="Media",L20="Mayor"),AND(J20="Alta",L20="Moderado"),AND(J20="Alta",L20="Mayor"),AND(J20="Muy Alta",L20="Leve"),AND(J20="Muy Alta",L20="Menor"),AND(J20="Muy Alta",L20="Moderado"),AND(J20="Muy Alta",L20="Mayor")),"Alto",IF(OR(AND(J20="Muy Baja",L20="Catastrófico"),AND(J20="Baja",L20="Catastrófico"),AND(J20="Media",L20="Catastrófico"),AND(J20="Alta",L20="Catastrófico"),AND(J20="Muy Alta",L20="Catastrófico")),"Extremo","")))) -> Alto | O20: 0 | P20: El profesional universitario encargado de reportar los indicadores de plan de desarrollo relacionados con asignación y ejecución de subsidios de vivienda en la modalidad de mejoramiento, relaciona en nivel de cumplimiento de los mismos, estableciendo en el análisis el total de subsidios que no puedieron ser asignados por disponiblidad de recursos. | Q20: =IF(OR(R20="Preventivo",R20="Detectivo"),"Probabilidad",IF(R20="Correctivo","Impacto","")) -> Probabilidad | R20: Detectivo | S20: Manual | T20: =IF(AND(R20="Preventivo",S20="Automático"),"50%",IF(AND(R20="Preventivo",S20="Manual"),"40%",IF(AND(R20="Detectivo",S20="Automático"),"40%",IF(AND(R20="Detectivo",S20="Manual"),"30%",IF(AND(R20="Correctivo",S20="Automático"),"35%",IF(AND(R20="Correctivo",S20="Manual"),"25%","")))))) -> 30% | U20: Sin Documentar | V20: Aleatoria | W20: Con Registro | X20: Analisis de indicadores de asignación y ejecución de subsidios en el Sistema de Medición Organizacional del SIFI | Y20: =IFERROR(IF(Q20="Probabilidad",(K20-(+K20*T20)),IF(Q20="Impacto",K20,"")),"") -> 0.56 | Z20: =IFERROR(IF(Y20="","",IF(Y20<=0.2,"Muy Baja",IF(Y20<=0.4,"Baja",IF(Y20<=0.6,"Media",IF(Y20<=0.8,"Alta","Muy Alta"))))),"") -> Media | AA20: =+Y20 -> 0.56 | AB20: =IFERROR(IF(AC20="","",IF(AC20<=0.2,"Leve",IF(AC20<=0.4,"Menor",IF(AC20<=0.6,"Moderado",IF(AC20<=0.8,"Mayor","Catastrófico"))))),"") -> Mayor | AC20: =IFERROR(IF(Q20="Impacto",(M20-(+M20*T20)),IF(Q20="Probabilidad",M20,"")),"") -> 0.8 | AD20: =IFERROR(IF(AE20=0,"",IF(AND(AE20>0,AE20<=0.2),"Muy Baja",IF(AE20<=0.4,"Baja",IF(AE20<=0.6,"Media",IF(AE20<=0.8,"Alta","Muy Alta"))))),"") -> Baja | AE20: =MIN(Y20:Y23) -> 0.2016 | AF20: =IFERROR(IF(AG20=0,"",IF(AND(AG20>0,AG20<=0.2),"Leve",IF(AG20<=0.4,"Menor",IF(AG20<=0.6,"Moderado",IF(AG20<=0.8,"Mayor","Catastrófico"))))),"") -> Moderado | AG20: =MIN(AC20:AC23) -> 0.6 | AH20: =IFERROR(IF(OR(AND(AD20="Muy Baja",AF20="Leve"),AND(AD20="Muy Baja",AF20="Menor"),AND(AD20="Baja",AF20="Leve")),"Bajo",IF(OR(AND(AD20="Muy Baja",AF20="Moderado"),AND(AD20="Baja",AF20="Menor"),AND(AD20="Baja",AF20="Moderado"),AND(AD20="Media",AF20="Leve"),AND(AD20="Media",AF20="Menor"),AND(AD20="Media",AF20="Moderado"),AND(AD20="Alta",AF20="Leve"),AND(AD20="Alta",AF20="Menor")),"Moderado",IF(OR(AND(AD20="Muy Baja",AF20="Mayor"),AND(AD20="Baja",AF20="Mayor"),AND(AD20="Media",AF20="Mayor"),AND(AD20="Alta",AF20="Moderado"),AND(AD20="Alta",AF20="Mayor"),AND(AD20="Muy Alta",AF20="Leve"),AND(AD20="Muy Alta",AF20="Menor"),AND(AD20="Muy Alta",AF20="Moderado"),AND(AD20="Muy Alta",AF20="Mayor")),"Alto",IF(OR(AND(AD20="Muy Baja",AF20="Catastrófico"),AND(AD20="Baja",AF20="Catastrófico"),AND(AD20="Media",AF20="Catastrófico"),AND(AD20="Alta",AF20="Catastrófico"),AND(AD20="Muy Alta",AF20="Catastrófico")),"Extremo","")))),"") -> Moderado | AI20: Reducir (mitigar) | AK20: Identificación de Riesgos: El riesgo continua vigente durante el primer trimestre de 2026 Materialización de Evento Potencial Principal: Durante el primer trimestre de 2026 no se materializó el evento Potencial principal ya que se recibieron recursos y se concretaron Alianzas con el fin de realizar la asignación 1031 subsidios de mejoramiento de vivienda de la siguiente forma: - 77 Subsidios correspondientes al convenio Interadministrativo 004 de 2024 con el MVCT - 1 Subsidio correspondiente al Convenio de Asociación 281 de 2025 - COMFAMA - 6 Subsidios correspondientes a la invitación 005 de 2024 - COSEICO - 340 Subsidios correspondientes a la invitación 001 de 2025 Orden de Ejecución N° 2 COSEICO - 293 Subsidios correspondientes a la invitación 001 de 2025 Orden de Ejecución N° 2 INGEMAT - 109 Subsidios correspondientes a la invitación 001 de 2025 Orden de Ejecución N° 2 CONSORCIO VIVIENDAS - 205 Subsidios correspondientes a la invitación 001 de 2025 Orden de Ejecución N° 2 CONSORCIO MEJORAMIENTO DE VIVIENDA Materialización de Evento Potencial Intermedio: No se materializa el evento potencial intermedio durante el primer trimestre de 2026, se reciben transferencias y se gestionaron alianzas con entes externos Diseño, Efectividad de Controles: Los controles establecidos han sido efectivos permitiendo que no se materialicen los riesgos Estado de acciones derivadas del seguimiento a riesgos: No ha sido necesario documentar acciones en el primer trimestre de 2026 ya que los riesgos no se han materializado. | AL20: El reporte de los subsidios de mejoramientos de vivienda asignados se realiza de forma mensual en el SMO https://sifi.isvimed.gov.co/indicadores/visualizar?id=61 | AM20: Identificación de Riesgos: El riesgo continua vigente durante el segundo trimestre de 2026 Materialización de Evento Potencial Principal: Durante el segundo trimestre de 2026 no se materializó el evento Potencial principal ya que se recibieron recursos logrando la asignación 1398 subsidios de mejoramiento de vivienda de la siguiente forma: - 128 Subsidios correspondientes a la invitación 001 de 2025 Orden de Ejecución N° 2 MEJIA ACEVEDO - 500 Subsidios correspondientes a la invitación 001 de 2025 Orden de Ejecución N° 2 COSEICO - 264 Subsidios correspondientes a la invitación 001 de 2025 Orden de Ejecución N° 2 INGEMAT - 97 Subsidios correspondientes a la invitación 001 de 2025 Orden de Ejecución N° 2 CONSORCIO VIVIENDAS - 243 Subsidios correspondientes a la invitación 001 de 2025 Orden de Ejecución N° 2 CONSORCIO MEJORAMIENTO DE VIVIENDA - 116 Subsidios correspondientes a la invitación 001 de 2025 Orden de Ejecución N° 2 CONCRECIVIL - 33 Subsidios correspondientes al Convenio Interadministrativo N° 281 de 2025 COMFAMA - 17 Subsidios correspondientes al Convenio Interadministrativo N° 004 de 2024 MVCT Materialización de Evento Potencial Intermedio: No se materializa el evento potencial intermedio durante el segundo trimestre de 2026, se reciben transferencias y se gestionaron alianzas con entes externos Diseño, Efectividad de Controles: Los controles establecidos han sido efectivos permitiendo que no se materialicen los riesgos Estado de acciones derivadas del seguimiento a riesgos: No ha sido necesario documentar acciones en el segundo trimestre de 2026 ya que los riesgos no se han materializado. | AN20: El reporte de los subsidios de mejoramientos de vivienda asignados se realiza de forma mensual en el SMO https://sifi.isvimed.gov.co/indicadores/visualizar?id=61 | AO20: Se materializó el Riesgo? (Ver evento potencial principal en Columna F. Relacionar detalles de la materialización - que, como, cuando, donde): Los Controles están bien diseñados, se aplican de acuerdo al diseño y son efectivos? (Ver controles en la columna P / Concluir frente a cada control) Que acciones propones o se están llevando a cabo para gestionar el riesgo que se materializó? (Si no aplica colocar N/A) Que acciones propones o se están llevando a cabo para fortalecer los controles? (En el caso de que tener Acciones de mejora / Acciones correctivas en proceso, relacionar el avance. Si tienes acciones específicas a desarrollar en la columna AJ, también relacionar el avance) | AQ20: Se materializó el Riesgo? (Ver evento potencial principal en Columna F. Relacionar detalles de la materialización - que, como, cuando, donde): Los Controles están bien diseñados, se aplican de acuerdo al diseño y son efectivos? (Ver controles en la columna P / Concluir frente a cada control) Que acciones propones o se están llevando a cabo para gestionar el riesgo que se materializó? (Si no aplica colocar N/A) Que acciones propones o se están llevando a cabo para fortalecer los controles? (En el caso de que tener Acciones de mejora / Acciones correctivas en proceso, relacionar el avance. Si tienes acciones específicas a desarrollar en la columna AJ, también relacionar el avance)
O21: 1 | P21: En relación a la Subcausa 1: La persona con responsabilidad del control presupuestal de la Subdirección de Dotación, identifica de que contratos se pueden liberar recursos para reasignación. Para lo cual identifica renuncias de beneficiarios al subsidio, no ejecuciones y menor valor ejecutado. | Q21: =IF(OR(R21="Preventivo",R21="Detectivo"),"Probabilidad",IF(R21="Correctivo","Impacto","")) -> Probabilidad | R21: Preventivo | S21: Manual | T21: =IF(AND(R21="Preventivo",S21="Automático"),"50%",IF(AND(R21="Preventivo",S21="Manual"),"40%",IF(AND(R21="Detectivo",S21="Automático"),"40%",IF(AND(R21="Detectivo",S21="Manual"),"30%",IF(AND(R21="Correctivo",S21="Automático"),"35%",IF(AND(R21="Correctivo",S21="Manual"),"25%","")))))) -> 40% | U21: Sin Documentar | V21: Aleatoria | W21: Con Registro | X21: Actas de liquidacion de contratos con los operadores (parciales, finales). Resoluciones de aceptación de renuncia y/o pérdida de ejecutoriedad. | Y21: =IFERROR(IF(AND(Q20="Probabilidad",Q21="Probabilidad"),(AA20-(+AA20*T21)),IF(Q21="Probabilidad",(K20-(+K20*T21)),IF(Q21="Impacto",AA20,""))),"") -> 0.336 | Z21: =IFERROR(IF(Y21="","",IF(Y21<=0.2,"Muy Baja",IF(Y21<=0.4,"Baja",IF(Y21<=0.6,"Media",IF(Y21<=0.8,"Alta","Muy Alta"))))),"") -> Baja | AA21: =+Y21 -> 0.336 | AB21: =IFERROR(IF(AC21="","",IF(AC21<=0.2,"Leve",IF(AC21<=0.4,"Menor",IF(AC21<=0.6,"Moderado",IF(AC21<=0.8,"Mayor","Catastrófico"))))),"") -> Mayor | AC21: =IFERROR(IF(AND(Q20="Impacto",Q21="Impacto"),(AC20-(+AC20*T21)),IF(Q21="Impacto",($M$15-(+$M$15*T21)),IF(Q21="Probabilidad",AC20,""))),"") -> 0.8
P22: En caso de no contar con los recursos provenientes de transferencias distritales, La dirección gestiona recursos de financiación con otras entidades (publicas, mixtas y privadas) que gestionen proyectos de vivienda para cofinanciar la asignación de subsidios. Una vez obtenido el recurso, el personal de la linea de mejoramientos, identifica los diagnósticos efectivos rezagados para asignar el subsidio de vivienda y ejecutar los mejoramientos. Nota: Los nuevos diagnósticos de mejoramiento de vivienda a partir del 2024 serán relaizados directamente por el Isvimed.. | Q22: =IF(OR(R22="Preventivo",R22="Detectivo"),"Probabilidad",IF(R22="Correctivo","Impacto","")) -> Impacto | R22: Correctivo | S22: Manual | T22: =IF(AND(R22="Preventivo",S22="Automático"),"50%",IF(AND(R22="Preventivo",S22="Manual"),"40%",IF(AND(R22="Detectivo",S22="Automático"),"40%",IF(AND(R22="Detectivo",S22="Manual"),"30%",IF(AND(R22="Correctivo",S22="Automático"),"35%",IF(AND(R22="Correctivo",S22="Manual"),"25%","")))))) -> 25% | U22: Sin Documentar | V22: Aleatoria | W22: Con Registro | X22: Convenios de cofinanciacion. Informes mensuales de reporte de avance en donde se relaciona el estado de expedientes y se identifican los expedientes con diagnósticos efectivos para asignación. Resoluciones de asignación de subsidio | Y22: =IFERROR(IF(AND(Q21="Probabilidad",Q22="Probabilidad"),(AA21-(+AA21*T22)),IF(AND(Q21="Impacto",Q22="Probabilidad"),(AA20-(+AA20*T22)),IF(Q22="Impacto",AA21,""))),"") -> 0.336 | Z22: =IFERROR(IF(Y22="","",IF(Y22<=0.2,"Muy Baja",IF(Y22<=0.4,"Baja",IF(Y22<=0.6,"Media",IF(Y22<=0.8,"Alta","Muy Alta"))))),"") -> Baja | AA22: =+Y22 -> 0.336 | AB22: =IFERROR(IF(AC22="","",IF(AC22<=0.2,"Leve",IF(AC22<=0.4,"Menor",IF(AC22<=0.6,"Moderado",IF(AC22<=0.8,"Mayor","Catastrófico"))))),"") -> Moderado | AC22: =IFERROR(IF(AND(Q21="Impacto",Q22="Impacto"),(AC21-(+AC21*T22)),IF(AND(Q21="Probabilidad",Q22="Impacto"),(AC20-(+AC20*T22)),IF(Q22="Probabilidad",AC21,""))),"") -> 0.6
H23: 2. No se gestionan recursos a través de alianzas con el secctor público - privado. | O23: 2 | P23: En relación a la subcausa 2: El profesional a cargo de la linea de mejoramiento de vivienda gestiona con entidades publico - privadas alianzas efectivas para la consecución de recursos | Q23: =IF(OR(R23="Preventivo",R23="Detectivo"),"Probabilidad",IF(R23="Correctivo","Impacto","")) -> Probabilidad | R23: Preventivo | S23: Manual | T23: =IF(AND(R23="Preventivo",S23="Automático"),"50%",IF(AND(R23="Preventivo",S23="Manual"),"40%",IF(AND(R23="Detectivo",S23="Automático"),"40%",IF(AND(R23="Detectivo",S23="Manual"),"30%",IF(AND(R23="Correctivo",S23="Automático"),"35%",IF(AND(R23="Correctivo",S23="Manual"),"25%","")))))) -> 40% | U23: Sin Documentar | V23: Aleatoria | W23: Con Registro | X23: Cargue información de diganósticos efectivos en plataformas de cada entidad con la que se realiza la alianza. Convenios interadministrativos | Y23: =IFERROR(IF(AND(Q22="Probabilidad",Q23="Probabilidad"),(AA22-(+AA22*T23)),IF(AND(Q22="Impacto",Q23="Probabilidad"),(AA21-(+AA21*T23)),IF(Q23="Impacto",AA22,""))),"") -> 0.2016 | Z23: =IFERROR(IF(Y23="","",IF(Y23<=0.2,"Muy Baja",IF(Y23<=0.4,"Baja",IF(Y23<=0.6,"Media",IF(Y23<=0.8,"Alta","Muy Alta"))))),"") -> Baja | AA23: =+Y23 -> 0.2016 | AB23: =IFERROR(IF(AC23="","",IF(AC23<=0.2,"Leve",IF(AC23<=0.4,"Menor",IF(AC23<=0.6,"Moderado",IF(AC23<=0.8,"Mayor","Catastrófico"))))),"") -> Moderado | AC23: =IFERROR(IF(AND(Q22="Impacto",Q23="Impacto"),(AC22-(+AC22*T23)),IF(AND(Q22="Probabilidad",Q23="Impacto"),(AC21-(+AC21*T23)),IF(Q23="Probabilidad",AC22,""))),"") -> 0.6
A24: GDS 7 | B24: Lograr el cumplimiento de las metas de mejoramiento de vivienda establecida en el Plan de Desarrollo Distrital 2024-2027 con responsabilidad del Isvimed. Lograr la asignación de subdisios distritales de vivienda en la modalidad de mejoramiento en comunas con mayor deficit cualitativo. Lograr un aumento en la cobertura de subsidios asignados con relación al presupuesto inicial. | C24: Mejoramiento de Vivienda | D24: Posibilidad de afectación Económica Instituto | E24: Por perdida de los recursos desembolsados a los contratistas de obra por concepto de anticipo | F24: Debido a la utilización del anticipo con fines distintos a los establecidos en el objeto y alcance del contrato, para el beneficio particular o de terceros. | G24: Posibilidad de Afectación Económica (Presupuestal) por perdida de los recursos desembolsados a los contratistas de obra por concepto de anticipo . Lo anterior, debido a la utilización del mismo con fines distintos a los establecidos en el objeto y alcance del contrato, para el beneficio particular o de terceros. | H24: 1. No se exige para el manejo del anticipo un plan de inversiones. | I24: Integridad Pùblica - Corrupción | J24: Baja | K24: =IF(J24="","",IF(J24="Muy Baja",0.2,IF(J24="Baja",0.4,IF(J24="Media",0.6,IF(J24="Alta",0.8,IF(J24="Muy Alta",1,)))))) -> 0.4 | L24: Catastrófico | M24: =IF(L24="","",IF(L24="Leve",0.2,IF(L24="Menor",0.4,IF(L24="Moderado",0.6,IF(L24="Mayor",0.8,IF(L24="Catastrófico",1,)))))) -> 1 | N24: =IF(OR(AND(J24="Muy Baja",L24="Leve"),AND(J24="Muy Baja",L24="Menor"),AND(J24="Baja",L24="Leve")),"Bajo",IF(OR(AND(J24="Muy baja",L24="Moderado"),AND(J24="Baja",L24="Menor"),AND(J24="Baja",L24="Moderado"),AND(J24="Media",L24="Leve"),AND(J24="Media",L24="Menor"),AND(J24="Media",L24="Moderado"),AND(J24="Alta",L24="Leve"),AND(J24="Alta",L24="Menor")),"Moderado",IF(OR(AND(J24="Muy Baja",L24="Mayor"),AND(J24="Baja",L24="Mayor"),AND(J24="Media",L24="Mayor"),AND(J24="Alta",L24="Moderado"),AND(J24="Alta",L24="Mayor"),AND(J24="Muy Alta",L24="Leve"),AND(J24="Muy Alta",L24="Menor"),AND(J24="Muy Alta",L24="Moderado"),AND(J24="Muy Alta",L24="Mayor")),"Alto",IF(OR(AND(J24="Muy Baja",L24="Catastrófico"),AND(J24="Baja",L24="Catastrófico"),AND(J24="Media",L24="Catastrófico"),AND(J24="Alta",L24="Catastrófico"),AND(J24="Muy Alta",L24="Catastrófico")),"Extremo","")))) -> Extremo | O24: 1 | P24: Se establece como obligación contractual por parte del contratista, la apertura de un encargo fiduciario para el manejo de los recursos por concepto de anticipo. Los desembolsos se realizan previa revisión y autorización del supervisor del contrato por parte del Isvimed. | Q24: =IF(OR(R24="Preventivo",R24="Detectivo"),"Probabilidad",IF(R24="Correctivo","Impacto","")) -> Probabilidad | R24: Preventivo | S24: Manual | T24: =IF(AND(R24="Preventivo",S24="Automático"),"50%",IF(AND(R24="Preventivo",S24="Manual"),"40%",IF(AND(R24="Detectivo",S24="Automático"),"40%",IF(AND(R24="Detectivo",S24="Manual"),"30%",IF(AND(R24="Correctivo",S24="Automático"),"35%",IF(AND(R24="Correctivo",S24="Manual"),"25%","")))))) -> 40% | U24: Sin Documentar | V24: Aleatoria | W24: Con Registro | X24: Minuta del contrato de mejoramientos. Documento de apertura del encargo fiduciario. | Y24: =IFERROR(IF(Q24="Probabilidad",(K24-(+K24*T24)),IF(Q24="Impacto",K24,"")),"") -> 0.24 | Z24: =IFERROR(IF(Y24="","",IF(Y24<=0.2,"Muy Baja",IF(Y24<=0.4,"Baja",IF(Y24<=0.6,"Media",IF(Y24<=0.8,"Alta","Muy Alta"))))),"") -> Baja | AA24: =+Y24 -> 0.24 | AB24: =IFERROR(IF(AC24="","",IF(AC24<=0.2,"Leve",IF(AC24<=0.4,"Menor",IF(AC24<=0.6,"Moderado",IF(AC24<=0.8,"Mayor","Catastrófico"))))),"") -> Catastrófico | AC24: =IFERROR(IF(Q24="Impacto",(M24-(+M24*T24)),IF(Q24="Probabilidad",M24,"")),"") -> 1 | AD24: =IFERROR(IF(AE24=0,"",IF(AND(AE24>0,AE24<=0.2),"Muy Baja",IF(AE24<=0.4,"Baja",IF(AE24<=0.6,"Media",IF(AE24<=0.8,"Alta","Muy Alta"))))),"") -> Muy Baja | AE24: =MIN(Y24:Y26) -> 0.144 | AF24: =IFERROR(IF(AG24=0,"",IF(AND(AG24>0,AG24<=0.2),"Leve",IF(AG24<=0.4,"Menor",IF(AG24<=0.6,"Moderado",IF(AG24<=0.8,"Mayor","Catastrófico"))))),"") -> Mayor | AG24: =MIN(AC24:AC26) -> 0.75 | AH24: =IFERROR(IF(OR(AND(AD24="Muy Baja",AF24="Leve"),AND(AD24="Muy Baja",AF24="Menor"),AND(AD24="Baja",AF24="Leve")),"Bajo",IF(OR(AND(AD24="Muy Baja",AF24="Moderado"),AND(AD24="Baja",AF24="Menor"),AND(AD24="Baja",AF24="Moderado"),AND(AD24="Media",AF24="Leve"),AND(AD24="Media",AF24="Menor"),AND(AD24="Media",AF24="Moderado"),AND(AD24="Alta",AF24="Leve"),AND(AD24="Alta",AF24="Menor")),"Moderado",IF(OR(AND(AD24="Muy Baja",AF24="Mayor"),AND(AD24="Baja",AF24="Mayor"),AND(AD24="Media",AF24="Mayor"),AND(AD24="Alta",AF24="Moderado"),AND(AD24="Alta",AF24="Mayor"),AND(AD24="Muy Alta",AF24="Leve"),AND(AD24="Muy Alta",AF24="Menor"),AND(AD24="Muy Alta",AF24="Moderado"),AND(AD24="Muy Alta",AF24="Mayor")),"Alto",IF(OR(AND(AD24="Muy Baja",AF24="Catastrófico"),AND(AD24="Baja",AF24="Catastrófico"),AND(AD24="Media",AF24="Catastrófico"),AND(AD24="Alta",AF24="Catastrófico"),AND(AD24="Muy Alta",AF24="Catastrófico")),"Extremo","")))),"") -> Alto | AI24: Reducir (mitigar) | AJ24: Establecer como política de operación, la revisión de la minuta del contrato para el diagnóstico y ejecución de mejoramiento de vivienda previa suscripción del mismo, en relación a la existencia de la obligación contractual de la apertura de un encargo fiduciario para el manejo de los recursos por concepto de anticipo, por parte del contratista. | AK24: Identificación de Riesgos: El riesgo continua vigente Materialización de Evento Potencial Principal: En el primer trimestre de 2026 no se materializa ya que no se suscriben nuevos contratos Materialización de Evento Potencial Intermedio: No se materializa el evento potencial intermedio durante el primer trimestre de 2026 los contratos que se modifican mediante Otrosi solo fue por ampliación de plazo. Diseño, Efectividad de Controles: Los controles definidos han sido efectivos logrando que no se materialicen los riesgos Estado de acciones derivadas del seguimiento a riesgos: No ha sido necesario documentar acciones debido a que no se han materializado los riesgos | AL24: NA | AM24: Identificación de Riesgos: El riesgo continua vigente Materialización de Evento Potencial Principal: En el segundo trimestre de 2026 no se materializa riesgo, se firma y da inicio a la orden de ejecución 2 del contrato derivado de la invitación 001 de 2025 con el contratista CONCRECIVIL, y en la claúsula correspondiente al desembolso del anticipo se sigue estipulando la obligación de la apertura del encargo fiduciario con el fin de llevar control adecuado e independiente de estos recursos. Materialización de Evento Potencial Intermedio: No se materializa el evento potencial intermedio durante el segundo trimestre de 2026. Diseño, Efectividad de Controles: Los controles definidos han sido efectivos logrando que no se materialicen los riesgos Estado de acciones derivadas del seguimiento a riesgos: No ha sido necesario documentar acciones debido a que no se han materializado los riesgos | AN24: https://isvimedgovco.sharepoint.com/:f:/s/4Dot_Vivienda_y_Habitat2-05.Mejoramientos_de_Vivienda/IgD5vjP01M4UQ7l_jxWrecdYAT1B9apTG4udgMHoPl--62E?e=ncOfWp | AO24: Se materializó el Riesgo? (Ver evento potencial principal en Columna F. Relacionar detalles de la materialización - que, como, cuando, donde): Los Controles están bien diseñados, se aplican de acuerdo al diseño y son efectivos? (Ver controles en la columna P / Concluir frente a cada control) Que acciones propones o se están llevando a cabo para gestionar el riesgo que se materializó? (Si no aplica colocar N/A) Que acciones propones o se están llevando a cabo para fortalecer los controles? (En el caso de que tener Acciones de mejora / Acciones correctivas en proceso, relacionar el avance. Si tienes acciones específicas a desarrollar en la columna AJ, también relacionar el avance) | AQ24: Se materializó el Riesgo? (Ver evento potencial principal en Columna F. Relacionar detalles de la materialización - que, como, cuando, donde): Los Controles están bien diseñados, se aplican de acuerdo al diseño y son efectivos? (Ver controles en la columna P / Concluir frente a cada control) Que acciones propones o se están llevando a cabo para gestionar el riesgo que se materializó? (Si no aplica colocar N/A) Que acciones propones o se están llevando a cabo para fortalecer los controles? (En el caso de que tener Acciones de mejora / Acciones correctivas en proceso, relacionar el avance. Si tienes acciones específicas a desarrollar en la columna AJ, también relacionar el avance)
H25: 2. los desembolsos no estan relacionados con lo establecido en el plan de inversiones. | O25: 2 | P25: El profesional contable de la subdirección de dotación de vivienda y hábitat verifica que los comprobantes que aporta el contratista tienen relación con el plan de inversiones y en tal caso, relaciona su VoBo en la autorizacion de desembolso para que el supervisor proceda a autorizar el pago. | Q25: =IF(OR(R25="Preventivo",R25="Detectivo"),"Probabilidad",IF(R25="Correctivo","Impacto","")) -> Probabilidad | R25: Preventivo | S25: Manual | T25: =IF(AND(R25="Preventivo",S25="Automático"),"50%",IF(AND(R25="Preventivo",S25="Manual"),"40%",IF(AND(R25="Detectivo",S25="Automático"),"40%",IF(AND(R25="Detectivo",S25="Manual"),"30%",IF(AND(R25="Correctivo",S25="Automático"),"35%",IF(AND(R25="Correctivo",S25="Manual"),"25%","")))))) -> 40% | U25: Sin Documentar | V25: Continua | W25: Con Registro | X25: Autorización de desembolso con firmas del profesional contable de la Subdirección de Dotación y el supervisor del contrato. | Y25: =IFERROR(IF(AND(Q24="Probabilidad",Q25="Probabilidad"),(AA24-(+AA24*T25)),IF(Q25="Probabilidad",(K24-(+K24*T25)),IF(Q25="Impacto",AA24,""))),"") -> 0.144 | Z25: =IFERROR(IF(Y25="","",IF(Y25<=0.2,"Muy Baja",IF(Y25<=0.4,"Baja",IF(Y25<=0.6,"Media",IF(Y25<=0.8,"Alta","Muy Alta"))))),"") -> Muy Baja | AA25: =+Y25 -> 0.144 | AB25: =IFERROR(IF(AC25="","",IF(AC25<=0.2,"Leve",IF(AC25<=0.4,"Menor",IF(AC25<=0.6,"Moderado",IF(AC25<=0.8,"Mayor","Catastrófico"))))),"") -> Catastrófico | AC25: =IFERROR(IF(AND(Q24="Impacto",Q25="Impacto"),(AC24-(+AC24*T25)),IF(Q25="Impacto",($M$15-(+$M$15*T25)),IF(Q25="Probabilidad",AC24,""))),"") -> 1
H26: No Aplica | O26: 3 | P26: En el caso de autorización de desembolso de anticipo sin cumplimento de requisitos para beneficiar a un tercero, se realiza la respectiva denuncias ante las autoridades competentes, la cual podrá realizarse de manera directa o mediante el marco del RITA a través del Oficial de Transparencia. Documentado en: P-GE-10, PROCEDIMIENTO PARA EL TRAMITE DE DENUNCIAS. | Q26: =IF(OR(R26="Preventivo",R26="Detectivo"),"Probabilidad",IF(R26="Correctivo","Impacto","")) -> Impacto | R26: Correctivo | S26: Manual | T26: =IF(AND(R26="Preventivo",S26="Automático"),"50%",IF(AND(R26="Preventivo",S26="Manual"),"40%",IF(AND(R26="Detectivo",S26="Automático"),"40%",IF(AND(R26="Detectivo",S26="Manual"),"30%",IF(AND(R26="Correctivo",S26="Automático"),"35%",IF(AND(R26="Correctivo",S26="Manual"),"25%","")))))) -> 25% | U26: Documentado | V26: Aleatoria | W26: Con Registro | X26: Reportes de Riesgos o posibles hechos de corrupción. | Y26: =IFERROR(IF(AND(Q25="Probabilidad",Q26="Probabilidad"),(AA25-(+AA25*T26)),IF(AND(Q25="Impacto",Q26="Probabilidad"),(AA24-(+AA24*T26)),IF(Q26="Impacto",AA25,""))),"") -> 0.144 | Z26: =IFERROR(IF(Y26="","",IF(Y26<=0.2,"Muy Baja",IF(Y26<=0.4,"Baja",IF(Y26<=0.6,"Media",IF(Y26<=0.8,"Alta","Muy Alta"))))),"") -> Muy Baja | AA26: =+Y26 -> 0.144 | AB26: =IFERROR(IF(AC26="","",IF(AC26<=0.2,"Leve",IF(AC26<=0.4,"Menor",IF(AC26<=0.6,"Moderado",IF(AC26<=0.8,"Mayor","Catastrófico"))))),"") -> Mayor | AC26: =IFERROR(IF(AND(Q25="Impacto",Q26="Impacto"),(AC25-(+AC25*T26)),IF(AND(Q25="Probabilidad",Q26="Impacto"),(AC24-(+AC24*T26)),IF(Q26="Probabilidad",AC25,""))),"") -> 0.75
