Workbook

Sheet 1. ESTABLECIMIENTO CONTEXTO 
B1: MAPA DE RIESGOS DE PROCESO | L1: CÓDIGO: F-GM-29
L2: VERSIÓN: 05
L3: FECHA: 30/03/2022
L4: PÁGINA: 1 de 3
A6: 4.2.1. ESTABLECIMIENTO DEL CONTEXTO
A9: PROCESO: | D9: Gestión de Comunicaciones
A10: FECHA DE ELABORACIÓN O ACTUALIZACIÓN: | E10: Diciembre de 2021
A11: RESPONSABLE (s) DE ELABORACIÓN O ACTUALIZACIÓN | F11: Marcela Joya
A14: Factor: Externo/Interno/Proceso | D14: Variable | G14: ¿Cómo me puede afectar?
G15: CARÁCTER: Positivo/negativo | I15: Breve análisis
A16: Factor Externo | C16: Factor Externo | D16: Cambio de Administración | G16: POSITIVO | H16: POSITIVO | I16: El cambio de administración pudiera llevar a que se reestructuren los procesos de manera positiva, incluyendo el de comunicaciones.
A17: Factor Externo | C17: Factor Interno | D17: Cambio en la planeación estratégica | G17: POSITIVO | H17: NEGATIVO | I17: Cambio de los objetivos estratégicos del Instituto, lo cual podría llevar a priorizar nuevos aspectos de interés, donde uno de los temas podrían ser las estrategias comunicacionales. Pudieran surgir nuevas formas de comunicar.
A18: Factor Externo | C18: Factor de proceso | D18: Directrices comunicacionales de la Alcaldía | G18: NEGATIVO | I18: Existe desarticulación entre y las estrategias externas y las necesidades de comunicación interna.
A19: Factor Externo | D19: Reputación negativa | G19: NEGATIVO | I19: Genera obstáculos en los flujos de comunicación hacia los grupos de interés. Genera distorsiones en los mensajes, percepción de inestabilidad hacia el Instituto.
A20: Factor Externo | D20: Participación en espacios de ciudad | G20: POSITIVO | I20: Puede llevar a desplegar estrategias de posicionamiento de marca como Instituto, que puede agregar valor y visibilizan en el rol del instituto hacia la comunidad.
A21: Factor Externo | D21: Conflictos coyunturales | G21: NEGATIVO | I21: Genera inestabilidad, perdida de credibilidad, desconfianza en la labor del Instituto
A22: Factor Externo | D22: Relaciones interinstitucionales | G22: POSITIVO | I22: Conlleva al desarrollo de estrategias conjuntas enfocadas al cumplimiento del objeto social del Instituto. Las relaciones se pudieran fortalecer permitiendo el cumplimiento de las metas.
A23: Factor Externo | D23: Manipulación de la información desde fuentes externas | G23: NEGATIVO | I23: Manejos indebidos de la información que puede desvirtuar el mensaje original afectando el tema de imagen de la entidad.
A24: Factor Externo | D24: Retroalimentación desde grupos de interés | G24: POSITIVO | I24: Lo cual permite la retroalimentación del proceso y la mejora continua del mismo.
A25: Factor Externo | D25: Adopción de nuevas tecnologías | G25: POSITIVO | I25: Esto puede llevar a que al adoptar las nuevas tecnologías de parte del Instituto se mejore la comunicación con los usuarios, genera nuevas culturas de servicios.
A26: Factor Interno | D26: Alineación de objetivos estratégicos | G26: NEGATIVO | I26: Desarticulación, una incoherencia entre los objetivos planteados y el paso a paso para conseguirlos. Falta de coordinación entre equipos, fallas en la comunicación interna. Afecta la toma de decisiones para un objetivo común
A27: Factor Interno | D27: Ambiente físico | G27: NEGATIVO | I27: Actualmente el proceso y en general el Instituto no cuenta con condiciones optimas en términos de espacios de trabajo para el adecuado desempeño laboral.
A28: Factor Interno | D28: Competencias del personal | G28: POSITIVO | I28: Las competencias del equipo de comunicación propician una consecución de buenos resultados enfocados al cumplimiento del plan de comunicaciones. El equipo del proceso de comunicaciones desarrolla las actividades con propiedad enfocado a el cumplimiento del directrices estratégicas
A29: Factor Interno | D29: Distorsión de la información | G29: NEGATIVO | I29: Deteriora el clima laboral, afecta la productividad del proceso, afecta la imagen de los servidores públicos y el relacionamiento entre los mismos.
A30: Factor Interno | D30: Trabajo en equipo | G30: POSITIVO | I30: Existe una articulaciones entre los roles y responsabilidad de los integrantes del equipo de trabajo lo cual permite superar de buena forma situaciones difíciles.
... A33: Factor Interno | D33: Inestabilidad en el personal del proceso | G33: NEGATIVO | I33: Genera inestabilidad en el proceso en relación al desarrollo de las funciones, se pude presentar fuga de conocimientos y desarticulación en la dinámica de trabajo.

Sheet 2. MATRIZ DE RIESGOS
D1: MAPA DE RIESGOS DE PROCESO | AG1: CÓDIGO: F-GM-29
AG2: VERSIÓN: 04
AG3: FECHA: 21/12/2021
AG4: PÁGINA: 3 de 3
A6: PROCESO: | D6: Gestión de Comunicaciones | F6: FECHA DE ELABORACIÓN O ACTUALIZACIÓN: | H6: marzo de 2025
F7: RESPONSABLE (s) DE ELABORACIÓN O ACTUALIZACIÓN | H7: Asesor de Comunicaciones
A8: OBJETIVO: | D8: Definir las estrategias comunicacionales del Instituto Social de Vivienda y Hábitat de Medellín, ISVIMED, garantizando la satisfacción de los públicos objetivos.
A9: ALCANCE: | D9: Diseño, formulación, implementación y seguimiento a las estrategias comunicacionales
A11: 4.2. IDENTIFICACION DEL RIESGO | J11: 4.3. EVALUACIÓN DEL RIESGO | AI11: 4.4. TRATAMIENTO DEL RIESGO | AK11: SEGUIMIENTO TRIMESTRE 1 DE 2026 | AL11: RELACIÓN DE EVIDENCIAS IMPORTANTE:- RELACIONAR LOS ENLACES SOBRE MATERIALIZACION DE RIESGOS Y SOBRE APLICACIÓN DE CONTROLES -LAS EVIDENCIAS SOBRE APLICACIÓN DE CONTROLES SON LAS QUE SE ENCUENTRAN EN LA COLUMNA X - RELACIONARLAS UNA A UNA CON EL ENLACE CORRESPONDIENTE. | AM11: SEGUIMIENTO TRIMESTRE 2 DE 2026 | AN11: RELACIÓN DE EVIDENCIAS IMPORTANTE:- RELACIONAR LOS ENLACES SOBRE MATERIALIZACION DE RIESGOS Y SOBRE APLICACIÓN DE CONTROLES -LAS EVIDENCIAS SOBRE APLICACIÓN DE CONTROLES SON LAS QUE SE ENCUENTRAN EN LA COLUMNA X - RELACIONARLAS UNA A UNA CON EL ENLACE CORRESPONDIENTE. | AO11: SEGUIMIENTO TRIMESTRE 3 DE 2026 | AP11: RELACIÓN DE EVIDENCIAS IMPORTANTE:- RELACIONAR LOS ENLACES SOBRE MATERIALIZACION DE RIESGOS Y SOBRE APLICACIÓN DE CONTROLES -LAS EVIDENCIAS SOBRE APLICACIÓN DE CONTROLES SON LAS QUE SE ENCUENTRAN EN LA COLUMNA X - RELACIONARLAS UNA A UNA CON EL ENLACE CORRESPONDIENTE. | AQ11: SEGUIMIENTO TRIMESTRE 4 DE 2026 | AR11: RELACIÓN DE EVIDENCIAS IMPORTANTE:- RELACIONAR LOS ENLACES SOBRE MATERIALIZACION DE RIESGOS Y SOBRE APLICACIÓN DE CONTROLES -LAS EVIDENCIAS SOBRE APLICACIÓN DE CONTROLES SON LAS QUE SE ENCUENTRAN EN LA COLUMNA X - RELACIONARLAS UNA A UNA CON EL ENLACE CORRESPONDIENTE.
A12: Referencia | B12: Objetivo / Requisto a cumplir | C12: Temática / Linea de Acción | D12: 1. QUE? | E12: 2. COMO SE REFLEJA? | F12: 3. POR QUE? (Evento Potencial Principal) | G12: Descripción del Riesgo (1+2+3) | H12: Causa (Evento Potencial Intermedio) | I12: Clasificación del Riesgo | J12: EVALUACION DE RIESGO INHERENTE | O12: VALORACION DE CONTROLES | AD12: EVALUACION DEL RIESGO RESIDUAL | AI12: Tratamiento | AJ12: FORMULAR ACCIONES ESPECIFICAS
J13: Probabilidad Inherente | K13: % | L13: Impacto Inherente | M13: % | N13: Zona de Riesgo Inherente | O13: No. Control | P13: Descripción del Control (Medida Actual) | Q13: Afectación | R13: Atributos | Y13: Probabilidad Residual | Z13: Probabilidad Residual | AA13: % | AB13: Impacto Residual | AC13: % | AD13: Probabilidad Residual Final | AE13: % | AF13: Impacto Residual Final | AG13: % | AH13: Zona de Riesgo Residual Final | AJ13: VER ACCION #
R14: Tipo | S14: Implementación | T14: Calificación | U14: Documentación | V14: Frecuencia | W14: Evidencia | X14: Nombre de la evidencia
A15: GC5 | B15: lograr un 70% de noticias, menciones y ruedas de prensa con percepción positiva de manera semestral. Garantizar que el 100% de los productos gráficos y digitales estén acordes al Manual de marca y a los lineamientos de Publicidad y Marca del Distrito de Medellín en cada vigencia. | C15: Gestión de Prensa y Medios de Comunicación (Comunicación Externa) | D15: Posibilidad de afectación reputacional del Instituto | E15: reflejada en: - la existencia de menciones negativas en el monitoreo de medios de comunicación - Cancelación del Plan de Pauta en medios de comunicación y cierre de cuentas de redes sociales por parte de la Secretaría de Comunicaciones del Distrito | F15: debido a que las noticias, menciones, ruedas de prensa y productos gráficos y digitales no impacten de manera positiva la gestión y reputación del Instituto. | G15: Posibilidad de afectación reputacional del Instituto reflejada reflejada en la existencia de menciones negativas en el monitoreo de medios de comunicación, asi como la cancelación del Plan de Pauta en medios de comunicación por parte de la Jefatura de Prensa del Distrito, debido a que las noticias, menciones y ruedas de prensa no impacten de manera positiva la gestión y reputación del Instituto | H15: 1. Las noticias, menciones, ruedas de prensa y contenidos digitales no están aprobados según lineamientos de la Secretaria de Comunicaciones del Distrito. | I15: Gestión | J15: Alta | K15: =IF(J15="","",IF(J15="Muy Baja",0.2,IF(J15="Baja",0.4,IF(J15="Media",0.6,IF(J15="Alta",0.8,IF(J15="Muy Alta",1,)))))) -> 0.8 | L15: Mayor | M15: =IF(L15="","",IF(L15="Leve",0.2,IF(L15="Menor",0.4,IF(L15="Moderado",0.6,IF(L15="Mayor",0.8,IF(L15="Catastrófico",1,)))))) -> 0.8 | N15: =IF(OR(AND(J15="Muy Baja",L15="Leve"),AND(J15="Muy Baja",L15="Menor"),AND(J15="Baja",L15="Leve")),"Bajo",IF(OR(AND(J15="Muy baja",L15="Moderado"),AND(J15="Baja",L15="Menor"),AND(J15="Baja",L15="Moderado"),AND(J15="Media",L15="Leve"),AND(J15="Media",L15="Menor"),AND(J15="Media",L15="Moderado"),AND(J15="Alta",L15="Leve"),AND(J15="Alta",L15="Menor")),"Moderado",IF(OR(AND(J15="Muy Baja",L15="Mayor"),AND(J15="Baja",L15="Mayor"),AND(J15="Media",L15="Mayor"),AND(J15="Alta",L15="Moderado"),AND(J15="Alta",L15="Mayor"),AND(J15="Muy Alta",L15="Leve"),AND(J15="Muy Alta",L15="Menor"),AND(J15="Muy Alta",L15="Moderado"),AND(J15="Muy Alta",L15="Mayor")),"Alto",IF(OR(AND(J15="Muy Baja",L15="Catastrófico"),AND(J15="Baja",L15="Catastrófico"),AND(J15="Media",L15="Catastrófico"),AND(J15="Alta",L15="Catastrófico"),AND(J15="Muy Alta",L15="Catastrófico")),"Extremo","")))) -> Alto | O15: 1 | P15: Las noticias, menciones, ruedas de prensa y contenidos digitales que van a ser sometidas a aprobación con la Secretaría de Comunicaciones del Distrito son analizadas en el Equipo Primario del proceso de Comunicaciones con el objetivo de incluirlos en la Matriz de contenidos de comunicaciones del Distrito. El enlace de comunicaciones del Isvimed envía la matriz de contenidos al enlace de comunicaciones del Distrito para que sean analizados y viabilizados en el Comité que se realiza de manera semanal con todas las dependencias y descentralizados del Conglomerado Público de Medellín. | Q15: =IF(OR(R15="Preventivo",R15="Detectivo"),"Probabilidad",IF(R15="Correctivo","Impacto","")) -> Probabilidad | R15: Preventivo | S15: Manual | T15: =IF(AND(R15="Preventivo",S15="Automático"),"50%",IF(AND(R15="Preventivo",S15="Manual"),"40%",IF(AND(R15="Detectivo",S15="Automático"),"40%",IF(AND(R15="Detectivo",S15="Manual"),"30%",IF(AND(R15="Correctivo",S15="Automático"),"35%",IF(AND(R15="Correctivo",S15="Manual"),"25%","")))))) -> 40% | U15: Sin Documentar | V15: Aleatoria | W15: Con Registro | X15: Matriz de contenidos de comunicaciones del Distrito contenidos aprobados | Y15: =IFERROR(IF(Q15="Probabilidad",(K15-(+K15*T15)),IF(Q15="Impacto",K15,"")),"") -> 0.48 | Z15: =IFERROR(IF(Y15="","",IF(Y15<=0.2,"Muy Baja",IF(Y15<=0.4,"Baja",IF(Y15<=0.6,"Media",IF(Y15<=0.8,"Alta","Muy Alta"))))),"") -> Media | AA15: =+Y15 -> 0.48 | AB15: =IFERROR(IF(AC15="","",IF(AC15<=0.2,"Leve",IF(AC15<=0.4,"Menor",IF(AC15<=0.6,"Moderado",IF(AC15<=0.8,"Mayor","Catastrófico"))))),"") -> Mayor | AC15: =IFERROR(IF(Q15="Impacto",(M15-(+M15*T15)),IF(Q15="Probabilidad",M15,"")),"") -> 0.8 | AD15: =IFERROR(IF(AE15=0,"",IF(AND(AE15>0,AE15<=0.2),"Muy Baja",IF(AE15<=0.4,"Baja",IF(AE15<=0.6,"Media",IF(AE15<=0.8,"Alta","Muy Alta"))))),"") -> Media | AE15: =MIN(Y15:Y17) -> 0.48 | AF15: =IFERROR(IF(AG15=0,"",IF(AND(AG15>0,AG15<=0.2),"Leve",IF(AG15<=0.4,"Menor",IF(AG15<=0.6,"Moderado",IF(AG15<=0.8,"Mayor","Catastrófico"))))),"") -> Moderado | AG15: =MIN(AC15:AC17) -> 0.6 | AH15: =IFERROR(IF(OR(AND(AD15="Muy Baja",AF15="Leve"),AND(AD15="Muy Baja",AF15="Menor"),AND(AD15="Baja",AF15="Leve")),"Bajo",IF(OR(AND(AD15="Muy Baja",AF15="Moderado"),AND(AD15="Baja",AF15="Menor"),AND(AD15="Baja",AF15="Moderado"),AND(AD15="Media",AF15="Leve"),AND(AD15="Media",AF15="Menor"),AND(AD15="Media",AF15="Moderado"),AND(AD15="Alta",AF15="Leve"),AND(AD15="Alta",AF15="Menor")),"Moderado",IF(OR(AND(AD15="Muy Baja",AF15="Mayor"),AND(AD15="Baja",AF15="Mayor"),AND(AD15="Media",AF15="Mayor"),AND(AD15="Alta",AF15="Moderado"),AND(AD15="Alta",AF15="Mayor"),AND(AD15="Muy Alta",AF15="Leve"),AND(AD15="Muy Alta",AF15="Menor"),AND(AD15="Muy Alta",AF15="Moderado"),AND(AD15="Muy Alta",AF15="Mayor")),"Alto",IF(OR(AND(AD15="Muy Baja",AF15="Catastrófico"),AND(AD15="Baja",AF15="Catastrófico"),AND(AD15="Media",AF15="Catastrófico"),AND(AD15="Alta",AF15="Catastrófico"),AND(AD15="Muy Alta",AF15="Catastrófico")),"Extremo","")))),"") -> Moderado | AI15: Reducir (mitigar) | AK15: Identificación de Riesgos: Durante el primer trimestre de 2026 se mantienen tanto el evento potencial principal como los eventos potenciales intermedios. De forma continua existe la posibilidad de vinculación de nuevos colaboradores. También pueden presentarse ajustes o modificaciones en los lineamientos del Distrito que no sean comunicados a tiempo. En relación con la creación y difusión de contenidos de prensa, así como de piezas gráficas y digitales institucionales, el nivel de exposición al riesgo se mantiene activo. Materialización del Evento Potencial Principal: En el primer trimestre de 2026 no se ha evidenciado la ocurrencia del evento potencial principal. El equipo de comunicaciones ha aplicado los controles definidos para asegurar el uso adecuado de la identidad institucional. No se han identificado piezas que generen observaciones externas ni llamados de atención por incumplimiento de lineamientos de marca. Tampoco se han presentado efectos negativos asociados al uso incorrecto de elementos gráficos. La visibilidad institucional en medios se ha mantenido alineada con la normativa vigente y con resultados favorables. Materialización de Eventos Potenciales Intermedios: Durante este periodo no se han presentado eventos intermedios. El equipo de comunicaciones ha dado cumplimiento constante a los lineamientos establecidos por el Distrito. Las piezas desarrolladas han sido revisadas previamente y ajustadas cuando ha sido necesario, lo que ha permitido mantener la coherencia institucional. Diseño y Efectividad de Controles: Control 1: El uso de un proceso de revisión previa mediante checklist gráfico ha garantizado que el 100% de las piezas cumplan con el Manual de Marca. Control 2: Se ha reforzado la inducción a nuevos colaboradores a través del envío de materiales visuales y resúmenes del manual institucional. Control 3: Se mantiene disponible y actualizada la versión vigente del Manual de Marca, junto con las directrices emitidas por la Secretaría de Comunicaciones. Control 4: Se conserva un canal directo con la Dirección y subdirecciones para validar contenidos estratégicos antes de su publicación. Estado de acciones derivadas del seguimiento a riesgos: No aplica para este periodo, ya que no se identificaron desviaciones que requirieran la implementación de acciones adicionales. Los controles actuales han sido efectivos para evitar la materialización del evento principal y de los eventos intermedios. | AL15: Controles: https://isvimedgovco.sharepoint.com/:f:/s/2Comunicaciones/EgYp3FXbntBJg7efERT8lYEB4M1iSsPgpoMJgjMxUQpGAg?e=4XlD8U https://isvimedgovco.sharepoint.com/:f:/s/2Comunicaciones/EjapOT8M6k1Fo6b9abRMr0EBiqJp8vj1c3eGmLOiXw19cA?e=QDVm98 https://isvimedgovco.sharepoint.com/:f:/s/2Comunicaciones/EmNOqKls3JNAjYq_dpiI5DABpCNJ6DaK0IQcwghZX0rN-A?e=evvepY Banco de imágenes | AM15: Identificación de Riesgos: Durante el segundo trimestre de 2026 se mantienen tanto el evento potencial principal como los eventos potenciales intermedios. Se materializa la necesidad de vincular nuevos colaboradores, para lo cual se cuenta con el plan de empalme de funciones y la articulación según los lineamientos del Distrito. El nivel de exposición al riesgo se mantiene activo en la creación y difusión de contenidos de prensa y piezas gráficas y digitales institucionales. Materialización del Evento Potencial Principal: No se evidenció la ocurrencia del evento potencial principal. El equipo de comunicaciones aplicó los controles definidos para asegurar el uso adecuado de la identidad institucional. No se identificaron piezas que generaran observaciones externas ni llamados de atención por incumplimiento de lineamientos de marca. La visibilidad institucional en medios se mantuvo alineada con la normativa vigente y con resultados favorables. Materialización de Eventos Potenciales Intermedios: Durante este periodo no se presentaron eventos intermedios. El equipo de comunicaciones dio cumplimiento constante a los lineamientos establecidos por el Distrito. Las piezas desarrolladas fueron revisadas previamente y ajustadas cuando fue necesario, lo que permitió mantener la coherencia institucional. Diseño y Efectividad de Controles: Control 1: El proceso de revisión previa mediante checklist gráfico garantizó que el 100% de las piezas cumplieran con el Manual de Marca. Control 2: Se reforzó la inducción a nuevos colaboradores a través del envío de materiales visuales y resúmenes del manual institucional. Control 3: Se mantuvo disponible y actualizada la versión vigente del Manual de Marca, junto con las directrices emitidas por la Secretaría de Comunicaciones. Control 4: Se conservó un canal directo con la Dirección y las subdirecciones para validar contenidos estratégicos antes de su publicación. Estado de acciones derivadas del seguimiento a riesgos: No aplica para este periodo, ya que no se identificaron desviaciones que requirieran la implementación de acciones adicionales. Los controles actuales fueron efectivos para evitar la materialización del evento principal y de los eventos intermedios. | AN15: Controles: https://isvimedgovco.sharepoint.com/:f:/s/2Comunicaciones/EgYp3FXbntBJg7efERT8lYEB4M1iSsPgpoMJgjMxUQpGAg?e=4XlD8U https://isvimedgovco.sharepoint.com/:f:/s/2Comunicaciones/EjapOT8M6k1Fo6b9abRMr0EBiqJp8vj1c3eGmLOiXw19cA?e=QDVm98 https://isvimedgovco.sharepoint.com/:f:/s/2Comunicaciones/EmNOqKls3JNAjYq_dpiI5DABpCNJ6DaK0IQcwghZX0rN-A?e=evvepY Banco de imágenes | AO15: Se materializó el Riesgo? (Ver evento potencial principal en Columna F. Relacionar detalles de la materialización - que, como, cuando, donde): Los Controles están bien diseñados, se aplican de acuerdo al diseño y son efectivos? (Ver controles en la columna P / Concluir frente a cada control) Que acciones propones o se están llevando a cabo para gestionar el riesgo que se materializó? (Si no aplica colocar N/A) Que acciones propones o se están llevando a cabo para fortalecer los controles? (En el caso de que tener Acciones de mejora / Acciones correctivas en proceso, relacionar el avance. Si tienes acciones específicas a desarrollar en la columna AJ, también relacionar el avance) | AQ15: Se materializó el Riesgo? (Ver evento potencial principal en Columna F. Relacionar detalles de la materialización - que, como, cuando, donde): Los Controles están bien diseñados, se aplican de acuerdo al diseño y son efectivos? (Ver controles en la columna P / Concluir frente a cada control) Que acciones propones o se están llevando a cabo para gestionar el riesgo que se materializó? (Si no aplica colocar N/A) Que acciones propones o se están llevando a cabo para fortalecer los controles? (En el caso de que tener Acciones de mejora / Acciones correctivas en proceso, relacionar el avance. Si tienes acciones específicas a desarrollar en la columna AJ, también relacionar el avance)
H16: 2. Demoras en las entregas de proyectos habitacionales, retrasos en cronogramas de obra, cambios en los requisitos de las convocatorias para la ciudadanía | O16: 2 | P16: El asesor de comunicaciones participa en los equipos primarios de la dirección en donde consulta sobre el estado de ejecución de los proyectos habitacionales para determinar posibles alertas y planes de choque | Q16: =IF(OR(R16="Preventivo",R16="Detectivo"),"Probabilidad",IF(R16="Correctivo","Impacto","")) -> Impacto | R16: Correctivo | S16: Manual | T16: =IF(AND(R16="Preventivo",S16="Automático"),"50%",IF(AND(R16="Preventivo",S16="Manual"),"40%",IF(AND(R16="Detectivo",S16="Automático"),"40%",IF(AND(R16="Detectivo",S16="Manual"),"30%",IF(AND(R16="Correctivo",S16="Automático"),"35%",IF(AND(R16="Correctivo",S16="Manual"),"25%","")))))) -> 25% | U16: Sin Documentar | V16: Aleatoria | W16: Con Registro | X16: Acta de equipo primario de Dirección | Y16: =IFERROR(IF(AND(Q15="Probabilidad",Q16="Probabilidad"),(AA15-(+AA15*T16)),IF(Q16="Probabilidad",(K15-(+K15*T16)),IF(Q16="Impacto",AA15,""))),"") -> 0.48 | Z16: =IFERROR(IF(Y16="","",IF(Y16<=0.2,"Muy Baja",IF(Y16<=0.4,"Baja",IF(Y16<=0.6,"Media",IF(Y16<=0.8,"Alta","Muy Alta"))))),"") -> Media | AA16: =+Y16 -> 0.48 | AB16: =IFERROR(IF(AC16="","",IF(AC16<=0.2,"Leve",IF(AC16<=0.4,"Menor",IF(AC16<=0.6,"Moderado",IF(AC16<=0.8,"Mayor","Catastrófico"))))),"") -> Moderado | AC16: =IFERROR(IF(AND(Q15="Impacto",Q16="Impacto"),(AC15-(+AC15*T16)),IF(Q16="Impacto",($M$15-(+$M$15*T16)),IF(Q16="Probabilidad",AC15,""))),"") -> 0.6
H17: 3. Se realizan declaraciones por personas no autorizadas como voceros oficiales del instituto | O17: 3 | P17: La vocería oficial del Instituto ante medios de comunicación es el Director. Este lineamiento es comunicado por el el asesor de comunicaciones al equipo directivo quienes a su vez lo comunican a sus respectivos grupos de trabajo en los equipos primarios. Asi mismo se socializa en la inducción y reinducción institucional. | Q17: =IF(OR(R17="Preventivo",R17="Detectivo"),"Probabilidad",IF(R17="Correctivo","Impacto","")) -> Probabilidad | R17: Preventivo | S17: Manual | T17: =IF(AND(R17="Preventivo",S17="Automático"),"50%",IF(AND(R17="Preventivo",S17="Manual"),"40%",IF(AND(R17="Detectivo",S17="Automático"),"40%",IF(AND(R17="Detectivo",S17="Manual"),"30%",IF(AND(R17="Correctivo",S17="Automático"),"35%",IF(AND(R17="Correctivo",S17="Manual"),"25%","")))))) -> 40% | U17: Sin Documentar | V17: Aleatoria | W17: Con Registro | X17: Presentación de la Inducción y reinducción institucional. | Y17: =IFERROR(IF(AND(Q16="Probabilidad",Q17="Probabilidad"),(AA16-(+AA16*T17)),IF(AND(Q16="Impacto",Q17="Probabilidad"),(AC15-(+AC15*T17)),IF(Q17="Impacto",AA16,""))),"") -> 0.48 | Z17: =IFERROR(IF(Y17="","",IF(Y17<=0.2,"Muy Baja",IF(Y17<=0.4,"Baja",IF(Y17<=0.6,"Media",IF(Y17<=0.8,"Alta","Muy Alta"))))),"") -> Media | AA17: =+Y17 -> 0.48 | AB17: =IFERROR(IF(AC17="","",IF(AC17<=0.2,"Leve",IF(AC17<=0.4,"Menor",IF(AC17<=0.6,"Moderado",IF(AC17<=0.8,"Mayor","Catastrófico"))))),"") -> Moderado | AC17: =IFERROR(IF(AND(Q16="Impacto",Q17="Impacto"),(AC16-(+AC16*T17)),IF(AND(Q16="Probabilidad",Q17="Impacto"),(AC15-(+AC15*T17)),IF(Q17="Probabilidad",AC16,""))),"") -> 0.6
A18: GC6 | B18: Lograr el 90% de Nivel de Satisfacción del Publico Interno en cada vigencia. | C18: Comunicación Interna | D18: Posibilidad de afectación reputacional al Interior del Instituto | E18: reflejada en la insatisfacción del cliente interno | F18: debido a que las estrategias de comunicación interna no satisfagan las necesidades de las areas solicitantes | G18: Posibilidad de afectación reputacional al Interior del Instituto reflejada en la insatisfacción del cliente interno, debido a que las estrategias de comunicación interna no satisfagan las necesidades de las areas solicitantes | H18: 1. No se cumplen los lineamientos internos para la solicitud de piezas y campañas comunicacionales internas en cuanto a tiempos e información. | I18: Gestión | J18: Media | K18: =IF(J18="","",IF(J18="Muy Baja",0.2,IF(J18="Baja",0.4,IF(J18="Media",0.6,IF(J18="Alta",0.8,IF(J18="Muy Alta",1,)))))) -> 0.6 | L18: Moderado | M18: =IF(L18="","",IF(L18="Leve",0.2,IF(L18="Menor",0.4,IF(L18="Moderado",0.6,IF(L18="Mayor",0.8,IF(L18="Catastrófico",1,)))))) -> 0.6 | N18: =IF(OR(AND(J18="Muy Baja",L18="Leve"),AND(J18="Muy Baja",L18="Menor"),AND(J18="Baja",L18="Leve")),"Bajo",IF(OR(AND(J18="Muy baja",L18="Moderado"),AND(J18="Baja",L18="Menor"),AND(J18="Baja",L18="Moderado"),AND(J18="Media",L18="Leve"),AND(J18="Media",L18="Menor"),AND(J18="Media",L18="Moderado"),AND(J18="Alta",L18="Leve"),AND(J18="Alta",L18="Menor")),"Moderado",IF(OR(AND(J18="Muy Baja",L18="Mayor"),AND(J18="Baja",L18="Mayor"),AND(J18="Media",L18="Mayor"),AND(J18="Alta",L18="Moderado"),AND(J18="Alta",L18="Mayor"),AND(J18="Muy Alta",L18="Leve"),AND(J18="Muy Alta",L18="Menor"),AND(J18="Muy Alta",L18="Moderado"),AND(J18="Muy Alta",L18="Mayor")),"Alto",IF(OR(AND(J18="Muy Baja",L18="Catastrófico"),AND(J18="Baja",L18="Catastrófico"),AND(J18="Media",L18="Catastrófico"),AND(J18="Alta",L18="Catastrófico"),AND(J18="Muy Alta",L18="Catastrófico")),"Extremo","")))) -> Moderado | O18: 1 | P18: La asesora de Comunicación realiza una verificación inicial de las necesidades de las areas solicitantes con el fin de asignar el area de trabaja acorde a lo requerido (diseño, pagina web, audiovisual, redes sociales, otros canales). El profesional asignado valida con las areas solicitantes los los productos de comunicación interna elaborados vs necesidades. | Q18: =IF(OR(R18="Preventivo",R18="Detectivo"),"Probabilidad",IF(R18="Correctivo","Impacto","")) -> Probabilidad | R18: Preventivo | S18: Manual | T18: =IF(AND(R18="Preventivo",S18="Automático"),"50%",IF(AND(R18="Preventivo",S18="Manual"),"40%",IF(AND(R18="Detectivo",S18="Automático"),"40%",IF(AND(R18="Detectivo",S18="Manual"),"30%",IF(AND(R18="Correctivo",S18="Automático"),"35%",IF(AND(R18="Correctivo",S18="Manual"),"25%","")))))) -> 40% | U18: Sin Documentar | V18: Continua | W18: Con Registro | X18: Correos electrónicos con solicitudes de productos comunicacionales. Acta de equipo primario con asignación de tareas. Correos electrónicos con validación de piezas por las areas solicitantes | Y18: =IFERROR(IF(Q18="Probabilidad",(K18-(+K18*T18)),IF(Q18="Impacto",K18,"")),"") -> 0.36 | Z18: =IFERROR(IF(Y18="","",IF(Y18<=0.2,"Muy Baja",IF(Y18<=0.4,"Baja",IF(Y18<=0.6,"Media",IF(Y18<=0.8,"Alta","Muy Alta"))))),"") -> Baja | AA18: =+Y18 -> 0.36 | AB18: =IFERROR(IF(AC18="","",IF(AC18<=0.2,"Leve",IF(AC18<=0.4,"Menor",IF(AC18<=0.6,"Moderado",IF(AC18<=0.8,"Mayor","Catastrófico"))))),"") -> Moderado | AC18: =IFERROR(IF(Q18="Impacto",(M18-(+M18*T18)),IF(Q18="Probabilidad",M18,"")),"") -> 0.6 | AD18: =IFERROR(IF(AE18=0,"",IF(AND(AE18>0,AE18<=0.2),"Muy Baja",IF(AE18<=0.4,"Baja",IF(AE18<=0.6,"Media",IF(AE18<=0.8,"Alta","Muy Alta"))))),"") -> Muy Baja | AE18: =MIN(Y18:Y20) -> 0.1296 | AF18: =IFERROR(IF(AG18=0,"",IF(AND(AG18>0,AG18<=0.2),"Leve",IF(AG18<=0.4,"Menor",IF(AG18<=0.6,"Moderado",IF(AG18<=0.8,"Mayor","Catastrófico"))))),"") -> Moderado | AG18: =MIN(AC18:AC20) -> 0.6 | AH18: =IFERROR(IF(OR(AND(AD18="Muy Baja",AF18="Leve"),AND(AD18="Muy Baja",AF18="Menor"),AND(AD18="Baja",AF18="Leve")),"Bajo",IF(OR(AND(AD18="Muy Baja",AF18="Moderado"),AND(AD18="Baja",AF18="Menor"),AND(AD18="Baja",AF18="Moderado"),AND(AD18="Media",AF18="Leve"),AND(AD18="Media",AF18="Menor"),AND(AD18="Media",AF18="Moderado"),AND(AD18="Alta",AF18="Leve"),AND(AD18="Alta",AF18="Menor")),"Moderado",IF(OR(AND(AD18="Muy Baja",AF18="Mayor"),AND(AD18="Baja",AF18="Mayor"),AND(AD18="Media",AF18="Mayor"),AND(AD18="Alta",AF18="Moderado"),AND(AD18="Alta",AF18="Mayor"),AND(AD18="Muy Alta",AF18="Leve"),AND(AD18="Muy Alta",AF18="Menor"),AND(AD18="Muy Alta",AF18="Moderado"),AND(AD18="Muy Alta",AF18="Mayor")),"Alto",IF(OR(AND(AD18="Muy Baja",AF18="Catastrófico"),AND(AD18="Baja",AF18="Catastrófico"),AND(AD18="Media",AF18="Catastrófico"),AND(AD18="Alta",AF18="Catastrófico"),AND(AD18="Muy Alta",AF18="Catastrófico")),"Extremo","")))),"") -> Moderado | AI18: Reducir (mitigar) | AK18: Identificación de Riesgos: Durante el primer trimestre de 2026 se mantiene el flujo constante de información al interior del instituto a través del Boletín Interno, la Intranet, WhatsApp y el correo corporativo. Por esta dinámica, el evento potencial principal y los eventos intermedios continúan vigentes. Materialización de Evento Potencial Principal: En el primer trimestre de 2026 no se ha presentado la materialización del riesgo principal. Materialización de Evento Potencial Intermedio: Durante este periodo no se han evidenciado eventos intermedios. Las dependencias han suministrado información completa y en los tiempos requeridos, lo que ha facilitado su difusión. La encuesta de satisfacción sobre comunicación interna evidencia una adecuada apropiación de los canales institucionales por parte de los colaboradores. Diseño, Efectividad de Controles: El área de comunicaciones mantiene un manejo organizado de las solicitudes internas. Cada requerimiento se gestiona con una identificación clara del producto o campaña, lo que permite definir tiempos de entrega y el canal de divulgación adecuado. Esto ha permitido dar respuestas oportunas y alineadas con las necesidades internas. Estado de acciones derivadas del seguimiento a riesgos: Para este periodo no se requieren acciones adicionales. No se han identificado situaciones que demanden medidas específicas, ya que los controles actuales han sido suficientes. | AL18: Controles: https://isvimedgovco.sharepoint.com/:f:/s/2Comunicaciones/EnsQZl0FrM1Ghh3QU6oVhMsBIrK6Nz4mc7rJ0qIdlH6MlA?e=1yHxuM | AM18: Identificación de Riesgos: Durante el segundo trimestre de 2026 se mantuvo el flujo constante de información al interior del instituto a través del Boletín Interno, la Intranet, WhatsApp y el correo corporativo. Por esta dinámica, el evento potencial principal y los eventos intermedios continúan vigentes. Materialización de Evento Potencial Principal: En el segundo trimestre de 2026 no se presentó la materialización del riesgo principal. Materialización de Evento Potencial Intermedio: Durante este periodo no se evidenciaron eventos intermedios. Las dependencias suministraron información completa y en los tiempos requeridos, lo que facilitó su difusión. Diseño y Efectividad de Controles: El área de comunicaciones mantuvo un manejo organizado de las solicitudes internas. Cada requerimiento se gestionó con una identificación clara del producto o campaña, lo que permitió definir tiempos de entrega y el canal de divulgación adecuado. Esto permitió dar respuestas oportunas y alineadas con las necesidades internas. Estado de acciones derivadas del seguimiento a riesgos: Para este periodo no se requieren acciones adicionales. No se identificaron situaciones que demandaran medidas específicas, ya que los controles actuales fueron suficientes. | AN18: Controles: https://isvimedgovco.sharepoint.com/:f:/s/2Comunicaciones/EnsQZl0FrM1Ghh3QU6oVhMsBIrK6Nz4mc7rJ0qIdlH6MlA?e=1yHxuM | AO18: Se materializó el Riesgo? (Ver evento potencial principal en Columna F. Relacionar detalles de la materialización - que, como, cuando, donde): Los Controles están bien diseñados, se aplican de acuerdo al diseño y son efectivos? (Ver controles en la columna P / Concluir frente a cada control) Que acciones propones o se están llevando a cabo para gestionar el riesgo que se materializó? (Si no aplica colocar N/A) Que acciones propones o se están llevando a cabo para fortalecer los controles? (En el caso de que tener Acciones de mejora / Acciones correctivas en proceso, relacionar el avance. Si tienes acciones específicas a desarrollar en la columna AJ, también relacionar el avance) | AQ18: Se materializó el Riesgo? (Ver evento potencial principal en Columna F. Relacionar detalles de la materialización - que, como, cuando, donde): Los Controles están bien diseñados, se aplican de acuerdo al diseño y son efectivos? (Ver controles en la columna P / Concluir frente a cada control) Que acciones propones o se están llevando a cabo para gestionar el riesgo que se materializó? (Si no aplica colocar N/A) Que acciones propones o se están llevando a cabo para fortalecer los controles? (En el caso de que tener Acciones de mejora / Acciones correctivas en proceso, relacionar el avance. Si tienes acciones específicas a desarrollar en la columna AJ, también relacionar el avance)
H19: 2. Entrega / publicación inoportuna de productos comunicación interna | O19: 2 | P19: La asesora de Comicaciones realiza una análisis de la solicitud de producto de comunicación interna para identificar con base en la información suministrada, si es posible cumplir los tiempos requeridos por el area solicitante. Posterior al análisis se llegan a acuerdos sobre los tiempos de respuesta con las areas solicitantes. | Q19: =IF(OR(R19="Preventivo",R19="Detectivo"),"Probabilidad",IF(R19="Correctivo","Impacto","")) -> Probabilidad | R19: Preventivo | S19: Manual | T19: =IF(AND(R19="Preventivo",S19="Automático"),"50%",IF(AND(R19="Preventivo",S19="Manual"),"40%",IF(AND(R19="Detectivo",S19="Automático"),"40%",IF(AND(R19="Detectivo",S19="Manual"),"30%",IF(AND(R19="Correctivo",S19="Automático"),"35%",IF(AND(R19="Correctivo",S19="Manual"),"25%","")))))) -> 40% | U19: Sin Documentar | V19: Continua | W19: Con Registro | X19: Correos con respuesta frente al análisis de la solicitud. | Y19: =IFERROR(IF(AND(Q18="Probabilidad",Q19="Probabilidad"),(AA18-(+AA18*T19)),IF(Q19="Probabilidad",(K18-(+K18*T19)),IF(Q19="Impacto",AA18,""))),"") -> 0.216 | Z19: =IFERROR(IF(Y19="","",IF(Y19<=0.2,"Muy Baja",IF(Y19<=0.4,"Baja",IF(Y19<=0.6,"Media",IF(Y19<=0.8,"Alta","Muy Alta"))))),"") -> Baja | AA19: =+Y19 -> 0.216 | AB19: =IFERROR(IF(AC19="","",IF(AC19<=0.2,"Leve",IF(AC19<=0.4,"Menor",IF(AC19<=0.6,"Moderado",IF(AC19<=0.8,"Mayor","Catastrófico"))))),"") -> Moderado | AC19: =IFERROR(IF(AND(Q18="Impacto",Q19="Impacto"),(AC18-(+AC18*T19)),IF(Q19="Impacto",(#REF!-(+#REF!*T19)),IF(Q19="Probabilidad",AC18,""))),"") -> 0.6
H20: 3. Información insuficiente o poco clara por parte de las areas solicitantes para la creación de piezas. | O20: 3 | P20: El profesional asignado concerta espacios colaborativos con las areas solicitantes para entender las necesidades a comunicar y asesora sobre las características de los productos comunicacionales mas adecuados a elaborar acordes dichas necesidades. | Q20: =IF(OR(R20="Preventivo",R20="Detectivo"),"Probabilidad",IF(R20="Correctivo","Impacto","")) -> Probabilidad | R20: Preventivo | S20: Manual | T20: =IF(AND(R20="Preventivo",S20="Automático"),"50%",IF(AND(R20="Preventivo",S20="Manual"),"40%",IF(AND(R20="Detectivo",S20="Automático"),"40%",IF(AND(R20="Detectivo",S20="Manual"),"30%",IF(AND(R20="Correctivo",S20="Automático"),"35%",IF(AND(R20="Correctivo",S20="Manual"),"25%","")))))) -> 40% | U20: Sin Documentar | V20: Continua | W20: Con Registro | X20: Correos electrónicos con concertación de contenidos y productos comunicacionales a elaborar. | Y20: =IFERROR(IF(AND(Q19="Probabilidad",Q20="Probabilidad"),(AA19-(+AA19*T20)),IF(Q20="Probabilidad",(K19-(+K19*T20)),IF(Q20="Impacto",AA19,""))),"") -> 0.1296 | Z20: =IFERROR(IF(Y20="","",IF(Y20<=0.2,"Muy Baja",IF(Y20<=0.4,"Baja",IF(Y20<=0.6,"Media",IF(Y20<=0.8,"Alta","Muy Alta"))))),"") -> Muy Baja | AA20: =+Y20 -> 0.1296 | AB20: =IFERROR(IF(AC20="","",IF(AC20<=0.2,"Leve",IF(AC20<=0.4,"Menor",IF(AC20<=0.6,"Moderado",IF(AC20<=0.8,"Mayor","Catastrófico"))))),"") -> Moderado | AC20: =IFERROR(IF(AND(Q19="Impacto",Q20="Impacto"),(AC19-(+AC19*T20)),IF(Q20="Impacto",(#REF!-(+#REF!*T20)),IF(Q20="Probabilidad",AC19,""))),"") -> 0.6
A21: GC7 | B21: Lograr un nivel de cumplimiento del Indice de Tranparencia y Anticorrupción - ITA en cuanto a aspectos de usabilidad técnica de la pagina web >= 80 puntos, en cada vigencia. | C21: Pagina Web | D21: Posibilidad de afectación reputacional del Instituto | E21: por Inhabilidad temporal o permanente de la pagina web institucional. | F21: debido a deficiencias en la gestión de la pagina web de la entidad (diseño, usabilidad, accesibilidad y publicación oportuna de contenidos) | G21: Posibilidad de afectación reputacional del Instituto por inhabilidad temporal o permanente de la pagina web institucional, debido a deficiencias en la gestión de la pagina web de la entidad (diseño, usabilidad, accesibilidad y publicación oportuna de contenidos) | H21: 1. perdida del dominio y hosting de la pagina web. | I21: Gestión | J21: Alta | K21: =IF(J21="","",IF(J21="Muy Baja",0.2,IF(J21="Baja",0.4,IF(J21="Media",0.6,IF(J21="Alta",0.8,IF(J21="Muy Alta",1,)))))) -> 0.8 | L21: Moderado | M21: =IF(L21="","",IF(L21="Leve",0.2,IF(L21="Menor",0.4,IF(L21="Moderado",0.6,IF(L21="Mayor",0.8,IF(L21="Catastrófico",1,)))))) -> 0.6 | N21: =IF(OR(AND(J21="Muy Baja",L21="Leve"),AND(J21="Muy Baja",L21="Menor"),AND(J21="Baja",L21="Leve")),"Bajo",IF(OR(AND(J21="Muy baja",L21="Moderado"),AND(J21="Baja",L21="Menor"),AND(J21="Baja",L21="Moderado"),AND(J21="Media",L21="Leve"),AND(J21="Media",L21="Menor"),AND(J21="Media",L21="Moderado"),AND(J21="Alta",L21="Leve"),AND(J21="Alta",L21="Menor")),"Moderado",IF(OR(AND(J21="Muy Baja",L21="Mayor"),AND(J21="Baja",L21="Mayor"),AND(J21="Media",L21="Mayor"),AND(J21="Alta",L21="Moderado"),AND(J21="Alta",L21="Mayor"),AND(J21="Muy Alta",L21="Leve"),AND(J21="Muy Alta",L21="Menor"),AND(J21="Muy Alta",L21="Moderado"),AND(J21="Muy Alta",L21="Mayor")),"Alto",IF(OR(AND(J21="Muy Baja",L21="Catastrófico"),AND(J21="Baja",L21="Catastrófico"),AND(J21="Media",L21="Catastrófico"),AND(J21="Alta",L21="Catastrófico"),AND(J21="Muy Alta",L21="Catastrófico")),"Extremo","")))) -> Alto | O21: 1 | P21: El asesor de comunicaciones y el contratista que asume el rol de webmaster, monitorean de manera mensual los aspectos técnicos de la página web (precisar aspectos técnicos de monitoreo de hosting con Jenny). Asi mismo, desde el componente contractual se ha establecido la obligación para el Operador de la Pagina Web, de contratar el servicio de hosting. | Q21: =IF(OR(R21="Preventivo",R21="Detectivo"),"Probabilidad",IF(R21="Correctivo","Impacto","")) -> Probabilidad | R21: Preventivo | S21: Manual | T21: =IF(AND(R21="Preventivo",S21="Automático"),"50%",IF(AND(R21="Preventivo",S21="Manual"),"40%",IF(AND(R21="Detectivo",S21="Automático"),"40%",IF(AND(R21="Detectivo",S21="Manual"),"30%",IF(AND(R21="Correctivo",S21="Automático"),"35%",IF(AND(R21="Correctivo",S21="Manual"),"25%","")))))) -> 40% | U21: Sin Documentar | V21: Continua | W21: Con Registro | X21: Informe de actividades de conratista Web Master Orden de pedido para Operador Web de los servicios de hosting. | Y21: =IFERROR(IF(Q21="Probabilidad",(K21-(+K21*T21)),IF(Q21="Impacto",K21,"")),"") -> 0.48 | Z21: =IFERROR(IF(Y21="","",IF(Y21<=0.2,"Muy Baja",IF(Y21<=0.4,"Baja",IF(Y21<=0.6,"Media",IF(Y21<=0.8,"Alta","Muy Alta"))))),"") -> Media | AA21: =+Y21 -> 0.48 | AB21: =IFERROR(IF(AC21="","",IF(AC21<=0.2,"Leve",IF(AC21<=0.4,"Menor",IF(AC21<=0.6,"Moderado",IF(AC21<=0.8,"Mayor","Catastrófico"))))),"") -> Moderado | AC21: =IFERROR(IF(Q21="Impacto",(M21-(+M21*T21)),IF(Q21="Probabilidad",M21,"")),"") -> 0.6 | AD21: =IFERROR(IF(AE21=0,"",IF(AND(AE21>0,AE21<=0.2),"Muy Baja",IF(AE21<=0.4,"Baja",IF(AE21<=0.6,"Media",IF(AE21<=0.8,"Alta","Muy Alta"))))),"") -> Muy Baja | AE21: =MIN(Y21:Y23) -> 0.1728 | AF21: =IFERROR(IF(AG21=0,"",IF(AND(AG21>0,AG21<=0.2),"Leve",IF(AG21<=0.4,"Menor",IF(AG21<=0.6,"Moderado",IF(AG21<=0.8,"Mayor","Catastrófico"))))),"") -> Moderado | AG21: =MIN(AC21:AC23) -> 0.6 | AH21: =IFERROR(IF(OR(AND(AD21="Muy Baja",AF21="Leve"),AND(AD21="Muy Baja",AF21="Menor"),AND(AD21="Baja",AF21="Leve")),"Bajo",IF(OR(AND(AD21="Muy Baja",AF21="Moderado"),AND(AD21="Baja",AF21="Menor"),AND(AD21="Baja",AF21="Moderado"),AND(AD21="Media",AF21="Leve"),AND(AD21="Media",AF21="Menor"),AND(AD21="Media",AF21="Moderado"),AND(AD21="Alta",AF21="Leve"),AND(AD21="Alta",AF21="Menor")),"Moderado",IF(OR(AND(AD21="Muy Baja",AF21="Mayor"),AND(AD21="Baja",AF21="Mayor"),AND(AD21="Media",AF21="Mayor"),AND(AD21="Alta",AF21="Moderado"),AND(AD21="Alta",AF21="Mayor"),AND(AD21="Muy Alta",AF21="Leve"),AND(AD21="Muy Alta",AF21="Menor"),AND(AD21="Muy Alta",AF21="Moderado"),AND(AD21="Muy Alta",AF21="Mayor")),"Alto",IF(OR(AND(AD21="Muy Baja",AF21="Catastrófico"),AND(AD21="Baja",AF21="Catastrófico"),AND(AD21="Media",AF21="Catastrófico"),AND(AD21="Alta",AF21="Catastrófico"),AND(AD21="Muy Alta",AF21="Catastrófico")),"Extremo","")))),"") -> Moderado | AI21: Reducir (mitigar) | AK21: Identificación de Riesgos: Durante el primer trimestre de 2026 se ha generado y difundido información sobre las actividades del Instituto. También se han compartido contenidos de interés tanto internos como externos. Estas acciones mantienen controlada la exposición al evento potencial principal y a los eventos potenciales intermedios, aunque ambos siguen vigentes. Materialización de Evento Potencial Principal: En el primer trimestre de 2026 no se ha presentado la materialización del riesgo principal. Materialización de Evento Potencial Intermedio: Durante este periodo no se han evidenciado eventos intermedios. Las dependencias han entregado información de forma oportuna y se ha registrado participación en las actividades difundidas a través de los canales internos. La encuesta de satisfacción de comunicación interna muestra que los colaboradores perciben coherencia entre la estrategia de comunicaciones y la misionalidad del Instituto. Diseño, Efectividad de Controles: El área de comunicaciones mantiene un manejo organizado en la atención de necesidades internas. Cada solicitud se gestiona con una identificación clara de productos y campañas. Esto permite definir tiempos de entrega y canales de divulgación adecuados, asegurando respuestas oportunas. Estado de acciones derivadas del seguimiento a riesgos: Para este periodo no se requieren acciones adicionales. No se han presentado situaciones que demanden medidas específicas, ya que los controles implementados han sido suficientes. | AL21: Controles: https://isvimedgovco.sharepoint.com/:f:/s/2Comunicaciones/Ek_QbFk-cFhFste4mGyiKPsBpcddZqsrrFm8T85C9CuR9w?e=cUPRhq | AM21: Identificación de Riesgos: Durante el segundo trimestre de 2026 se generó y difundió información sobre las actividades del Instituto. Materialización de Evento Potencial Principal: No se presentó la materialización del riesgo principal. La página web institucional se mantuvo disponible y la publicación de contenidos fue oportuna.Se está revisando la renovación de la página con un proveedor externo (uno cero uno) que cuenta con la experticia necesaria y suficiente para proteger la información y continuar dando cumplimiento a normativas como ITA. Materialización de Evento Potencial Intermedio: Durante este periodo no se evidenciaron eventos intermedios. Las dependencias entregaron información de forma oportuna y se registró participación en las actividades difundidas a través de los canales internos. Diseño y Efectividad de Controles: El área de comunicaciones mantuvo un manejo organizado en la atención de necesidades internas. Cada solicitud se gestionó con una identificación clara de productos y campañas, lo que permitió definir tiempos de entrega y canales de divulgación adecuados, asegurando respuestas oportunas. Estado de acciones derivadas del seguimiento a riesgos: Para este periodo no se requieren acciones adicionales. No se presentaron situaciones que demandaran medidas específicas, ya que los controles implementados fueron suficientes. | AN21: Controles: https://isvimedgovco.sharepoint.com/:f:/s/2Comunicaciones/Ek_QbFk-cFhFste4mGyiKPsBpcddZqsrrFm8T85C9CuR9w?e=cUPRhq | AO21: Se materializó el Riesgo? (Ver evento potencial principal en Columna F. Relacionar detalles de la materialización - que, como, cuando, donde): Los Controles están bien diseñados, se aplican de acuerdo al diseño y son efectivos? (Ver controles en la columna P / Concluir frente a cada control) Que acciones propones o se están llevando a cabo para gestionar el riesgo que se materializó? (Si no aplica colocar N/A) Que acciones propones o se están llevando a cabo para fortalecer los controles? (En el caso de que tener Acciones de mejora / Acciones correctivas en proceso, relacionar el avance. Si tienes acciones específicas a desarrollar en la columna AJ, también relacionar el avance) | AQ21: Se materializó el Riesgo? (Ver evento potencial principal en Columna F. Relacionar detalles de la materialización - que, como, cuando, donde): Los Controles están bien diseñados, se aplican de acuerdo al diseño y son efectivos? (Ver controles en la columna P / Concluir frente a cada control) Que acciones propones o se están llevando a cabo para gestionar el riesgo que se materializó? (Si no aplica colocar N/A) Que acciones propones o se están llevando a cabo para fortalecer los controles? (En el caso de que tener Acciones de mejora / Acciones correctivas en proceso, relacionar el avance. Si tienes acciones específicas a desarrollar en la columna AJ, también relacionar el avance)
H22: 2. Publicación inoportuna de contenidos e información solicitada por las dependencias. | O22: 2 | P22: El profesional WebMaster del Isvimed atiende directamente las necesidades de actualización de contenidos de la página web solicitadas de manera permanente por las dependencias. De manera mensual un reporte de Publicación de contenidos en la pagina Web. | Q22: =IF(OR(R22="Preventivo",R22="Detectivo"),"Probabilidad",IF(R22="Correctivo","Impacto","")) -> Probabilidad | R22: Preventivo | S22: Manual | T22: =IF(AND(R22="Preventivo",S22="Automático"),"50%",IF(AND(R22="Preventivo",S22="Manual"),"40%",IF(AND(R22="Detectivo",S22="Automático"),"40%",IF(AND(R22="Detectivo",S22="Manual"),"30%",IF(AND(R22="Correctivo",S22="Automático"),"35%",IF(AND(R22="Correctivo",S22="Manual"),"25%","")))))) -> 40% | U22: Sin Documentar | V22: Continua | W22: Con Registro | X22: Solicitud de publicación de contenidos por parte de las areas través de correo electrónico Reporte de Publicación de contenidos en la pagina Web. | Y22: =IFERROR(IF(AND(Q21="Probabilidad",Q22="Probabilidad"),(AA21-(+AA21*T22)),IF(Q22="Probabilidad",(K21-(+K21*T22)),IF(Q22="Impacto",AA21,""))),"") -> 0.288 | Z22: =IFERROR(IF(Y22="","",IF(Y22<=0.2,"Muy Baja",IF(Y22<=0.4,"Baja",IF(Y22<=0.6,"Media",IF(Y22<=0.8,"Alta","Muy Alta"))))),"") -> Baja | AA22: =+Y22 -> 0.288 | AB22: =IFERROR(IF(AC22="","",IF(AC22<=0.2,"Leve",IF(AC22<=0.4,"Menor",IF(AC22<=0.6,"Moderado",IF(AC22<=0.8,"Mayor","Catastrófico"))))),"") -> Moderado | AC22: =IFERROR(IF(AND(Q21="Impacto",Q22="Impacto"),(AC21-(+AC21*T22)),IF(Q22="Impacto",(#REF!-(+#REF!*T22)),IF(Q22="Probabilidad",AC21,""))),"") -> 0.6
H23: 3. Incumplimiento de la normatividad que regula el contenido, diseño y funcionalidades de las paginas web en entidades publicas | O23: 3 | P23: El profesional Webmaster identifica la normatiivdad aplica normatividad que regula el contenido, diseño y funcionalidades de las paginas web establecida por el Ministerio de Tecnologías y la información y valida a través del ITA su cumplimiento. | Q23: =IF(OR(R23="Preventivo",R23="Detectivo"),"Probabilidad",IF(R23="Correctivo","Impacto","")) -> Probabilidad | R23: Preventivo | S23: Manual | T23: =IF(AND(R23="Preventivo",S23="Automático"),"50%",IF(AND(R23="Preventivo",S23="Manual"),"40%",IF(AND(R23="Detectivo",S23="Automático"),"40%",IF(AND(R23="Detectivo",S23="Manual"),"30%",IF(AND(R23="Correctivo",S23="Automático"),"35%",IF(AND(R23="Correctivo",S23="Manual"),"25%","")))))) -> 40% | U23: Sin Documentar | V23: Aleatoria | W23: Con Registro | X23: Matriz ITA en relación al cumplimiento diseño y funcionalidad de la página web. Reporte de autevaluación y evaluación en el aplicativo ITA de la Procuraduría General de la Nación. | Y23: =IFERROR(IF(AND(Q22="Probabilidad",Q23="Probabilidad"),(AA22-(+AA22*T23)),IF(Q23="Probabilidad",(K22-(+K22*T23)),IF(Q23="Impacto",AA22,""))),"") -> 0.1728 | Z23: =IFERROR(IF(Y23="","",IF(Y23<=0.2,"Muy Baja",IF(Y23<=0.4,"Baja",IF(Y23<=0.6,"Media",IF(Y23<=0.8,"Alta","Muy Alta"))))),"") -> Muy Baja | AA23: =+Y23 -> 0.1728 | AB23: =IFERROR(IF(AC23="","",IF(AC23<=0.2,"Leve",IF(AC23<=0.4,"Menor",IF(AC23<=0.6,"Moderado",IF(AC23<=0.8,"Mayor","Catastrófico"))))),"") -> Moderado | AC23: =IFERROR(IF(AND(Q22="Impacto",Q23="Impacto"),(AC22-(+AC22*T23)),IF(Q23="Impacto",(#REF!-(+#REF!*T23)),IF(Q23="Probabilidad",AC22,""))),"") -> 0.6
A24: GC8 | B24: Lograr el 90% del cumplimiento de los eventos solicitados por las areas del Instituto. | C24: Gestión Logística y Eventos | D24: Posibilidad de afectación reputacional del Instituto | E24: por la existencia de menciones negativas de los eventos realizados en el monitoreo de medios de comunicación | F24: debido a que el evento no se realice de acuerdo a las necesidades de las areas socicitantes en cuanto a concordancia con Plan de Desarrollo, viabilidad logística, de recursos y fechas proyectadas. | G24: Posibilidad de afectación reputacional del Instituto reflejada en la existencia de menciones negativas de los eventos realizados en el monitoreo de medios de comunicación, debido a que el evento no se realice de acuerdo a las necesidades de las areas socicitantes en cuanto a concordancia con Plan de Desarrollo, viabilidad logística, de recursos y fechas proyectadas. | H24: 1. Que no sean suficientes los recursos proyectados para la gestión de eventos estratégicos | I24: Gestión | J24: Baja | K24: =IF(J24="","",IF(J24="Muy Baja",0.2,IF(J24="Baja",0.4,IF(J24="Media",0.6,IF(J24="Alta",0.8,IF(J24="Muy Alta",1,)))))) -> 0.4 | L24: Mayor | M24: =IF(L24="","",IF(L24="Leve",0.2,IF(L24="Menor",0.4,IF(L24="Moderado",0.6,IF(L24="Mayor",0.8,IF(L24="Catastrófico",1,)))))) -> 0.8 | N24: =IF(OR(AND(J24="Muy Baja",L24="Leve"),AND(J24="Muy Baja",L24="Menor"),AND(J24="Baja",L24="Leve")),"Bajo",IF(OR(AND(J24="Muy baja",L24="Moderado"),AND(J24="Baja",L24="Menor"),AND(J24="Baja",L24="Moderado"),AND(J24="Media",L24="Leve"),AND(J24="Media",L24="Menor"),AND(J24="Media",L24="Moderado"),AND(J24="Alta",L24="Leve"),AND(J24="Alta",L24="Menor")),"Moderado",IF(OR(AND(J24="Muy Baja",L24="Mayor"),AND(J24="Baja",L24="Mayor"),AND(J24="Media",L24="Mayor"),AND(J24="Alta",L24="Moderado"),AND(J24="Alta",L24="Mayor"),AND(J24="Muy Alta",L24="Leve"),AND(J24="Muy Alta",L24="Menor"),AND(J24="Muy Alta",L24="Moderado"),AND(J24="Muy Alta",L24="Mayor")),"Alto",IF(OR(AND(J24="Muy Baja",L24="Catastrófico"),AND(J24="Baja",L24="Catastrófico"),AND(J24="Media",L24="Catastrófico"),AND(J24="Alta",L24="Catastrófico"),AND(J24="Muy Alta",L24="Catastrófico")),"Extremo","")))) -> Alto | O24: 1 | P24: El asesor de comunicaciones establece los lineamientos para una adecuada planificación presupuestal de eventos que incluye la recopilación de necesidades de las dependencias. El asesor de comunicaciones realiza seguimiento periódico a la ejecución presupuestal de los eventos. | Q24: =IF(OR(R24="Preventivo",R24="Detectivo"),"Probabilidad",IF(R24="Correctivo","Impacto","")) -> Probabilidad | R24: Preventivo | S24: Manual | T24: =IF(AND(R24="Preventivo",S24="Automático"),"50%",IF(AND(R24="Preventivo",S24="Manual"),"40%",IF(AND(R24="Detectivo",S24="Automático"),"40%",IF(AND(R24="Detectivo",S24="Manual"),"30%",IF(AND(R24="Correctivo",S24="Automático"),"35%",IF(AND(R24="Correctivo",S24="Manual"),"25%","")))))) -> 40% | U24: Documentado | V24: Continua | W24: Con Registro | X24: Presupuesto asignado a comunicaciones. Informe de supervisión del contrato logístico con el operador de eventos | Y24: =IFERROR(IF(Q24="Probabilidad",(K24-(+K24*T24)),IF(Q24="Impacto",K24,"")),"") -> 0.24 | Z24: =IFERROR(IF(Y24="","",IF(Y24<=0.2,"Muy Baja",IF(Y24<=0.4,"Baja",IF(Y24<=0.6,"Media",IF(Y24<=0.8,"Alta","Muy Alta"))))),"") -> Baja | AA24: =+Y24 -> 0.24 | AB24: =IFERROR(IF(AC24="","",IF(AC24<=0.2,"Leve",IF(AC24<=0.4,"Menor",IF(AC24<=0.6,"Moderado",IF(AC24<=0.8,"Mayor","Catastrófico"))))),"") -> Mayor | AC24: =IFERROR(IF(Q24="Impacto",(M24-(+M24*T24)),IF(Q24="Probabilidad",M24,"")),"") -> 0.8 | AD24: =IFERROR(IF(AE24=0,"",IF(AND(AE24>0,AE24<=0.2),"Muy Baja",IF(AE24<=0.4,"Baja",IF(AE24<=0.6,"Media",IF(AE24<=0.8,"Alta","Muy Alta"))))),"") -> Muy Baja | AE24: =MIN(Y24:Y28) -> 0.06048 | AF24: =IFERROR(IF(AG24=0,"",IF(AND(AG24>0,AG24<=0.2),"Leve",IF(AG24<=0.4,"Menor",IF(AG24<=0.6,"Moderado",IF(AG24<=0.8,"Mayor","Catastrófico"))))),"") -> Moderado | AG24: =MIN(AC24:AC28) -> 0.6 | AH24: =IFERROR(IF(OR(AND(AD24="Muy Baja",AF24="Leve"),AND(AD24="Muy Baja",AF24="Menor"),AND(AD24="Baja",AF24="Leve")),"Bajo",IF(OR(AND(AD24="Muy Baja",AF24="Moderado"),AND(AD24="Baja",AF24="Menor"),AND(AD24="Baja",AF24="Moderado"),AND(AD24="Media",AF24="Leve"),AND(AD24="Media",AF24="Menor"),AND(AD24="Media",AF24="Moderado"),AND(AD24="Alta",AF24="Leve"),AND(AD24="Alta",AF24="Menor")),"Moderado",IF(OR(AND(AD24="Muy Baja",AF24="Mayor"),AND(AD24="Baja",AF24="Mayor"),AND(AD24="Media",AF24="Mayor"),AND(AD24="Alta",AF24="Moderado"),AND(AD24="Alta",AF24="Mayor"),AND(AD24="Muy Alta",AF24="Leve"),AND(AD24="Muy Alta",AF24="Menor"),AND(AD24="Muy Alta",AF24="Moderado"),AND(AD24="Muy Alta",AF24="Mayor")),"Alto",IF(OR(AND(AD24="Muy Baja",AF24="Catastrófico"),AND(AD24="Baja",AF24="Catastrófico"),AND(AD24="Media",AF24="Catastrófico"),AND(AD24="Alta",AF24="Catastrófico"),AND(AD24="Muy Alta",AF24="Catastrófico")),"Extremo","")))),"") -> Moderado | AI24: Reducir (mitigar) | AK24: Identificación de riesgos: Durante el primer trimestre de 2026 el evento potencial se mantiene vigente. Se ha implementado control previo en cada evento para asegurar el cumplimiento de los requerimientos logísticos según cada necesidad. Materialización del evento potencial: En este periodo no se ha presentado la materialización del evento potencial. Se han revisado las proyecciones de las órdenes de pedido de las diferentes áreas que organizan eventos. También se han evaluado las cotizaciones y se han realizado reuniones mensuales con el operador logístico para revisar, ajustar y alinear las necesidades de cada actividad. Materialización evento potencial intermedio: Se ha dado cumplimiento a los requerimientos de las subdirecciones para la ejecución de ferias, actividades y preasambleas. Se ha hecho seguimiento financiero a las órdenes de pedido y se han realizado los desembolsos correspondientes al operador logístico para la correcta administración de los recursos. Diseño, Efectividad de controles: Los controles se han aplicado de forma adecuada durante el trimestre. Se ha realizado una proyección presupuestal alineada con criterios de austeridad en cada evento, priorizando las cotizaciones más favorables. Las solicitudes de las dependencias se han revisado en detalle antes de su envío al proveedor. Se ha verificado la entrega de servicios mediante listas de chequeo y validación de informes del operador. Se ha elaborado un informe mensual de ejecución que se remite al área de contabilidad para seguimiento. Estado de acciones derivadas del seguimiento a riesgos: Se ha realizado el informe mensual de supervisión, en el cual se consolidan las ejecuciones de cada orden de pedido, los desembolsos y los pagos realizados. Este informe se envía en los primeros días de cada mes al área de contabilidad, lo que permite mantener control y seguimiento financiero durante la ejecución. | AL24: https://isvimedgovco.sharepoint.com/:f:/s/2Comunicaciones/IgC2oj39S5tYTKFp-Fvrq_VSAfRNHYwN7sBcsxyBhcXMJ2M?e=45ohjp | AM24: Identificación de riesgos: Durante el segundo trimestre de 2026 el evento potencial se mantiene vigente. Se implementó control previo en cada evento para asegurar el cumplimiento de los requerimientos logísticos según cada necesidad. Materialización del evento potencial: En este periodo no se presentó la materialización del evento potencial. Se revisaron las proyecciones de las órdenes de pedido de las diferentes áreas que organizan eventos. También se evaluaron las cotizaciones y se realizaron reuniones mensuales con el operador logístico para revisar, ajustar y alinear las necesidades de cada actividad. Materialización evento potencial intermedio: Se dio cumplimiento a los requerimientos de las subdirecciones para la ejecución de ferias, actividades y preasambleas. Se hizo seguimiento financiero a las órdenes de pedido y se realizaron los desembolsos correspondientes al operador logístico para la correcta administración de los recursos. Diseño, Efectividad de controles: Los controles se aplicaron de forma adecuada durante el trimestre. Se realizó una proyección presupuestal alineada con criterios de austeridad en cada evento, priorizando las cotizaciones más favorables. Las solicitudes de las dependencias se revisaron en detalle antes de su envío al proveedor. Se verificó la entrega de servicios mediante listas de chequeo y validación de informes del operador. Se elaboró un informe mensual de ejecución que se remitió al área de contabilidad para seguimiento. Estado de acciones derivadas del seguimiento a riesgos: Se realizó el informe mensual de supervisión, en el cual se consolidan las ejecuciones de cada orden de pedido, los desembolsos y los pagos realizados. Este informe se envía en los primeros días de cada mes al área de contabilidad, lo que permite mantener control y seguimiento financiero durante la ejecución. Se recibió una solicitud de Contraloría por temas de Auditoría y se compartió la información solicitada de manera transparente y organizada. | AN24: https://isvimedgovco.sharepoint.com/:f:/s/2Comunicaciones/IgC2oj39S5tYTKFp-Fvrq_VSAfRNHYwN7sBcsxyBhcXMJ2M?e=45ohjp | AO24: Se materializó el Riesgo? (Ver evento potencial principal en Columna F. Relacionar detalles de la materialización - que, como, cuando, donde): Los Controles están bien diseñados, se aplican de acuerdo al diseño y son efectivos? (Ver controles en la columna P / Concluir frente a cada control) Que acciones propones o se están llevando a cabo para gestionar el riesgo que se materializó? (Si no aplica colocar N/A) Que acciones propones o se están llevando a cabo para fortalecer los controles? (En el caso de que tener Acciones de mejora / Acciones correctivas en proceso, relacionar el avance. Si tienes acciones específicas a desarrollar en la columna AJ, también relacionar el avance) | AQ24: Se materializó el Riesgo? (Ver evento potencial principal en Columna F. Relacionar detalles de la materialización - que, como, cuando, donde): Los Controles están bien diseñados, se aplican de acuerdo al diseño y son efectivos? (Ver controles en la columna P / Concluir frente a cada control) Que acciones propones o se están llevando a cabo para gestionar el riesgo que se materializó? (Si no aplica colocar N/A) Que acciones propones o se están llevando a cabo para fortalecer los controles? (En el caso de que tener Acciones de mejora / Acciones correctivas en proceso, relacionar el avance. Si tienes acciones específicas a desarrollar en la columna AJ, también relacionar el avance)
